{"text_format":"1","workbook":"xlsx","n_sheets":3,"sheets":["Cover Sheet","Rv and Adjusted CN","Sheet1"],"not_rendered":{"charts":0,"images":3,"macros":1,"external_links":0,"defined_names":4,"comments":0,"pivot_tables":0},"unopened":[],"bounds":{"document_bytes":16777216,"sheet_cells":100000,"rows_first":2000,"rows_last":500,"rows_between":2000,"halvings":0,"cell_chars":16384,"cell_head_chars":4096},"cells_cut":0,"cells_raw":0,"read":"whole","date_system":"1900"}

{"sheet":"Cover Sheet","index":0,"n_rows":39,"n_cols":15,"rows_kept":39,"cut":false,"hidden":false,"merged":[[4,2,4,5],[22,0,35,0],[9,8,12,8],[13,9,16,9],[17,9,20,9],[13,8,33,8],[21,9,24,9],[25,9,26,9],[27,9,28,9],[29,9,30,9],[35,8,35,14],[9,0,21,0],[9,1,21,1],[36,8,37,14],[38,8,39,14],[0,8,0,15],[22,1,23,1],[24,1,31,1],[9,9,12,9],[32,1,35,1],[0,0,0,1],[2,0,2,1],[2,2,2,5],[1,0,1,1],[4,0,4,1],[0,2,0,5],[1,2,1,5],[3,0,3,1],[3,2,3,5]]}
[null,null,null,null,null,null,null,null,"MWS LID SITE DESIGN TOOL VERSION 11 - July 12, 2021"]
[]
[]
[]
[]
[]
[]
[null,null,null,"Lookup Table",null,null,null,null,null,null,null,"Lookup Table"]
[null,"Basic Land Use Category","Land Use","Code","R Credit","Rv ","CN",null,null,"GI Practice","Level","Code","R Credit","Rv","Tv Multiplier"]
["Step 1   Basic Land Use","Basic Land Use","Impervious Surface","IA",{"$f":"1-F10","v":5.0000000000000044E-2},0.95,98,null,"Step 2     Intrinsic GIPs","Sheet Flow","Cons Area A/B","SAB",0.75,{"$f":"1-M10","v":0.25},0]
[null,null,"Forest A Soil","FA",0.98,0.02,36,null,null,null,"Cons Area C/D","SCD",0.5,0.5,0]
[null,null,"Forest B Soil","FB",0.97,0.03,60,null,null,null,"Strip A","SA",0.5,0.5,0]
[null,null,"Forest C Soil","FC",0.96,0.04,73,null,null,null,"Strip Amended","SAS",0.5,0.5,0]
[null,null,"Forest D Soil","FD",0.95,0.05,79,null,"Step 3 & 3a Structural GIPs","Permeable Pavement\n(see Notes below)",1,"P1",0.45,{"$f":"1-M14","v":0.55000000000000004},1]
[null,null,"Turf A Soil","TA",0.85,0.15,49,null,null,null,"1 (P1 Land Use)","PP1",0,1,1]
[null,null,"Turf B Soil","TB",0.82000000000000006,0.18,69,null,null,null,"2*","P2",0.8,0.19999999999999996,1.25]
[null,null,"Turf C Soil","TC",0.8,0.2,79,null,null,null,"2 (P2 Land Use)","PP2",0,1,1.25]
[null,null,"Turf D Soil","TD",{"$f":"1-F18","v":0.77},0.23,84,null,null,"Green Roof\n(see Notes below)","1 (G1 Land Use)","GR1",0,1,1]
[null,null,"Gravel A Soil","GRA",0.4,0.6,76,null,null,null,"2 (G2 Land Use)","GR2",0,1,1.1000000000000001]
[null,null,"Gravel B Soil","GRB",0.4,0.6,85,null,null,null,"3 (G3 Land Use)","GR3",0,1,1.25]
[null,null,"Gravel C Soil","GRC",0.4,0.6,89,null,null,null,"4 (G4 Land Use)","GR4",0,1,1.25]
[null,null,"Gravel D Soil","GRD",0.4,0.6,91,null,null,"Grass Channel","A/B Soil","GAB",0.2,{"$f":"1-M22","v":0.8},0]
["Step 1a Modified Land Use","Permeable \nPavement","Level 1","P1",0.4,{"$f":"1-E23","v":0.6},98,null,null,null,"C/D Soil","GCD",0.1,0.9,0]
[null,null,"Level 2","P2",0.8,{"$f":"1-E24","v":0.19999999999999996},98,null,null,null,"A/B Amended","GAA",0.3,0.7,0]
[null,"Reforestation","A","RA",0.96,{"$f":"1-E25","v":4.0000000000000036E-2},45,null,null,null,"C/D amended","GCA",0.2,0.8,0]
[null,null,"B","RB",0.94,6.0000000000000053E-2,66,null,null,"Bioretention",1,"B1",0.6,{"$f":"1-M26","v":0.4},1.1000000000000001]
[null,null,"C","RC",0.92,7.999999999999996E-2,77,null,null,null,2,"B2",0.8,0.19999999999999996,1.25]
[null,null,"D","RD",0.9,9.9999999999999978E-2,83,null,null,"Water Quality Swales",1,"S1",0.4,0.6,1]
[null,null,"A Amended","RAA",0.98,2.0000000000000018E-2,30,null,null,null,2,"S2",0.6,0.4,1.1000000000000001]
[null,null,"B Amended","RBA",0.97,3.0000000000000027E-2,55,null,null,"Infiltration Trench",1,"I1",0.5,0.5,1]
[null,null,"C Amended","RCA",0.96,4.0000000000000036E-2,70,null,null,null,2,"I2",0.9,9.9999999999999978E-2,1.25]
[null,null,"D Amended","RDA",0.95,5.0000000000000044E-2,77,null,null,"Urban Bioretention",1,"UB",0.4,0.6,1]
[null,"Green Roof",1,"G1",0.4,0.6,86,null,null,"Ext Detention Pond","N/A","D1",0.15,0.85,1.25]
[null,null,2,"G2",0.6,0.4,86,null,null,"Cistern","N/A","CIS",{"$f":"'Rv and Adjusted CN'!$D$11/100","v":0},1,0]
[null,null,3,"G3",0.8,0.19999999999999996,86,null,"Notes:"]
[null,null,4,"G4",0.9,9.9999999999999978E-2,86,null,"1.  Choose PP1 in Structural GIP for actual area of the Level 1 Permeable Pavement, otherwise use P1 for run-on areas."]
[null,null,null,null,null,null,null,null,"2. Level 2 Permeable Pavement cannot have run-on without verfied infiltration. Cells Identified as P2 runon will be highlighted in blue."]
[]
[null,null,null,null,null,null,null,null,"3. Green Roofs cannot have run-on, therefore GR1, GR2, GR3, and GR4 can only be chosen as a Structural GIP (not in series) for Modified Land Uses of G1, G2, G3, and G4 respectively. Text will turn red if these conditions are not met."]

{"sheet":"Rv and Adjusted CN","index":1,"n_rows":222,"n_cols":50,"rows_kept":222,"cut":false,"hidden":false,"merged":[[2,0,2,3],[2,4,2,8],[219,40,221,46],[0,37,0,45],[1,0,1,3],[1,4,1,8],[1,26,1,30],[1,31,1,35],[0,0,0,3],[0,4,0,8],[0,26,0,30],[0,31,0,35],[0,10,0,17],[16,21,16,22],[6,26,6,27],[9,0,9,2],[9,4,9,5],[10,0,10,2],[251,0,251,3],[220,0,220,3],[16,5,16,7],[219,28,221,34],[14,0,15,4],[14,5,15,7],[14,8,15,10],[14,11,15,13],[218,15,220,15],[218,16,220,16],[218,21,220,21],[218,22,220,22],[16,15,16,16],[16,17,16,19],[16,43,16,49],[14,20,15,22],[15,27,15,37],[15,39,15,49],[16,0,16,4],[14,14,15,16],[14,17,15,19],[16,23,16,24],[16,27,16,30],[16,31,16,37],[16,39,16,42],[16,8,16,10],[16,11,16,13]]}
["Project Name",null,null,null,null,null,null,null,null,null,"MWS LID SITE DESIGN TOOL VERSION 11 - July 12, 2021",null,null,null,null,null,null,null,null,null,null,null,null,null,null,null,"Project Name",null,null,null,null,{"$f":"E1","v":0},null,null,null,null,null,{"$f":"K1","v":"MWS LID SITE DESIGN TOOL VERSION 11 - July 12, 2021"}]
["Parcel Identification #",null,null,null,null,null,null,null,null,null,null,null,null,null,null,null,null,null,null,null,null,null,null,null,null,null,"Parcel Identification #",null,null,null,null,{"$f":"E2","v":0}]
["Engineer"]
[]
["Combined Sewer Overlay?",null,null,null,null,null,null,null,null,null,null,null,null,null,null,null,null,null,null,null,null,null,null,null,null,null,"PreDev \nCN"]
["Pre or Post Development Worksheet?"]
["Target Runoff Reduction Requirement =",null,null,null,0.8,"See Section 7.2.1 in Metro SWMM Volume 1",null,null,null,null,null,null,null,null,null,null,null,null,null,null,null,null,null,null,null,null,"METRO RAINFALL"]
[null,null,null,null,null,null,null,null,null,null,null,null,null,null,null,null,null,null,null,null,null,null,null,null,null,null,"Return\n Period","Rainfall\n(in)"]
[null,null,null,null,null,null,null,null,null,null,null,null,null,null,null,null,null,null,null,null,null,null,null,null,null,null,"2-yr",3.39]
["Capture Depth=",null,null,1,"inch",null,null,null,null,null,null,null,null,null,null,null,null,null,null,null,null,null,null,null,null,null,"5-yr",4.5]
["Cistern Capture=",null,null,null,"% Total Vol captured",null,null,"From Cistern Design Tool",null,null,null,null,null,null,null,null,null,null,null,null,null,null,null,null,null,null,"10-yr",5.23]
[null,null,null,null,null,null,null,null,null,null,null,null,null,null,null,null,null,null,null,null,null,null,null,null,null,null,"25-yr",6.16]
[null,null,null,null,null,null,null,null,null,null,null,null,null,null,null,null,null,null,null,null,null,null,null,null,null,null,"50-yr",6.85]
["Percent Volume Reduction-Based Calculations",null,null,null,null,null,null,null,null,null,null,null,null,null,null,null,null,null,null,null,null,null,null,null,null,null,"100-yr",7.53]
["Step 1: Lay out the site and divide it into sub-areas each of a specific land use type and Rv.",null,null,null,null,"Step 1a: Change any basic land use types through reforesting, permeable pavement or green roofs - or through use of open space for a GIP.",null,null,"Step 2: Treat impervious areas through the use of sheet flow",null,null,"Step 3: Treat primarily impervious areas with structural GIPs either in series with Step 3 intrinsic GIPs or alone downstream from Steps 1 and 2 land use.",null,null," Size controls for Step 3 by assigning structure ID to each sub-area, combining sub-areas into one structure if appropriate.",null,null,"Step 3a Treatment in Series Calculation - Place Structural GIPs in same row as upstream GIP ",null,null,"Size controls for Step 3a in series by assigning a sequential structure ID to each area treated in series."]
[null,null,null,null,null,null,null,null,null,null,null,null,null,null,null,null,null,null,null,null,null,null,null,null,null,null,null,"Adjusted Curve Number Calculations (Step 3 only)",null,null,null,null,null,null,null,null,null,null,null,"Adjusted Curve Number Calculations (Step 3a added)"]
["Step1 Basic Land Use",null,null,null,null,"Step 1a Modified LU",null,null,"Step 2 Intrinsic GIPs",null,null,"Step 3 Structural GIPs",null,null,"Structure ID","IA Capture",null,"Step 3a Structural GIPs in Series",null,null,"Structure ID","IA Capture",null,"Nominal Curve Number",null,null,null,"No Controls",null,null,null,"With Structural Controls &Treatment Vol Removed",null,null,null,null,null,null,null,"No Controls",null,null,null,"With Structural Controls &Treatment Vol Removed"]
["Subarea","Description","Code","Acres","Base Rv","Code",{"$f":"D18","v":"Acres"},"Eff Rv1","Code","Trtmt VR1","Eff Rv2","Code","Trtmt VR2","Eff Rv3","Site GIP ID Number","Tv Multiplier","Tv (cf)","Code","Trtmt VR2","Eff Rv4","Site GIP ID Number","Tv Multiplier","Structure in Series Tv (cf)","Step 1","Step 1A",null,null,"Original CN","Rainfall (in)","S (in)","Q (in)","Tv required\n(cu ft)","Tv provided \n(%)","RO Vol \nRed (cu ft)","Q reduction (in)","Q adj (in)","Adjusted CN","Difference",null,"Adjusted\nCN (St 3)","Rainfall (in)","S (in)","Q (in)","Tv required\n(cu ft)","Tv provided \n(%)","RO Vol \nRed (cu ft)","Q reduction (in)","Q adj (in)","Adjusted CN","Difference"]
[1,null,null,null,{"$f":"IF($G19=0,0,VLOOKUP(C19,'Cover Sheet'!$D$10:$F$22,3,0))","v":0},null,0,{"$f":"IF($G19=0,0,VLOOKUP(F19,'Cover Sheet'!$D$10:$F$36,3,0))","v":0},null,{"$f":"IF(I19=0,0,VLOOKUP(I19,'Cover Sheet'!$L$10:$M$13,2,0))","v":0},{"$f":"IF(J19>0,H19*(1-J19),H19)","v":0},null,{"$f":"IF(L19=0,0,VLOOKUP(L19,'Cover Sheet'!$L$14:$M$34,2,0))","v":0},{"$f":"IF(M19>0,ROUNDUP(K19*(1-M19),2),K19)","v":0},null,{"$f":"IF(L19=\"\",0,VLOOKUP(L19,'Cover Sheet'!$L$14:$O$34,4,0))","v":0},{"$f":"IF(L19=\"\",\"-\",IF(OR(L19=\"PP1\",L19=\"P2\"),P19*$D$10*E19*G19/12*43560,P19*$D$10*K19*G19/12*43560))","v":"-"},null,{"$f":"IF(R19=0,0,VLOOKUP(R19,'Cover Sheet'!$L$14:$M$34,2,0))","v":0},{"$f":"IF(S19>0,N19*(1-S19),N19)","v":0},null,{"$f":"IF(R19=\"\",0,VLOOKUP(R19,'Cover Sheet'!$L$14:$O$34,4,0))","v":0},{"$f":"IF(R19=\"\",\"-\",V19*$D$10*N19*G19/12*43560)","v":"-"},{"$f":"IF(C19=0,0,VLOOKUP(C19,'Cover Sheet'!$D$10:$G$22,4,0))","v":0},{"$f":"IF(F19=0,0,VLOOKUP(F19,'Cover Sheet'!$D$10:$G$36,4,0))","v":0},null,null,{"$f":"Y19","v":0},7.53,{"$f":"IF(AB19=0,\"-\",1000/AB19-10)","v":"-"},{"$f":"IF(AB19=0,\"-\",(AC19-0.2*AD19)^2/(AC19+0.8*AD19))","v":"-"},{"$f":"Q19","v":"-"},null,{"$f":"IF(AG19=\"\",\"\",AF19*AG19)","v":""},{"$f":"IF(OR(AB19=0,L19=\"\"),0,12*AH19/43560/D19)","v":0},{"$f":"IF(AB19=0,\"-\",IF(AE19-AI19<0,0,AE19-AI19))","v":"-"},{"$f":"IF(AB19=0,0,1000/(10+5*AC19+10*AJ19-10*(AJ19^2+1.25*AJ19*AC19)^(1/2)))","v":0},{"$f":"AK19-AB19","v":0},null,{"$f":"AK19","v":0},7.53,{"$f":"IF(AN19=0,\"-\",1000/AN19-10)","v":"-"},{"$f":"IF(AN19=0,\"-\",(AO19-0.2*AP19)^2/(AO19+0.8*AP19))","v":"-"},{"$f":"W19","v":"-"},null,{"$f":"IF(AS19=\"\",\"\",AR19*AS19)","v":""},{"$f":"IF(OR(AN19=0,R19=\"\"),0,12*AT19/43560/D19)","v":0},{"$f":"IF(AN19=0,\"-\",IF(AQ19-AU19<0,0,AQ19-AU19))","v":"-"},{"$f":"IF(AN19=0,0,1000/(10+5*AO19+10*AV19-10*(AV19^2+1.25*AV19*AO19)^(1/2)))","v":0},{"$f":"AW19-AN19","v":0}]
[{"$f":"A19+1","v":2},null,null,null,{"$f":"IF($G20=0,0,VLOOKUP(C20,'Cover Sheet'!$D$10:$F$22,3,0))","v":0},null,0,{"$f":"IF($G20=0,0,VLOOKUP(F20,'Cover Sheet'!$D$10:$F$36,3,0))","v":0},null,{"$f":"IF(I20=0,0,VLOOKUP(I20,'Cover Sheet'!$L$10:$M$13,2,0))","v":0},{"$f":"IF(J20>0,H20*(1-J20),H20)","v":0},null,{"$f":"IF(L20=0,0,VLOOKUP(L20,'Cover Sheet'!$L$14:$M$34,2,0))","v":0},{"$f":"IF(M20>0,ROUNDUP(K20*(1-M20),2),K20)","v":0},null,{"$f":"IF(L20=\"\",0,VLOOKUP(L20,'Cover Sheet'!$L$14:$O$34,4,0))","v":0},{"$f":"IF(L20=\"\",\"-\",IF(OR(L20=\"PP1\",L20=\"P2\"),P20*$D$10*E20*G20/12*43560,P20*$D$10*K20*G20/12*43560))","v":"-"},null,{"$f":"IF(R20=0,0,VLOOKUP(R20,'Cover Sheet'!$L$14:$M$34,2,0))","v":0},{"$f":"IF(S20>0,N20*(1-S20),N20)","v":0},null,{"$f":"IF(R20=\"\",0,VLOOKUP(R20,'Cover Sheet'!$L$14:$O$34,4,0))","v":0},"-",{"$f":"IF(C20=0,0,VLOOKUP(C20,'Cover Sheet'!$D$10:$G$22,4,0))","v":0},{"$f":"IF(F20=0,0,VLOOKUP(F20,'Cover Sheet'!$D$10:$G$36,4,0))","v":0},null,null,{"$f":"Y20","v":0},{"$f":"$AC$19","v":7.53},"-",{"$f":"IF(AB20=0,\"-\",(AC20-0.2*AD20)^2/(AC20+0.8*AD20))","v":"-"},{"$f":"Q20","v":"-"},null,{"$f":"IF(AG20=\"\",\"\",AF20*AG20)","v":""},0,{"$f":"IF(AB20=0,\"-\",IF(AE20-AI20<0,0,AE20-AI20))","v":"-"},{"$f":"IF(AB20=0,0,1000/(10+5*AC20+10*AJ20-10*(AJ20^2+1.25*AJ20*AC20)^(1/2)))","v":0},{"$f":"AK20-AB20","v":0},null,{"$f":"AK20","v":0},{"$f":"$AC$19","v":7.53},"-","-",{"$f":"W20","v":"-"},null,{"$f":"IF(AS20=\"\",\"\",AR20*AS20)","v":""},{"$f":"IF(OR(AN20=0,R20=\"\"),0,12*AT20/43560/D20)","v":0},{"$f":"IF(AN20=0,\"-\",IF(AQ20-AU20<0,0,AQ20-AU20))","v":"-"},0,{"$f":"AW20-AN20","v":0}]
[{"$f":"A20+1","v":3},null,null,null,{"$f":"IF($G21=0,0,VLOOKUP(C21,'Cover Sheet'!$D$10:$F$22,3,0))","v":0},null,0,{"$f":"IF($G21=0,0,VLOOKUP(F21,'Cover Sheet'!$D$10:$F$36,3,0))","v":0},null,{"$f":"IF(I21=0,0,VLOOKUP(I21,'Cover Sheet'!$L$10:$M$13,2,0))","v":0},0,null,{"$f":"IF(L21=0,0,VLOOKUP(L21,'Cover Sheet'!$L$14:$M$34,2,0))","v":0},0,null,{"$f":"IF(L21=\"\",0,VLOOKUP(L21,'Cover Sheet'!$L$14:$O$34,4,0))","v":0},{"$f":"IF(L21=\"\",\"-\",IF(OR(L21=\"PP1\",L21=\"P2\"),P21*$D$10*E21*G21/12*43560,P21*$D$10*K21*G21/12*43560))","v":"-"},null,{"$f":"IF(R21=0,0,VLOOKUP(R21,'Cover Sheet'!$L$14:$M$34,2,0))","v":0},{"$f":"IF(S21>0,N21*(1-S21),N21)","v":0},null,{"$f":"IF(R21=\"\",0,VLOOKUP(R21,'Cover Sheet'!$L$14:$O$34,4,0))","v":0},"-",{"$f":"IF(C21=0,0,VLOOKUP(C21,'Cover Sheet'!$D$10:$G$22,4,0))","v":0},{"$f":"IF(F21=0,0,VLOOKUP(F21,'Cover Sheet'!$D$10:$G$36,4,0))","v":0},null,null,0,{"$f":"$AC$19","v":7.53},"-","-",{"$f":"Q21","v":"-"},null,"",0,"-",0,0,null,0,{"$f":"$AC$19","v":7.53},"-","-","-",null,"",0,"-",0,0]
[4,null,null,null,{"$f":"IF($G22=0,0,VLOOKUP(C22,'Cover Sheet'!$D$10:$F$22,3,0))","v":0},null,0,{"$f":"IF($G22=0,0,VLOOKUP(F22,'Cover Sheet'!$D$10:$F$36,3,0))","v":0},null,{"$f":"IF(I22=0,0,VLOOKUP(I22,'Cover Sheet'!$L$10:$M$13,2,0))","v":0},0,null,{"$f":"IF(L22=0,0,VLOOKUP(L22,'Cover Sheet'!$L$14:$M$34,2,0))","v":0},0,null,{"$f":"IF(L22=\"\",0,VLOOKUP(L22,'Cover Sheet'!$L$14:$O$34,4,0))","v":0},"-",null,{"$f":"IF(R22=0,0,VLOOKUP(R22,'Cover Sheet'!$L$14:$M$34,2,0))","v":0},0,null,{"$f":"IF(R22=\"\",0,VLOOKUP(R22,'Cover Sheet'!$L$14:$O$34,4,0))","v":0},"-",{"$f":"IF(C22=0,0,VLOOKUP(C22,'Cover Sheet'!$D$10:$G$22,4,0))","v":0},{"$f":"IF(F22=0,0,VLOOKUP(F22,'Cover Sheet'!$D$10:$G$36,4,0))","v":0},null,null,0,7.53,"-","-","-",null,"",0,"-",0,0,null,0,7.53,"-","-","-",null,"",0,"-",0,0]
[5,null,null,null,{"$f":"IF($G23=0,0,VLOOKUP(C23,'Cover Sheet'!$D$10:$F$22,3,0))","v":0},null,0,{"$f":"IF($G23=0,0,VLOOKUP(F23,'Cover Sheet'!$D$10:$F$36,3,0))","v":0},null,{"$f":"IF(I23=0,0,VLOOKUP(I23,'Cover Sheet'!$L$10:$M$13,2,0))","v":0},0,null,{"$f":"IF(L23=0,0,VLOOKUP(L23,'Cover Sheet'!$L$14:$M$34,2,0))","v":0},0,null,{"$f":"IF(L23=\"\",0,VLOOKUP(L23,'Cover Sheet'!$L$14:$O$34,4,0))","v":0},"-",null,{"$f":"IF(R23=0,0,VLOOKUP(R23,'Cover Sheet'!$L$14:$M$34,2,0))","v":0},0,null,{"$f":"IF(R23=\"\",0,VLOOKUP(R23,'Cover Sheet'!$L$14:$O$34,4,0))","v":0},"-",{"$f":"IF(C23=0,0,VLOOKUP(C23,'Cover Sheet'!$D$10:$G$22,4,0))","v":0},{"$f":"IF(F23=0,0,VLOOKUP(F23,'Cover Sheet'!$D$10:$G$36,4,0))","v":0},null,null,0,7.53,"-","-","-",null,"",0,"-",0,0,null,0,7.53,"-","-","-",null,"",0,"-",0,0]
[6,null,null,null,{"$f":"IF($G24=0,0,VLOOKUP(C24,'Cover Sheet'!$D$10:$F$22,3,0))","v":0},null,0,{"$f":"IF($G24=0,0,VLOOKUP(F24,'Cover Sheet'!$D$10:$F$36,3,0))","v":0},null,{"$f":"IF(I24=0,0,VLOOKUP(I24,'Cover Sheet'!$L$10:$M$13,2,0))","v":0},0,null,{"$f":"IF(L24=0,0,VLOOKUP(L24,'Cover Sheet'!$L$14:$M$34,2,0))","v":0},0,null,{"$f":"IF(L24=\"\",0,VLOOKUP(L24,'Cover Sheet'!$L$14:$O$34,4,0))","v":0},"-",null,{"$f":"IF(R24=0,0,VLOOKUP(R24,'Cover Sheet'!$L$14:$M$34,2,0))","v":0},0,null,{"$f":"IF(R24=\"\",0,VLOOKUP(R24,'Cover Sheet'!$L$14:$O$34,4,0))","v":0},"-",{"$f":"IF(C24=0,0,VLOOKUP(C24,'Cover Sheet'!$D$10:$G$22,4,0))","v":0},{"$f":"IF(F24=0,0,VLOOKUP(F24,'Cover Sheet'!$D$10:$G$36,4,0))","v":0},null,null,0,7.53,"-","-","-",null,"",0,"-",0,0,null,0,7.53,"-","-","-",null,"",0,"-",0,0]
[7,null,null,null,{"$f":"IF($G25=0,0,VLOOKUP(C25,'Cover Sheet'!$D$10:$F$22,3,0))","v":0},null,0,{"$f":"IF($G25=0,0,VLOOKUP(F25,'Cover Sheet'!$D$10:$F$36,3,0))","v":0},null,{"$f":"IF(I25=0,0,VLOOKUP(I25,'Cover Sheet'!$L$10:$M$13,2,0))","v":0},0,null,{"$f":"IF(L25=0,0,VLOOKUP(L25,'Cover Sheet'!$L$14:$M$34,2,0))","v":0},0,null,{"$f":"IF(L25=\"\",0,VLOOKUP(L25,'Cover Sheet'!$L$14:$O$34,4,0))","v":0},"-",null,{"$f":"IF(R25=0,0,VLOOKUP(R25,'Cover Sheet'!$L$14:$M$34,2,0))","v":0},0,null,{"$f":"IF(R25=\"\",0,VLOOKUP(R25,'Cover Sheet'!$L$14:$O$34,4,0))","v":0},"-",{"$f":"IF(C25=0,0,VLOOKUP(C25,'Cover Sheet'!$D$10:$G$22,4,0))","v":0},{"$f":"IF(F25=0,0,VLOOKUP(F25,'Cover Sheet'!$D$10:$G$36,4,0))","v":0},null,null,0,7.53,"-","-","-",null,"",0,"-",0,0,null,0,7.53,"-","-","-",null,"",0,"-",0,0]
[8,null,null,null,{"$f":"IF($G26=0,0,VLOOKUP(C26,'Cover Sheet'!$D$10:$F$22,3,0))","v":0},null,0,{"$f":"IF($G26=0,0,VLOOKUP(F26,'Cover Sheet'!$D$10:$F$36,3,0))","v":0},null,{"$f":"IF(I26=0,0,VLOOKUP(I26,'Cover Sheet'!$L$10:$M$13,2,0))","v":0},0,null,{"$f":"IF(L26=0,0,VLOOKUP(L26,'Cover Sheet'!$L$14:$M$34,2,0))","v":0},0,null,{"$f":"IF(L26=\"\",0,VLOOKUP(L26,'Cover Sheet'!$L$14:$O$34,4,0))","v":0},"-",null,{"$f":"IF(R26=0,0,VLOOKUP(R26,'Cover Sheet'!$L$14:$M$34,2,0))","v":0},0,null,{"$f":"IF(R26=\"\",0,VLOOKUP(R26,'Cover Sheet'!$L$14:$O$34,4,0))","v":0},"-",{"$f":"IF(C26=0,0,VLOOKUP(C26,'Cover Sheet'!$D$10:$G$22,4,0))","v":0},{"$f":"IF(F26=0,0,VLOOKUP(F26,'Cover Sheet'!$D$10:$G$36,4,0))","v":0},null,null,0,7.53,"-","-","-",null,"",0,"-",0,0,null,0,7.53,"-","-","-",null,"",0,"-",0,0]
[9,null,null,null,{"$f":"IF($G27=0,0,VLOOKUP(C27,'Cover Sheet'!$D$10:$F$22,3,0))","v":0},null,0,{"$f":"IF($G27=0,0,VLOOKUP(F27,'Cover Sheet'!$D$10:$F$36,3,0))","v":0},null,{"$f":"IF(I27=0,0,VLOOKUP(I27,'Cover Sheet'!$L$10:$M$13,2,0))","v":0},0,null,{"$f":"IF(L27=0,0,VLOOKUP(L27,'Cover Sheet'!$L$14:$M$34,2,0))","v":0},0,null,{"$f":"IF(L27=\"\",0,VLOOKUP(L27,'Cover Sheet'!$L$14:$O$34,4,0))","v":0},"-",null,{"$f":"IF(R27=0,0,VLOOKUP(R27,'Cover Sheet'!$L$14:$M$34,2,0))","v":0},0,null,{"$f":"IF(R27=\"\",0,VLOOKUP(R27,'Cover Sheet'!$L$14:$O$34,4,0))","v":0},"-",{"$f":"IF(C27=0,0,VLOOKUP(C27,'Cover Sheet'!$D$10:$G$22,4,0))","v":0},{"$f":"IF(F27=0,0,VLOOKUP(F27,'Cover Sheet'!$D$10:$G$36,4,0))","v":0},null,null,0,7.53,"-","-","-",null,"",0,"-",0,0,null,0,7.53,"-","-","-",null,"",0,"-",0,0]
[10,null,null,null,{"$f":"IF($G28=0,0,VLOOKUP(C28,'Cover Sheet'!$D$10:$F$22,3,0))","v":0},null,0,{"$f":"IF($G28=0,0,VLOOKUP(F28,'Cover Sheet'!$D$10:$F$36,3,0))","v":0},null,{"$f":"IF(I28=0,0,VLOOKUP(I28,'Cover Sheet'!$L$10:$M$13,2,0))","v":0},0,null,{"$f":"IF(L28=0,0,VLOOKUP(L28,'Cover Sheet'!$L$14:$M$34,2,0))","v":0},0,null,{"$f":"IF(L28=\"\",0,VLOOKUP(L28,'Cover Sheet'!$L$14:$O$34,4,0))","v":0},"-",null,{"$f":"IF(R28=0,0,VLOOKUP(R28,'Cover Sheet'!$L$14:$M$34,2,0))","v":0},0,null,{"$f":"IF(R28=\"\",0,VLOOKUP(R28,'Cover Sheet'!$L$14:$O$34,4,0))","v":0},"-",{"$f":"IF(C28=0,0,VLOOKUP(C28,'Cover Sheet'!$D$10:$G$22,4,0))","v":0},{"$f":"IF(F28=0,0,VLOOKUP(F28,'Cover Sheet'!$D$10:$G$36,4,0))","v":0},null,null,0,7.53,"-","-","-",null,"",0,"-",0,0,null,0,7.53,"-","-","-",null,"",0,"-",0,0]
[11,null,null,null,{"$f":"IF($G29=0,0,VLOOKUP(C29,'Cover Sheet'!$D$10:$F$22,3,0))","v":0},null,0,{"$f":"IF($G29=0,0,VLOOKUP(F29,'Cover Sheet'!$D$10:$F$36,3,0))","v":0},null,{"$f":"IF(I29=0,0,VLOOKUP(I29,'Cover Sheet'!$L$10:$M$13,2,0))","v":0},0,null,{"$f":"IF(L29=0,0,VLOOKUP(L29,'Cover Sheet'!$L$14:$M$34,2,0))","v":0},0,null,{"$f":"IF(L29=\"\",0,VLOOKUP(L29,'Cover Sheet'!$L$14:$O$34,4,0))","v":0},"-",null,{"$f":"IF(R29=0,0,VLOOKUP(R29,'Cover Sheet'!$L$14:$M$34,2,0))","v":0},0,null,{"$f":"IF(R29=\"\",0,VLOOKUP(R29,'Cover Sheet'!$L$14:$O$34,4,0))","v":0},"-",{"$f":"IF(C29=0,0,VLOOKUP(C29,'Cover Sheet'!$D$10:$G$22,4,0))","v":0},{"$f":"IF(F29=0,0,VLOOKUP(F29,'Cover Sheet'!$D$10:$G$36,4,0))","v":0},null,null,0,7.53,"-","-","-",null,"",0,"-",0,0,null,0,7.53,"-","-","-",null,"",0,"-",0,0]
[12,null,null,null,{"$f":"IF($G30=0,0,VLOOKUP(C30,'Cover Sheet'!$D$10:$F$22,3,0))","v":0},null,0,{"$f":"IF($G30=0,0,VLOOKUP(F30,'Cover Sheet'!$D$10:$F$36,3,0))","v":0},null,{"$f":"IF(I30=0,0,VLOOKUP(I30,'Cover Sheet'!$L$10:$M$13,2,0))","v":0},0,null,{"$f":"IF(L30=0,0,VLOOKUP(L30,'Cover Sheet'!$L$14:$M$34,2,0))","v":0},0,null,{"$f":"IF(L30=\"\",0,VLOOKUP(L30,'Cover Sheet'!$L$14:$O$34,4,0))","v":0},"-",null,{"$f":"IF(R30=0,0,VLOOKUP(R30,'Cover Sheet'!$L$14:$M$34,2,0))","v":0},0,null,{"$f":"IF(R30=\"\",0,VLOOKUP(R30,'Cover Sheet'!$L$14:$O$34,4,0))","v":0},"-",{"$f":"IF(C30=0,0,VLOOKUP(C30,'Cover Sheet'!$D$10:$G$22,4,0))","v":0},{"$f":"IF(F30=0,0,VLOOKUP(F30,'Cover Sheet'!$D$10:$G$36,4,0))","v":0},null,null,0,7.53,"-",{"$f":"IF(AB30=0,\"-\",(AC30-0.2*AD30)^2/(AC30+0.8*AD30))","v":"-"},"-",null,"",0,"-",0,0,null,0,7.53,"-",{"$f":"IF(AN30=0,\"-\",(AO30-0.2*AP30)^2/(AO30+0.8*AP30))","v":"-"},"-",null,"",0,"-",0,0]
[13,null,null,null,{"$f":"IF($G31=0,0,VLOOKUP(C31,'Cover Sheet'!$D$10:$F$22,3,0))","v":0},null,0,{"$f":"IF($G31=0,0,VLOOKUP(F31,'Cover Sheet'!$D$10:$F$36,3,0))","v":0},null,{"$f":"IF(I31=0,0,VLOOKUP(I31,'Cover Sheet'!$L$10:$M$13,2,0))","v":0},0,null,{"$f":"IF(L31=0,0,VLOOKUP(L31,'Cover Sheet'!$L$14:$M$34,2,0))","v":0},0,null,{"$f":"IF(L31=\"\",0,VLOOKUP(L31,'Cover Sheet'!$L$14:$O$34,4,0))","v":0},"-",null,{"$f":"IF(R31=0,0,VLOOKUP(R31,'Cover Sheet'!$L$14:$M$34,2,0))","v":0},0,null,{"$f":"IF(R31=\"\",0,VLOOKUP(R31,'Cover Sheet'!$L$14:$O$34,4,0))","v":0},"-",{"$f":"IF(C31=0,0,VLOOKUP(C31,'Cover Sheet'!$D$10:$G$22,4,0))","v":0},{"$f":"IF(F31=0,0,VLOOKUP(F31,'Cover Sheet'!$D$10:$G$36,4,0))","v":0},null,null,0,7.53,"-","-","-",null,"",0,"-",0,0,null,0,7.53,"-",{"$f":"IF(AN31=0,\"-\",(AO31-0.2*AP31)^2/(AO31+0.8*AP31))","v":"-"},"-",null,"",0,"-",0,0]
[14,null,null,null,{"$f":"IF($G32=0,0,VLOOKUP(C32,'Cover Sheet'!$D$10:$F$22,3,0))","v":0},null,0,{"$f":"IF($G32=0,0,VLOOKUP(F32,'Cover Sheet'!$D$10:$F$36,3,0))","v":0},null,{"$f":"IF(I32=0,0,VLOOKUP(I32,'Cover Sheet'!$L$10:$M$13,2,0))","v":0},0,null,{"$f":"IF(L32=0,0,VLOOKUP(L32,'Cover Sheet'!$L$14:$M$34,2,0))","v":0},0,null,{"$f":"IF(L32=\"\",0,VLOOKUP(L32,'Cover Sheet'!$L$14:$O$34,4,0))","v":0},"-",null,{"$f":"IF(R32=0,0,VLOOKUP(R32,'Cover Sheet'!$L$14:$M$34,2,0))","v":0},0,null,{"$f":"IF(R32=\"\",0,VLOOKUP(R32,'Cover Sheet'!$L$14:$O$34,4,0))","v":0},"-",{"$f":"IF(C32=0,0,VLOOKUP(C32,'Cover Sheet'!$D$10:$G$22,4,0))","v":0},{"$f":"IF(F32=0,0,VLOOKUP(F32,'Cover Sheet'!$D$10:$G$36,4,0))","v":0},null,null,0,7.53,"-","-","-",null,"",0,"-",0,0,null,0,7.53,"-","-","-",null,"",0,"-",0,0]
[15,null,null,null,{"$f":"IF($G33=0,0,VLOOKUP(C33,'Cover Sheet'!$D$10:$F$22,3,0))","v":0},null,0,{"$f":"IF($G33=0,0,VLOOKUP(F33,'Cover Sheet'!$D$10:$F$36,3,0))","v":0},null,{"$f":"IF(I33=0,0,VLOOKUP(I33,'Cover Sheet'!$L$10:$M$13,2,0))","v":0},0,null,{"$f":"IF(L33=0,0,VLOOKUP(L33,'Cover Sheet'!$L$14:$M$34,2,0))","v":0},0,null,{"$f":"IF(L33=\"\",0,VLOOKUP(L33,'Cover Sheet'!$L$14:$O$34,4,0))","v":0},"-",null,{"$f":"IF(R33=0,0,VLOOKUP(R33,'Cover Sheet'!$L$14:$M$34,2,0))","v":0},0,null,{"$f":"IF(R33=\"\",0,VLOOKUP(R33,'Cover Sheet'!$L$14:$O$34,4,0))","v":0},"-",{"$f":"IF(C33=0,0,VLOOKUP(C33,'Cover Sheet'!$D$10:$G$22,4,0))","v":0},{"$f":"IF(F33=0,0,VLOOKUP(F33,'Cover Sheet'!$D$10:$G$36,4,0))","v":0},null,null,0,7.53,"-","-","-",null,"",0,"-",0,0,null,0,7.53,"-","-","-",null,"",0,"-",0,0]
[16,null,null,null,{"$f":"IF($G34=0,0,VLOOKUP(C34,'Cover Sheet'!$D$10:$F$22,3,0))","v":0},null,0,{"$f":"IF($G34=0,0,VLOOKUP(F34,'Cover Sheet'!$D$10:$F$36,3,0))","v":0},null,{"$f":"IF(I34=0,0,VLOOKUP(I34,'Cover Sheet'!$L$10:$M$13,2,0))","v":0},0,null,{"$f":"IF(L34=0,0,VLOOKUP(L34,'Cover Sheet'!$L$14:$M$34,2,0))","v":0},0,null,{"$f":"IF(L34=\"\",0,VLOOKUP(L34,'Cover Sheet'!$L$14:$O$34,4,0))","v":0},"-",null,{"$f":"IF(R34=0,0,VLOOKUP(R34,'Cover Sheet'!$L$14:$M$34,2,0))","v":0},0,null,{"$f":"IF(R34=\"\",0,VLOOKUP(R34,'Cover Sheet'!$L$14:$O$34,4,0))","v":0},"-",{"$f":"IF(C34=0,0,VLOOKUP(C34,'Cover Sheet'!$D$10:$G$22,4,0))","v":0},{"$f":"IF(F34=0,0,VLOOKUP(F34,'Cover Sheet'!$D$10:$G$36,4,0))","v":0},null,null,0,7.53,"-","-","-",null,"",0,"-",0,0,null,0,7.53,"-","-","-",null,"",0,"-",0,0]
[17,null,null,null,{"$f":"IF($G35=0,0,VLOOKUP(C35,'Cover Sheet'!$D$10:$F$22,3,0))","v":0},null,0,{"$f":"IF($G35=0,0,VLOOKUP(F35,'Cover Sheet'!$D$10:$F$36,3,0))","v":0},null,{"$f":"IF(I35=0,0,VLOOKUP(I35,'Cover Sheet'!$L$10:$M$13,2,0))","v":0},0,null,{"$f":"IF(L35=0,0,VLOOKUP(L35,'Cover Sheet'!$L$14:$M$34,2,0))","v":0},0,null,{"$f":"IF(L35=\"\",0,VLOOKUP(L35,'Cover Sheet'!$L$14:$O$34,4,0))","v":0},"-",null,{"$f":"IF(R35=0,0,VLOOKUP(R35,'Cover Sheet'!$L$14:$M$34,2,0))","v":0},0,null,{"$f":"IF(R35=\"\",0,VLOOKUP(R35,'Cover Sheet'!$L$14:$O$34,4,0))","v":0},"-",{"$f":"IF(C35=0,0,VLOOKUP(C35,'Cover Sheet'!$D$10:$G$22,4,0))","v":0},{"$f":"IF(F35=0,0,VLOOKUP(F35,'Cover Sheet'!$D$10:$G$36,4,0))","v":0},null,null,0,7.53,"-","-","-",null,"",0,"-",0,0,null,0,7.53,"-","-","-",null,"",0,"-",0,0]
[18,null,null,null,{"$f":"IF($G36=0,0,VLOOKUP(C36,'Cover Sheet'!$D$10:$F$22,3,0))","v":0},null,0,{"$f":"IF($G36=0,0,VLOOKUP(F36,'Cover Sheet'!$D$10:$F$36,3,0))","v":0},null,{"$f":"IF(I36=0,0,VLOOKUP(I36,'Cover Sheet'!$L$10:$M$13,2,0))","v":0},0,null,{"$f":"IF(L36=0,0,VLOOKUP(L36,'Cover Sheet'!$L$14:$M$34,2,0))","v":0},0,null,{"$f":"IF(L36=\"\",0,VLOOKUP(L36,'Cover Sheet'!$L$14:$O$34,4,0))","v":0},"-",null,{"$f":"IF(R36=0,0,VLOOKUP(R36,'Cover Sheet'!$L$14:$M$34,2,0))","v":0},0,null,{"$f":"IF(R36=\"\",0,VLOOKUP(R36,'Cover Sheet'!$L$14:$O$34,4,0))","v":0},"-",{"$f":"IF(C36=0,0,VLOOKUP(C36,'Cover Sheet'!$D$10:$G$22,4,0))","v":0},{"$f":"IF(F36=0,0,VLOOKUP(F36,'Cover Sheet'!$D$10:$G$36,4,0))","v":0},null,null,0,7.53,"-","-","-",null,"",0,"-",0,0,null,0,7.53,"-","-","-",null,"",0,"-",0,0]
[19,null,null,null,{"$f":"IF($G37=0,0,VLOOKUP(C37,'Cover Sheet'!$D$10:$F$22,3,0))","v":0},null,0,{"$f":"IF($G37=0,0,VLOOKUP(F37,'Cover Sheet'!$D$10:$F$36,3,0))","v":0},null,{"$f":"IF(I37=0,0,VLOOKUP(I37,'Cover Sheet'!$L$10:$M$13,2,0))","v":0},0,null,{"$f":"IF(L37=0,0,VLOOKUP(L37,'Cover Sheet'!$L$14:$M$34,2,0))","v":0},0,null,{"$f":"IF(L37=\"\",0,VLOOKUP(L37,'Cover Sheet'!$L$14:$O$34,4,0))","v":0},"-",null,{"$f":"IF(R37=0,0,VLOOKUP(R37,'Cover Sheet'!$L$14:$M$34,2,0))","v":0},0,null,{"$f":"IF(R37=\"\",0,VLOOKUP(R37,'Cover Sheet'!$L$14:$O$34,4,0))","v":0},"-",{"$f":"IF(C37=0,0,VLOOKUP(C37,'Cover Sheet'!$D$10:$G$22,4,0))","v":0},{"$f":"IF(F37=0,0,VLOOKUP(F37,'Cover Sheet'!$D$10:$G$36,4,0))","v":0},null,null,0,7.53,"-","-","-",null,"",0,"-",0,0,null,0,7.53,"-","-","-",null,"",0,"-",0,0]
[{"$f":"A37+1","v":20},null,null,null,{"$f":"IF($G38=0,0,VLOOKUP(C38,'Cover Sheet'!$D$10:$F$22,3,0))","v":0},null,{"$f":"D38","v":0},{"$f":"IF($G38=0,0,VLOOKUP(F38,'Cover Sheet'!$D$10:$F$36,3,0))","v":0},null,{"$f":"IF(I38=0,0,VLOOKUP(I38,'Cover Sheet'!$L$10:$M$13,2,0))","v":0},{"$f":"IF(J38>0,H38*(1-J38),H38)","v":0},null,{"$f":"IF(L38=0,0,VLOOKUP(L38,'Cover Sheet'!$L$14:$M$34,2,0))","v":0},{"$f":"IF(M38>0,ROUNDUP(K38*(1-M38),2),K38)","v":0},null,{"$f":"IF(L38=\"\",0,VLOOKUP(L38,'Cover Sheet'!$L$14:$O$34,4,0))","v":0},{"$f":"IF(L38=\"\",\"-\",IF(OR(L38=\"PP1\",L38=\"P2\"),P38*$D$10*E38*G38/12*43560,P38*$D$10*K38*G38/12*43560))","v":"-"},null,{"$f":"IF(R38=0,0,VLOOKUP(R38,'Cover Sheet'!$L$14:$M$34,2,0))","v":0},{"$f":"IF(S38>0,N38*(1-S38),N38)","v":0},null,{"$f":"IF(R38=\"\",0,VLOOKUP(R38,'Cover Sheet'!$L$14:$O$34,4,0))","v":0},{"$f":"IF(R38=\"\",\"-\",V38*$D$10*N38*G38/12*43560)","v":"-"},{"$f":"IF(C38=0,0,VLOOKUP(C38,'Cover Sheet'!$D$10:$G$22,4,0))","v":0},{"$f":"IF(F38=0,0,VLOOKUP(F38,'Cover Sheet'!$D$10:$G$36,4,0))","v":0},null,null,{"$f":"Y38","v":0},7.53,{"$f":"IF(AB38=0,\"-\",1000/AB38-10)","v":"-"},{"$f":"IF(AB38=0,\"-\",(AC38-0.2*AD38)^2/(AC38+0.8*AD38))","v":"-"},{"$f":"Q38","v":"-"},null,{"$f":"IF(AG38=\"\",\"\",AF38*AG38)","v":""},{"$f":"IF(OR(AB38=0,L38=\"\"),0,12*AH38/43560/D38)","v":0},"-",{"$f":"IF(AB38=0,0,1000/(10+5*AC38+10*AJ38-10*(AJ38^2+1.25*AJ38*AC38)^(1/2)))","v":0},{"$f":"AK38-AB38","v":0},null,{"$f":"AK38","v":0},7.53,{"$f":"IF(AN38=0,\"-\",1000/AN38-10)","v":"-"},"-",{"$f":"W38","v":"-"},null,{"$f":"IF(AS38=\"\",\"\",AR38*AS38)","v":""},{"$f":"IF(OR(AN38=0,R38=\"\"),0,12*AT38/43560/D38)","v":0},"-",{"$f":"IF(AN38=0,0,1000/(10+5*AO38+10*AV38-10*(AV38^2+1.25*AV38*AO38)^(1/2)))","v":0},{"$f":"AW38-AN38","v":0}]
[21,null,null,null,{"$f":"IF($G39=0,0,VLOOKUP(C39,'Cover Sheet'!$D$10:$F$22,3,0))","v":0},null,0,{"$f":"IF($G39=0,0,VLOOKUP(F39,'Cover Sheet'!$D$10:$F$36,3,0))","v":0},null,{"$f":"IF(I39=0,0,VLOOKUP(I39,'Cover Sheet'!$L$10:$M$13,2,0))","v":0},0,null,{"$f":"IF(L39=0,0,VLOOKUP(L39,'Cover Sheet'!$L$14:$M$34,2,0))","v":0},0,null,{"$f":"IF(L39=\"\",0,VLOOKUP(L39,'Cover Sheet'!$L$14:$O$34,4,0))","v":0},"-",null,{"$f":"IF(R39=0,0,VLOOKUP(R39,'Cover Sheet'!$L$14:$M$34,2,0))","v":0},0,null,{"$f":"IF(R39=\"\",0,VLOOKUP(R39,'Cover Sheet'!$L$14:$O$34,4,0))","v":0},"-",{"$f":"IF(C39=0,0,VLOOKUP(C39,'Cover Sheet'!$D$10:$G$22,4,0))","v":0},{"$f":"IF(F39=0,0,VLOOKUP(F39,'Cover Sheet'!$D$10:$G$36,4,0))","v":0},null,null,0,7.53,"-","-","-",null,"",0,"-",0,0,null,0,7.53,"-","-","-",null,"",0,"-",0,0]
[22,null,null,null,{"$f":"IF($G40=0,0,VLOOKUP(C40,'Cover Sheet'!$D$10:$F$22,3,0))","v":0},null,0,{"$f":"IF($G40=0,0,VLOOKUP(F40,'Cover Sheet'!$D$10:$F$36,3,0))","v":0},null,{"$f":"IF(I40=0,0,VLOOKUP(I40,'Cover Sheet'!$L$10:$M$13,2,0))","v":0},0,null,{"$f":"IF(L40=0,0,VLOOKUP(L40,'Cover Sheet'!$L$14:$M$34,2,0))","v":0},0,null,{"$f":"IF(L40=\"\",0,VLOOKUP(L40,'Cover Sheet'!$L$14:$O$34,4,0))","v":0},"-",null,{"$f":"IF(R40=0,0,VLOOKUP(R40,'Cover Sheet'!$L$14:$M$34,2,0))","v":0},0,null,{"$f":"IF(R40=\"\",0,VLOOKUP(R40,'Cover Sheet'!$L$14:$O$34,4,0))","v":0},"-",{"$f":"IF(C40=0,0,VLOOKUP(C40,'Cover Sheet'!$D$10:$G$22,4,0))","v":0},{"$f":"IF(F40=0,0,VLOOKUP(F40,'Cover Sheet'!$D$10:$G$36,4,0))","v":0},null,null,0,7.53,"-",{"$f":"IF(AB40=0,\"-\",(AC40-0.2*AD40)^2/(AC40+0.8*AD40))","v":"-"},"-",null,"",0,"-",0,0,null,0,7.53,"-",{"$f":"IF(AN40=0,\"-\",(AO40-0.2*AP40)^2/(AO40+0.8*AP40))","v":"-"},"-",null,"",0,"-",0,0]
[23,null,null,null,{"$f":"IF($G41=0,0,VLOOKUP(C41,'Cover Sheet'!$D$10:$F$22,3,0))","v":0},null,0,{"$f":"IF($G41=0,0,VLOOKUP(F41,'Cover Sheet'!$D$10:$F$36,3,0))","v":0},null,{"$f":"IF(I41=0,0,VLOOKUP(I41,'Cover Sheet'!$L$10:$M$13,2,0))","v":0},0,null,{"$f":"IF(L41=0,0,VLOOKUP(L41,'Cover Sheet'!$L$14:$M$34,2,0))","v":0},0,null,{"$f":"IF(L41=\"\",0,VLOOKUP(L41,'Cover Sheet'!$L$14:$O$34,4,0))","v":0},"-",null,{"$f":"IF(R41=0,0,VLOOKUP(R41,'Cover Sheet'!$L$14:$M$34,2,0))","v":0},0,null,{"$f":"IF(R41=\"\",0,VLOOKUP(R41,'Cover Sheet'!$L$14:$O$34,4,0))","v":0},"-",{"$f":"IF(C41=0,0,VLOOKUP(C41,'Cover Sheet'!$D$10:$G$22,4,0))","v":0},{"$f":"IF(F41=0,0,VLOOKUP(F41,'Cover Sheet'!$D$10:$G$36,4,0))","v":0},null,null,0,7.53,"-",{"$f":"IF(AB41=0,\"-\",(AC41-0.2*AD41)^2/(AC41+0.8*AD41))","v":"-"},"-",null,"",0,"-",0,0,null,0,7.53,"-",{"$f":"IF(AN41=0,\"-\",(AO41-0.2*AP41)^2/(AO41+0.8*AP41))","v":"-"},"-",null,"",0,"-",0,0]
[24,null,null,null,{"$f":"IF($G42=0,0,VLOOKUP(C42,'Cover Sheet'!$D$10:$F$22,3,0))","v":0},null,0,{"$f":"IF($G42=0,0,VLOOKUP(F42,'Cover Sheet'!$D$10:$F$36,3,0))","v":0},null,{"$f":"IF(I42=0,0,VLOOKUP(I42,'Cover Sheet'!$L$10:$M$13,2,0))","v":0},0,null,{"$f":"IF(L42=0,0,VLOOKUP(L42,'Cover Sheet'!$L$14:$M$34,2,0))","v":0},0,null,{"$f":"IF(L42=\"\",0,VLOOKUP(L42,'Cover Sheet'!$L$14:$O$34,4,0))","v":0},"-",null,{"$f":"IF(R42=0,0,VLOOKUP(R42,'Cover Sheet'!$L$14:$M$34,2,0))","v":0},0,null,{"$f":"IF(R42=\"\",0,VLOOKUP(R42,'Cover Sheet'!$L$14:$O$34,4,0))","v":0},"-",{"$f":"IF(C42=0,0,VLOOKUP(C42,'Cover Sheet'!$D$10:$G$22,4,0))","v":0},{"$f":"IF(F42=0,0,VLOOKUP(F42,'Cover Sheet'!$D$10:$G$36,4,0))","v":0},null,null,0,7.53,"-","-","-",null,"",0,"-",0,0,null,0,7.53,"-","-","-",null,"",0,"-",0,0]
[{"$f":"A42+1","v":25},null,null,null,{"$f":"IF($G43=0,0,VLOOKUP(C43,'Cover Sheet'!$D$10:$F$22,3,0))","v":0},null,0,{"$f":"IF($G43=0,0,VLOOKUP(F43,'Cover Sheet'!$D$10:$F$36,3,0))","v":0},null,{"$f":"IF(I43=0,0,VLOOKUP(I43,'Cover Sheet'!$L$10:$M$13,2,0))","v":0},0,null,{"$f":"IF(L43=0,0,VLOOKUP(L43,'Cover Sheet'!$L$14:$M$34,2,0))","v":0},0,null,{"$f":"IF(L43=\"\",0,VLOOKUP(L43,'Cover Sheet'!$L$14:$O$34,4,0))","v":0},"-",null,{"$f":"IF(R43=0,0,VLOOKUP(R43,'Cover Sheet'!$L$14:$M$34,2,0))","v":0},0,null,{"$f":"IF(R43=\"\",0,VLOOKUP(R43,'Cover Sheet'!$L$14:$O$34,4,0))","v":0},"-",{"$f":"IF(C43=0,0,VLOOKUP(C43,'Cover Sheet'!$D$10:$G$22,4,0))","v":0},{"$f":"IF(F43=0,0,VLOOKUP(F43,'Cover Sheet'!$D$10:$G$36,4,0))","v":0},null,null,0,7.53,"-","-","-",null,"",0,"-",0,0,null,0,7.53,"-","-","-",null,"",0,"-",0,0]
[26,null,null,null,{"$f":"IF($G44=0,0,VLOOKUP(C44,'Cover Sheet'!$D$10:$F$22,3,0))","v":0},null,0,{"$f":"IF($G44=0,0,VLOOKUP(F44,'Cover Sheet'!$D$10:$F$36,3,0))","v":0},null,{"$f":"IF(I44=0,0,VLOOKUP(I44,'Cover Sheet'!$L$10:$M$13,2,0))","v":0},0,null,{"$f":"IF(L44=0,0,VLOOKUP(L44,'Cover Sheet'!$L$14:$M$34,2,0))","v":0},0,null,{"$f":"IF(L44=\"\",0,VLOOKUP(L44,'Cover Sheet'!$L$14:$O$34,4,0))","v":0},"-",null,{"$f":"IF(R44=0,0,VLOOKUP(R44,'Cover Sheet'!$L$14:$M$34,2,0))","v":0},0,null,{"$f":"IF(R44=\"\",0,VLOOKUP(R44,'Cover Sheet'!$L$14:$O$34,4,0))","v":0},"-",{"$f":"IF(C44=0,0,VLOOKUP(C44,'Cover Sheet'!$D$10:$G$22,4,0))","v":0},{"$f":"IF(F44=0,0,VLOOKUP(F44,'Cover Sheet'!$D$10:$G$36,4,0))","v":0},null,null,0,7.53,"-","-","-",null,"",0,"-",0,0,null,0,7.53,"-","-","-",null,"",0,"-",0,0]
[27,null,null,null,{"$f":"IF($G45=0,0,VLOOKUP(C45,'Cover Sheet'!$D$10:$F$22,3,0))","v":0},null,0,{"$f":"IF($G45=0,0,VLOOKUP(F45,'Cover Sheet'!$D$10:$F$36,3,0))","v":0},null,{"$f":"IF(I45=0,0,VLOOKUP(I45,'Cover Sheet'!$L$10:$M$13,2,0))","v":0},0,null,{"$f":"IF(L45=0,0,VLOOKUP(L45,'Cover Sheet'!$L$14:$M$34,2,0))","v":0},0,null,{"$f":"IF(L45=\"\",0,VLOOKUP(L45,'Cover Sheet'!$L$14:$O$34,4,0))","v":0},"-",null,{"$f":"IF(R45=0,0,VLOOKUP(R45,'Cover Sheet'!$L$14:$M$34,2,0))","v":0},0,null,{"$f":"IF(R45=\"\",0,VLOOKUP(R45,'Cover Sheet'!$L$14:$O$34,4,0))","v":0},"-",{"$f":"IF(C45=0,0,VLOOKUP(C45,'Cover Sheet'!$D$10:$G$22,4,0))","v":0},{"$f":"IF(F45=0,0,VLOOKUP(F45,'Cover Sheet'!$D$10:$G$36,4,0))","v":0},null,null,0,7.53,"-","-","-",null,"",0,"-",0,0,null,0,7.53,"-","-","-",null,"",0,"-",0,0]
[28,null,null,null,{"$f":"IF($G46=0,0,VLOOKUP(C46,'Cover Sheet'!$D$10:$F$22,3,0))","v":0},null,0,{"$f":"IF($G46=0,0,VLOOKUP(F46,'Cover Sheet'!$D$10:$F$36,3,0))","v":0},null,{"$f":"IF(I46=0,0,VLOOKUP(I46,'Cover Sheet'!$L$10:$M$13,2,0))","v":0},0,null,{"$f":"IF(L46=0,0,VLOOKUP(L46,'Cover Sheet'!$L$14:$M$34,2,0))","v":0},0,null,{"$f":"IF(L46=\"\",0,VLOOKUP(L46,'Cover Sheet'!$L$14:$O$34,4,0))","v":0},"-",null,{"$f":"IF(R46=0,0,VLOOKUP(R46,'Cover Sheet'!$L$14:$M$34,2,0))","v":0},0,null,{"$f":"IF(R46=\"\",0,VLOOKUP(R46,'Cover Sheet'!$L$14:$O$34,4,0))","v":0},"-",{"$f":"IF(C46=0,0,VLOOKUP(C46,'Cover Sheet'!$D$10:$G$22,4,0))","v":0},{"$f":"IF(F46=0,0,VLOOKUP(F46,'Cover Sheet'!$D$10:$G$36,4,0))","v":0},null,null,0,7.53,"-","-","-",null,"",0,"-",0,0,null,0,7.53,"-","-","-",null,"",0,"-",0,0]
[29,null,null,null,{"$f":"IF($G47=0,0,VLOOKUP(C47,'Cover Sheet'!$D$10:$F$22,3,0))","v":0},null,0,{"$f":"IF($G47=0,0,VLOOKUP(F47,'Cover Sheet'!$D$10:$F$36,3,0))","v":0},null,{"$f":"IF(I47=0,0,VLOOKUP(I47,'Cover Sheet'!$L$10:$M$13,2,0))","v":0},0,null,{"$f":"IF(L47=0,0,VLOOKUP(L47,'Cover Sheet'!$L$14:$M$34,2,0))","v":0},0,null,{"$f":"IF(L47=\"\",0,VLOOKUP(L47,'Cover Sheet'!$L$14:$O$34,4,0))","v":0},"-",null,{"$f":"IF(R47=0,0,VLOOKUP(R47,'Cover Sheet'!$L$14:$M$34,2,0))","v":0},0,null,{"$f":"IF(R47=\"\",0,VLOOKUP(R47,'Cover Sheet'!$L$14:$O$34,4,0))","v":0},"-",{"$f":"IF(C47=0,0,VLOOKUP(C47,'Cover Sheet'!$D$10:$G$22,4,0))","v":0},{"$f":"IF(F47=0,0,VLOOKUP(F47,'Cover Sheet'!$D$10:$G$36,4,0))","v":0},null,null,0,7.53,"-","-","-",null,"",0,"-",0,0,null,0,7.53,"-","-","-",null,"",0,"-",0,0]
[30,null,null,null,{"$f":"IF($G48=0,0,VLOOKUP(C48,'Cover Sheet'!$D$10:$F$22,3,0))","v":0},null,0,{"$f":"IF($G48=0,0,VLOOKUP(F48,'Cover Sheet'!$D$10:$F$36,3,0))","v":0},null,{"$f":"IF(I48=0,0,VLOOKUP(I48,'Cover Sheet'!$L$10:$M$13,2,0))","v":0},0,null,{"$f":"IF(L48=0,0,VLOOKUP(L48,'Cover Sheet'!$L$14:$M$34,2,0))","v":0},0,null,{"$f":"IF(L48=\"\",0,VLOOKUP(L48,'Cover Sheet'!$L$14:$O$34,4,0))","v":0},"-",null,{"$f":"IF(R48=0,0,VLOOKUP(R48,'Cover Sheet'!$L$14:$M$34,2,0))","v":0},0,null,{"$f":"IF(R48=\"\",0,VLOOKUP(R48,'Cover Sheet'!$L$14:$O$34,4,0))","v":0},"-",{"$f":"IF(C48=0,0,VLOOKUP(C48,'Cover Sheet'!$D$10:$G$22,4,0))","v":0},{"$f":"IF(F48=0,0,VLOOKUP(F48,'Cover Sheet'!$D$10:$G$36,4,0))","v":0},null,null,0,7.53,"-",{"$f":"IF(AB48=0,\"-\",(AC48-0.2*AD48)^2/(AC48+0.8*AD48))","v":"-"},"-",null,"",0,"-",0,0,null,0,7.53,"-",{"$f":"IF(AN48=0,\"-\",(AO48-0.2*AP48)^2/(AO48+0.8*AP48))","v":"-"},"-",null,"",0,"-",0,0]
[31,null,null,null,{"$f":"IF($G49=0,0,VLOOKUP(C49,'Cover Sheet'!$D$10:$F$22,3,0))","v":0},null,0,{"$f":"IF($G49=0,0,VLOOKUP(F49,'Cover Sheet'!$D$10:$F$36,3,0))","v":0},null,{"$f":"IF(I49=0,0,VLOOKUP(I49,'Cover Sheet'!$L$10:$M$13,2,0))","v":0},0,null,{"$f":"IF(L49=0,0,VLOOKUP(L49,'Cover Sheet'!$L$14:$M$34,2,0))","v":0},0,null,{"$f":"IF(L49=\"\",0,VLOOKUP(L49,'Cover Sheet'!$L$14:$O$34,4,0))","v":0},"-",null,{"$f":"IF(R49=0,0,VLOOKUP(R49,'Cover Sheet'!$L$14:$M$34,2,0))","v":0},0,null,{"$f":"IF(R49=\"\",0,VLOOKUP(R49,'Cover Sheet'!$L$14:$O$34,4,0))","v":0},"-",{"$f":"IF(C49=0,0,VLOOKUP(C49,'Cover Sheet'!$D$10:$G$22,4,0))","v":0},{"$f":"IF(F49=0,0,VLOOKUP(F49,'Cover Sheet'!$D$10:$G$36,4,0))","v":0},null,null,0,7.53,"-","-","-",null,"",0,"-",0,0,null,0,7.53,"-","-","-",null,"",0,"-",0,0]
[32,null,null,null,{"$f":"IF($G50=0,0,VLOOKUP(C50,'Cover Sheet'!$D$10:$F$22,3,0))","v":0},null,0,{"$f":"IF($G50=0,0,VLOOKUP(F50,'Cover Sheet'!$D$10:$F$36,3,0))","v":0},null,{"$f":"IF(I50=0,0,VLOOKUP(I50,'Cover Sheet'!$L$10:$M$13,2,0))","v":0},0,null,{"$f":"IF(L50=0,0,VLOOKUP(L50,'Cover Sheet'!$L$14:$M$34,2,0))","v":0},0,null,{"$f":"IF(L50=\"\",0,VLOOKUP(L50,'Cover Sheet'!$L$14:$O$34,4,0))","v":0},"-",null,{"$f":"IF(R50=0,0,VLOOKUP(R50,'Cover Sheet'!$L$14:$M$34,2,0))","v":0},0,null,{"$f":"IF(R50=\"\",0,VLOOKUP(R50,'Cover Sheet'!$L$14:$O$34,4,0))","v":0},"-",{"$f":"IF(C50=0,0,VLOOKUP(C50,'Cover Sheet'!$D$10:$G$22,4,0))","v":0},{"$f":"IF(F50=0,0,VLOOKUP(F50,'Cover Sheet'!$D$10:$G$36,4,0))","v":0},null,null,0,7.53,"-",{"$f":"IF(AB50=0,\"-\",(AC50-0.2*AD50)^2/(AC50+0.8*AD50))","v":"-"},"-",null,"",0,"-",0,0,null,0,7.53,"-",{"$f":"IF(AN50=0,\"-\",(AO50-0.2*AP50)^2/(AO50+0.8*AP50))","v":"-"},"-",null,"",0,"-",0,0]
[33,null,null,null,{"$f":"IF($G51=0,0,VLOOKUP(C51,'Cover Sheet'!$D$10:$F$22,3,0))","v":0},null,0,{"$f":"IF($G51=0,0,VLOOKUP(F51,'Cover Sheet'!$D$10:$F$36,3,0))","v":0},null,{"$f":"IF(I51=0,0,VLOOKUP(I51,'Cover Sheet'!$L$10:$M$13,2,0))","v":0},0,null,{"$f":"IF(L51=0,0,VLOOKUP(L51,'Cover Sheet'!$L$14:$M$34,2,0))","v":0},0,null,{"$f":"IF(L51=\"\",0,VLOOKUP(L51,'Cover Sheet'!$L$14:$O$34,4,0))","v":0},"-",null,{"$f":"IF(R51=0,0,VLOOKUP(R51,'Cover Sheet'!$L$14:$M$34,2,0))","v":0},0,null,{"$f":"IF(R51=\"\",0,VLOOKUP(R51,'Cover Sheet'!$L$14:$O$34,4,0))","v":0},"-",{"$f":"IF(C51=0,0,VLOOKUP(C51,'Cover Sheet'!$D$10:$G$22,4,0))","v":0},{"$f":"IF(F51=0,0,VLOOKUP(F51,'Cover Sheet'!$D$10:$G$36,4,0))","v":0},null,null,0,7.53,"-",{"$f":"IF(AB51=0,\"-\",(AC51-0.2*AD51)^2/(AC51+0.8*AD51))","v":"-"},"-",null,"",0,"-",0,0,null,0,7.53,"-",{"$f":"IF(AN51=0,\"-\",(AO51-0.2*AP51)^2/(AO51+0.8*AP51))","v":"-"},"-",null,"",0,"-",0,0]
[34,null,null,null,{"$f":"IF($G52=0,0,VLOOKUP(C52,'Cover Sheet'!$D$10:$F$22,3,0))","v":0},null,0,{"$f":"IF($G52=0,0,VLOOKUP(F52,'Cover Sheet'!$D$10:$F$36,3,0))","v":0},null,{"$f":"IF(I52=0,0,VLOOKUP(I52,'Cover Sheet'!$L$10:$M$13,2,0))","v":0},0,null,{"$f":"IF(L52=0,0,VLOOKUP(L52,'Cover Sheet'!$L$14:$M$34,2,0))","v":0},0,null,{"$f":"IF(L52=\"\",0,VLOOKUP(L52,'Cover Sheet'!$L$14:$O$34,4,0))","v":0},"-",null,{"$f":"IF(R52=0,0,VLOOKUP(R52,'Cover Sheet'!$L$14:$M$34,2,0))","v":0},0,null,{"$f":"IF(R52=\"\",0,VLOOKUP(R52,'Cover Sheet'!$L$14:$O$34,4,0))","v":0},"-",{"$f":"IF(C52=0,0,VLOOKUP(C52,'Cover Sheet'!$D$10:$G$22,4,0))","v":0},{"$f":"IF(F52=0,0,VLOOKUP(F52,'Cover Sheet'!$D$10:$G$36,4,0))","v":0},null,null,0,7.53,"-","-","-",null,"",0,"-",0,0,null,0,7.53,"-","-","-",null,"",0,"-",0,0]
[35,null,null,null,{"$f":"IF($G53=0,0,VLOOKUP(C53,'Cover Sheet'!$D$10:$F$22,3,0))","v":0},null,0,{"$f":"IF($G53=0,0,VLOOKUP(F53,'Cover Sheet'!$D$10:$F$36,3,0))","v":0},null,{"$f":"IF(I53=0,0,VLOOKUP(I53,'Cover Sheet'!$L$10:$M$13,2,0))","v":0},0,null,{"$f":"IF(L53=0,0,VLOOKUP(L53,'Cover Sheet'!$L$14:$M$34,2,0))","v":0},0,null,{"$f":"IF(L53=\"\",0,VLOOKUP(L53,'Cover Sheet'!$L$14:$O$34,4,0))","v":0},"-",null,{"$f":"IF(R53=0,0,VLOOKUP(R53,'Cover Sheet'!$L$14:$M$34,2,0))","v":0},0,null,{"$f":"IF(R53=\"\",0,VLOOKUP(R53,'Cover Sheet'!$L$14:$O$34,4,0))","v":0},"-",{"$f":"IF(C53=0,0,VLOOKUP(C53,'Cover Sheet'!$D$10:$G$22,4,0))","v":0},{"$f":"IF(F53=0,0,VLOOKUP(F53,'Cover Sheet'!$D$10:$G$36,4,0))","v":0},null,null,0,7.53,"-","-","-",null,"",0,"-",0,0,null,0,7.53,"-","-","-",null,"",0,"-",0,0]
[36,null,null,null,{"$f":"IF($G54=0,0,VLOOKUP(C54,'Cover Sheet'!$D$10:$F$22,3,0))","v":0},null,0,{"$f":"IF($G54=0,0,VLOOKUP(F54,'Cover Sheet'!$D$10:$F$36,3,0))","v":0},null,{"$f":"IF(I54=0,0,VLOOKUP(I54,'Cover Sheet'!$L$10:$M$13,2,0))","v":0},0,null,{"$f":"IF(L54=0,0,VLOOKUP(L54,'Cover Sheet'!$L$14:$M$34,2,0))","v":0},0,null,{"$f":"IF(L54=\"\",0,VLOOKUP(L54,'Cover Sheet'!$L$14:$O$34,4,0))","v":0},"-",null,{"$f":"IF(R54=0,0,VLOOKUP(R54,'Cover Sheet'!$L$14:$M$34,2,0))","v":0},0,null,{"$f":"IF(R54=\"\",0,VLOOKUP(R54,'Cover Sheet'!$L$14:$O$34,4,0))","v":0},"-",{"$f":"IF(C54=0,0,VLOOKUP(C54,'Cover Sheet'!$D$10:$G$22,4,0))","v":0},{"$f":"IF(F54=0,0,VLOOKUP(F54,'Cover Sheet'!$D$10:$G$36,4,0))","v":0},null,null,0,7.53,"-","-","-",null,"",0,"-",0,0,null,0,7.53,"-","-","-",null,"",0,"-",0,0]
[37,null,null,null,{"$f":"IF($G55=0,0,VLOOKUP(C55,'Cover Sheet'!$D$10:$F$22,3,0))","v":0},null,0,{"$f":"IF($G55=0,0,VLOOKUP(F55,'Cover Sheet'!$D$10:$F$36,3,0))","v":0},null,{"$f":"IF(I55=0,0,VLOOKUP(I55,'Cover Sheet'!$L$10:$M$13,2,0))","v":0},0,null,{"$f":"IF(L55=0,0,VLOOKUP(L55,'Cover Sheet'!$L$14:$M$34,2,0))","v":0},0,null,{"$f":"IF(L55=\"\",0,VLOOKUP(L55,'Cover Sheet'!$L$14:$O$34,4,0))","v":0},"-",null,{"$f":"IF(R55=0,0,VLOOKUP(R55,'Cover Sheet'!$L$14:$M$34,2,0))","v":0},0,null,{"$f":"IF(R55=\"\",0,VLOOKUP(R55,'Cover Sheet'!$L$14:$O$34,4,0))","v":0},"-",{"$f":"IF(C55=0,0,VLOOKUP(C55,'Cover Sheet'!$D$10:$G$22,4,0))","v":0},{"$f":"IF(F55=0,0,VLOOKUP(F55,'Cover Sheet'!$D$10:$G$36,4,0))","v":0},null,null,0,7.53,"-","-","-",null,"",0,"-",0,0,null,0,7.53,"-","-","-",null,"",0,"-",0,0]
[38,null,null,null,{"$f":"IF($G56=0,0,VLOOKUP(C56,'Cover Sheet'!$D$10:$F$22,3,0))","v":0},null,0,{"$f":"IF($G56=0,0,VLOOKUP(F56,'Cover Sheet'!$D$10:$F$36,3,0))","v":0},null,{"$f":"IF(I56=0,0,VLOOKUP(I56,'Cover Sheet'!$L$10:$M$13,2,0))","v":0},0,null,{"$f":"IF(L56=0,0,VLOOKUP(L56,'Cover Sheet'!$L$14:$M$34,2,0))","v":0},0,null,{"$f":"IF(L56=\"\",0,VLOOKUP(L56,'Cover Sheet'!$L$14:$O$34,4,0))","v":0},"-",null,{"$f":"IF(R56=0,0,VLOOKUP(R56,'Cover Sheet'!$L$14:$M$34,2,0))","v":0},0,null,{"$f":"IF(R56=\"\",0,VLOOKUP(R56,'Cover Sheet'!$L$14:$O$34,4,0))","v":0},"-",{"$f":"IF(C56=0,0,VLOOKUP(C56,'Cover Sheet'!$D$10:$G$22,4,0))","v":0},{"$f":"IF(F56=0,0,VLOOKUP(F56,'Cover Sheet'!$D$10:$G$36,4,0))","v":0},null,null,0,7.53,"-","-","-",null,"",0,"-",0,0,null,0,7.53,"-","-","-",null,"",0,"-",0,0]
[39,null,null,null,{"$f":"IF($G57=0,0,VLOOKUP(C57,'Cover Sheet'!$D$10:$F$22,3,0))","v":0},null,0,{"$f":"IF($G57=0,0,VLOOKUP(F57,'Cover Sheet'!$D$10:$F$36,3,0))","v":0},null,{"$f":"IF(I57=0,0,VLOOKUP(I57,'Cover Sheet'!$L$10:$M$13,2,0))","v":0},0,null,{"$f":"IF(L57=0,0,VLOOKUP(L57,'Cover Sheet'!$L$14:$M$34,2,0))","v":0},0,null,{"$f":"IF(L57=\"\",0,VLOOKUP(L57,'Cover Sheet'!$L$14:$O$34,4,0))","v":0},"-",null,{"$f":"IF(R57=0,0,VLOOKUP(R57,'Cover Sheet'!$L$14:$M$34,2,0))","v":0},0,null,{"$f":"IF(R57=\"\",0,VLOOKUP(R57,'Cover Sheet'!$L$14:$O$34,4,0))","v":0},"-",{"$f":"IF(C57=0,0,VLOOKUP(C57,'Cover Sheet'!$D$10:$G$22,4,0))","v":0},{"$f":"IF(F57=0,0,VLOOKUP(F57,'Cover Sheet'!$D$10:$G$36,4,0))","v":0},null,null,0,7.53,"-","-","-",null,"",0,"-",0,0,null,0,7.53,"-","-","-",null,"",0,"-",0,0]
[40,null,null,null,{"$f":"IF($G58=0,0,VLOOKUP(C58,'Cover Sheet'!$D$10:$F$22,3,0))","v":0},null,0,{"$f":"IF($G58=0,0,VLOOKUP(F58,'Cover Sheet'!$D$10:$F$36,3,0))","v":0},null,{"$f":"IF(I58=0,0,VLOOKUP(I58,'Cover Sheet'!$L$10:$M$13,2,0))","v":0},0,null,{"$f":"IF(L58=0,0,VLOOKUP(L58,'Cover Sheet'!$L$14:$M$34,2,0))","v":0},0,null,{"$f":"IF(L58=\"\",0,VLOOKUP(L58,'Cover Sheet'!$L$14:$O$34,4,0))","v":0},"-",null,{"$f":"IF(R58=0,0,VLOOKUP(R58,'Cover Sheet'!$L$14:$M$34,2,0))","v":0},0,null,{"$f":"IF(R58=\"\",0,VLOOKUP(R58,'Cover Sheet'!$L$14:$O$34,4,0))","v":0},"-",{"$f":"IF(C58=0,0,VLOOKUP(C58,'Cover Sheet'!$D$10:$G$22,4,0))","v":0},{"$f":"IF(F58=0,0,VLOOKUP(F58,'Cover Sheet'!$D$10:$G$36,4,0))","v":0},null,null,0,7.53,"-",{"$f":"IF(AB58=0,\"-\",(AC58-0.2*AD58)^2/(AC58+0.8*AD58))","v":"-"},"-",null,"",0,"-",0,0,null,0,7.53,"-",{"$f":"IF(AN58=0,\"-\",(AO58-0.2*AP58)^2/(AO58+0.8*AP58))","v":"-"},"-",null,"",0,"-",0,0]
[41,null,null,null,{"$f":"IF($G59=0,0,VLOOKUP(C59,'Cover Sheet'!$D$10:$F$22,3,0))","v":0},null,0,{"$f":"IF($G59=0,0,VLOOKUP(F59,'Cover Sheet'!$D$10:$F$36,3,0))","v":0},null,{"$f":"IF(I59=0,0,VLOOKUP(I59,'Cover Sheet'!$L$10:$M$13,2,0))","v":0},0,null,{"$f":"IF(L59=0,0,VLOOKUP(L59,'Cover Sheet'!$L$14:$M$34,2,0))","v":0},0,null,{"$f":"IF(L59=\"\",0,VLOOKUP(L59,'Cover Sheet'!$L$14:$O$34,4,0))","v":0},"-",null,{"$f":"IF(R59=0,0,VLOOKUP(R59,'Cover Sheet'!$L$14:$M$34,2,0))","v":0},0,null,{"$f":"IF(R59=\"\",0,VLOOKUP(R59,'Cover Sheet'!$L$14:$O$34,4,0))","v":0},"-",{"$f":"IF(C59=0,0,VLOOKUP(C59,'Cover Sheet'!$D$10:$G$22,4,0))","v":0},{"$f":"IF(F59=0,0,VLOOKUP(F59,'Cover Sheet'!$D$10:$G$36,4,0))","v":0},null,null,0,7.53,"-",{"$f":"IF(AB59=0,\"-\",(AC59-0.2*AD59)^2/(AC59+0.8*AD59))","v":"-"},"-",null,"",0,"-",0,0,null,0,7.53,"-",{"$f":"IF(AN59=0,\"-\",(AO59-0.2*AP59)^2/(AO59+0.8*AP59))","v":"-"},"-",null,"",0,"-",0,0]
[42,null,null,null,{"$f":"IF($G60=0,0,VLOOKUP(C60,'Cover Sheet'!$D$10:$F$22,3,0))","v":0},null,0,{"$f":"IF($G60=0,0,VLOOKUP(F60,'Cover Sheet'!$D$10:$F$36,3,0))","v":0},null,{"$f":"IF(I60=0,0,VLOOKUP(I60,'Cover Sheet'!$L$10:$M$13,2,0))","v":0},0,null,{"$f":"IF(L60=0,0,VLOOKUP(L60,'Cover Sheet'!$L$14:$M$34,2,0))","v":0},0,null,{"$f":"IF(L60=\"\",0,VLOOKUP(L60,'Cover Sheet'!$L$14:$O$34,4,0))","v":0},"-",null,{"$f":"IF(R60=0,0,VLOOKUP(R60,'Cover Sheet'!$L$14:$M$34,2,0))","v":0},0,null,{"$f":"IF(R60=\"\",0,VLOOKUP(R60,'Cover Sheet'!$L$14:$O$34,4,0))","v":0},"-",{"$f":"IF(C60=0,0,VLOOKUP(C60,'Cover Sheet'!$D$10:$G$22,4,0))","v":0},{"$f":"IF(F60=0,0,VLOOKUP(F60,'Cover Sheet'!$D$10:$G$36,4,0))","v":0},null,null,0,7.53,"-","-","-",null,"",0,"-",0,0,null,0,7.53,"-","-","-",null,"",0,"-",0,0]
[43,null,null,null,{"$f":"IF($G61=0,0,VLOOKUP(C61,'Cover Sheet'!$D$10:$F$22,3,0))","v":0},null,0,{"$f":"IF($G61=0,0,VLOOKUP(F61,'Cover Sheet'!$D$10:$F$36,3,0))","v":0},null,{"$f":"IF(I61=0,0,VLOOKUP(I61,'Cover Sheet'!$L$10:$M$13,2,0))","v":0},0,null,{"$f":"IF(L61=0,0,VLOOKUP(L61,'Cover Sheet'!$L$14:$M$34,2,0))","v":0},0,null,{"$f":"IF(L61=\"\",0,VLOOKUP(L61,'Cover Sheet'!$L$14:$O$34,4,0))","v":0},"-",null,{"$f":"IF(R61=0,0,VLOOKUP(R61,'Cover Sheet'!$L$14:$M$34,2,0))","v":0},0,null,{"$f":"IF(R61=\"\",0,VLOOKUP(R61,'Cover Sheet'!$L$14:$O$34,4,0))","v":0},"-",{"$f":"IF(C61=0,0,VLOOKUP(C61,'Cover Sheet'!$D$10:$G$22,4,0))","v":0},{"$f":"IF(F61=0,0,VLOOKUP(F61,'Cover Sheet'!$D$10:$G$36,4,0))","v":0},null,null,0,7.53,"-","-","-",null,"",0,"-",0,0,null,0,7.53,"-","-","-",null,"",0,"-",0,0]
[44,null,null,null,{"$f":"IF($G62=0,0,VLOOKUP(C62,'Cover Sheet'!$D$10:$F$22,3,0))","v":0},null,0,{"$f":"IF($G62=0,0,VLOOKUP(F62,'Cover Sheet'!$D$10:$F$36,3,0))","v":0},null,{"$f":"IF(I62=0,0,VLOOKUP(I62,'Cover Sheet'!$L$10:$M$13,2,0))","v":0},0,null,{"$f":"IF(L62=0,0,VLOOKUP(L62,'Cover Sheet'!$L$14:$M$34,2,0))","v":0},0,null,{"$f":"IF(L62=\"\",0,VLOOKUP(L62,'Cover Sheet'!$L$14:$O$34,4,0))","v":0},"-",null,{"$f":"IF(R62=0,0,VLOOKUP(R62,'Cover Sheet'!$L$14:$M$34,2,0))","v":0},0,null,{"$f":"IF(R62=\"\",0,VLOOKUP(R62,'Cover Sheet'!$L$14:$O$34,4,0))","v":0},"-",{"$f":"IF(C62=0,0,VLOOKUP(C62,'Cover Sheet'!$D$10:$G$22,4,0))","v":0},{"$f":"IF(F62=0,0,VLOOKUP(F62,'Cover Sheet'!$D$10:$G$36,4,0))","v":0},null,null,0,7.53,"-","-","-",null,"",0,"-",0,0,null,0,7.53,"-","-","-",null,"",0,"-",0,0]
[45,null,null,null,{"$f":"IF($G63=0,0,VLOOKUP(C63,'Cover Sheet'!$D$10:$F$22,3,0))","v":0},null,0,{"$f":"IF($G63=0,0,VLOOKUP(F63,'Cover Sheet'!$D$10:$F$36,3,0))","v":0},null,{"$f":"IF(I63=0,0,VLOOKUP(I63,'Cover Sheet'!$L$10:$M$13,2,0))","v":0},0,null,{"$f":"IF(L63=0,0,VLOOKUP(L63,'Cover Sheet'!$L$14:$M$34,2,0))","v":0},0,null,{"$f":"IF(L63=\"\",0,VLOOKUP(L63,'Cover Sheet'!$L$14:$O$34,4,0))","v":0},"-",null,{"$f":"IF(R63=0,0,VLOOKUP(R63,'Cover Sheet'!$L$14:$M$34,2,0))","v":0},0,null,{"$f":"IF(R63=\"\",0,VLOOKUP(R63,'Cover Sheet'!$L$14:$O$34,4,0))","v":0},"-",{"$f":"IF(C63=0,0,VLOOKUP(C63,'Cover Sheet'!$D$10:$G$22,4,0))","v":0},{"$f":"IF(F63=0,0,VLOOKUP(F63,'Cover Sheet'!$D$10:$G$36,4,0))","v":0},null,null,0,7.53,"-","-","-",null,"",0,"-",0,0,null,0,7.53,"-","-","-",null,"",0,"-",0,0]
[46,null,null,null,{"$f":"IF($G64=0,0,VLOOKUP(C64,'Cover Sheet'!$D$10:$F$22,3,0))","v":0},null,0,{"$f":"IF($G64=0,0,VLOOKUP(F64,'Cover Sheet'!$D$10:$F$36,3,0))","v":0},null,{"$f":"IF(I64=0,0,VLOOKUP(I64,'Cover Sheet'!$L$10:$M$13,2,0))","v":0},0,null,{"$f":"IF(L64=0,0,VLOOKUP(L64,'Cover Sheet'!$L$14:$M$34,2,0))","v":0},0,null,{"$f":"IF(L64=\"\",0,VLOOKUP(L64,'Cover Sheet'!$L$14:$O$34,4,0))","v":0},"-",null,{"$f":"IF(R64=0,0,VLOOKUP(R64,'Cover Sheet'!$L$14:$M$34,2,0))","v":0},0,null,{"$f":"IF(R64=\"\",0,VLOOKUP(R64,'Cover Sheet'!$L$14:$O$34,4,0))","v":0},"-",{"$f":"IF(C64=0,0,VLOOKUP(C64,'Cover Sheet'!$D$10:$G$22,4,0))","v":0},{"$f":"IF(F64=0,0,VLOOKUP(F64,'Cover Sheet'!$D$10:$G$36,4,0))","v":0},null,null,0,7.53,"-","-","-",null,"",0,"-",0,0,null,0,7.53,"-","-","-",null,"",0,"-",0,0]
[47,null,null,null,{"$f":"IF($G65=0,0,VLOOKUP(C65,'Cover Sheet'!$D$10:$F$22,3,0))","v":0},null,0,{"$f":"IF($G65=0,0,VLOOKUP(F65,'Cover Sheet'!$D$10:$F$36,3,0))","v":0},null,{"$f":"IF(I65=0,0,VLOOKUP(I65,'Cover Sheet'!$L$10:$M$13,2,0))","v":0},0,null,{"$f":"IF(L65=0,0,VLOOKUP(L65,'Cover Sheet'!$L$14:$M$34,2,0))","v":0},0,null,{"$f":"IF(L65=\"\",0,VLOOKUP(L65,'Cover Sheet'!$L$14:$O$34,4,0))","v":0},"-",null,{"$f":"IF(R65=0,0,VLOOKUP(R65,'Cover Sheet'!$L$14:$M$34,2,0))","v":0},0,null,{"$f":"IF(R65=\"\",0,VLOOKUP(R65,'Cover Sheet'!$L$14:$O$34,4,0))","v":0},"-",{"$f":"IF(C65=0,0,VLOOKUP(C65,'Cover Sheet'!$D$10:$G$22,4,0))","v":0},{"$f":"IF(F65=0,0,VLOOKUP(F65,'Cover Sheet'!$D$10:$G$36,4,0))","v":0},null,null,0,7.53,"-","-","-",null,"",0,"-",0,0,null,0,7.53,"-","-","-",null,"",0,"-",0,0]
[48,null,null,null,{"$f":"IF($G66=0,0,VLOOKUP(C66,'Cover Sheet'!$D$10:$F$22,3,0))","v":0},null,0,{"$f":"IF($G66=0,0,VLOOKUP(F66,'Cover Sheet'!$D$10:$F$36,3,0))","v":0},null,{"$f":"IF(I66=0,0,VLOOKUP(I66,'Cover Sheet'!$L$10:$M$13,2,0))","v":0},0,null,{"$f":"IF(L66=0,0,VLOOKUP(L66,'Cover Sheet'!$L$14:$M$34,2,0))","v":0},0,null,{"$f":"IF(L66=\"\",0,VLOOKUP(L66,'Cover Sheet'!$L$14:$O$34,4,0))","v":0},"-",null,{"$f":"IF(R66=0,0,VLOOKUP(R66,'Cover Sheet'!$L$14:$M$34,2,0))","v":0},0,null,{"$f":"IF(R66=\"\",0,VLOOKUP(R66,'Cover Sheet'!$L$14:$O$34,4,0))","v":0},"-",{"$f":"IF(C66=0,0,VLOOKUP(C66,'Cover Sheet'!$D$10:$G$22,4,0))","v":0},{"$f":"IF(F66=0,0,VLOOKUP(F66,'Cover Sheet'!$D$10:$G$36,4,0))","v":0},null,null,0,7.53,"-","-","-",null,"",0,"-",0,0,null,0,7.53,"-","-","-",null,"",0,"-",0,0]
[49,null,null,null,{"$f":"IF($G67=0,0,VLOOKUP(C67,'Cover Sheet'!$D$10:$F$22,3,0))","v":0},null,0,{"$f":"IF($G67=0,0,VLOOKUP(F67,'Cover Sheet'!$D$10:$F$36,3,0))","v":0},null,{"$f":"IF(I67=0,0,VLOOKUP(I67,'Cover Sheet'!$L$10:$M$13,2,0))","v":0},0,null,{"$f":"IF(L67=0,0,VLOOKUP(L67,'Cover Sheet'!$L$14:$M$34,2,0))","v":0},0,null,{"$f":"IF(L67=\"\",0,VLOOKUP(L67,'Cover Sheet'!$L$14:$O$34,4,0))","v":0},"-",null,{"$f":"IF(R67=0,0,VLOOKUP(R67,'Cover Sheet'!$L$14:$M$34,2,0))","v":0},0,null,{"$f":"IF(R67=\"\",0,VLOOKUP(R67,'Cover Sheet'!$L$14:$O$34,4,0))","v":0},"-",{"$f":"IF(C67=0,0,VLOOKUP(C67,'Cover Sheet'!$D$10:$G$22,4,0))","v":0},{"$f":"IF(F67=0,0,VLOOKUP(F67,'Cover Sheet'!$D$10:$G$36,4,0))","v":0},null,null,0,7.53,"-","-","-",null,"",0,"-",0,0,null,0,7.53,"-","-","-",null,"",0,"-",0,0]
[50,null,null,null,{"$f":"IF($G68=0,0,VLOOKUP(C68,'Cover Sheet'!$D$10:$F$22,3,0))","v":0},null,0,{"$f":"IF($G68=0,0,VLOOKUP(F68,'Cover Sheet'!$D$10:$F$36,3,0))","v":0},null,{"$f":"IF(I68=0,0,VLOOKUP(I68,'Cover Sheet'!$L$10:$M$13,2,0))","v":0},0,null,{"$f":"IF(L68=0,0,VLOOKUP(L68,'Cover Sheet'!$L$14:$M$34,2,0))","v":0},0,null,{"$f":"IF(L68=\"\",0,VLOOKUP(L68,'Cover Sheet'!$L$14:$O$34,4,0))","v":0},"-",null,{"$f":"IF(R68=0,0,VLOOKUP(R68,'Cover Sheet'!$L$14:$M$34,2,0))","v":0},0,null,{"$f":"IF(R68=\"\",0,VLOOKUP(R68,'Cover Sheet'!$L$14:$O$34,4,0))","v":0},"-",{"$f":"IF(C68=0,0,VLOOKUP(C68,'Cover Sheet'!$D$10:$G$22,4,0))","v":0},{"$f":"IF(F68=0,0,VLOOKUP(F68,'Cover Sheet'!$D$10:$G$36,4,0))","v":0},null,null,0,7.53,"-","-","-",null,"",0,"-",0,0,null,0,7.53,"-","-","-",null,"",0,"-",0,0]
[51,null,null,null,{"$f":"IF($G69=0,0,VLOOKUP(C69,'Cover Sheet'!$D$10:$F$22,3,0))","v":0},null,{"$f":"D69","v":0},{"$f":"IF($G69=0,0,VLOOKUP(F69,'Cover Sheet'!$D$10:$F$36,3,0))","v":0},null,{"$f":"IF(I69=0,0,VLOOKUP(I69,'Cover Sheet'!$L$10:$M$13,2,0))","v":0},{"$f":"IF(J69>0,H69*(1-J69),H69)","v":0},null,{"$f":"IF(L69=0,0,VLOOKUP(L69,'Cover Sheet'!$L$14:$M$34,2,0))","v":0},{"$f":"IF(M69>0,ROUNDUP(K69*(1-M69),2),K69)","v":0},null,{"$f":"IF(L69=\"\",0,VLOOKUP(L69,'Cover Sheet'!$L$14:$O$34,4,0))","v":0},{"$f":"IF(L69=\"\",\"-\",IF(OR(L69=\"PP1\",L69=\"P2\"),P69*$D$10*E69*G69/12*43560,P69*$D$10*K69*G69/12*43560))","v":"-"},null,{"$f":"IF(R69=0,0,VLOOKUP(R69,'Cover Sheet'!$L$14:$M$34,2,0))","v":0},{"$f":"IF(S69>0,N69*(1-S69),N69)","v":0},null,{"$f":"IF(R69=\"\",0,VLOOKUP(R69,'Cover Sheet'!$L$14:$O$34,4,0))","v":0},{"$f":"IF(R69=\"\",\"-\",V69*$D$10*N69*G69/12*43560)","v":"-"},{"$f":"IF(C69=0,0,VLOOKUP(C69,'Cover Sheet'!$D$10:$G$22,4,0))","v":0},{"$f":"IF(F69=0,0,VLOOKUP(F69,'Cover Sheet'!$D$10:$G$36,4,0))","v":0},null,null,{"$f":"Y69","v":0},7.53,{"$f":"IF(AB69=0,\"-\",1000/AB69-10)","v":"-"},"-",{"$f":"Q69","v":"-"},null,{"$f":"IF(AG69=\"\",\"\",AF69*AG69)","v":""},{"$f":"IF(OR(AB69=0,L69=\"\"),0,12*AH69/43560/D69)","v":0},"-",{"$f":"IF(AB69=0,0,1000/(10+5*AC69+10*AJ69-10*(AJ69^2+1.25*AJ69*AC69)^(1/2)))","v":0},{"$f":"AK69-AB69","v":0},null,{"$f":"AK69","v":0},7.53,{"$f":"IF(AN69=0,\"-\",1000/AN69-10)","v":"-"},"-",{"$f":"W69","v":"-"},null,{"$f":"IF(AS69=\"\",\"\",AR69*AS69)","v":""},{"$f":"IF(OR(AN69=0,R69=\"\"),0,12*AT69/43560/D69)","v":0},"-",{"$f":"IF(AN69=0,0,1000/(10+5*AO69+10*AV69-10*(AV69^2+1.25*AV69*AO69)^(1/2)))","v":0},{"$f":"AW69-AN69","v":0}]
[52,null,null,null,{"$f":"IF($G70=0,0,VLOOKUP(C70,'Cover Sheet'!$D$10:$F$22,3,0))","v":0},null,0,{"$f":"IF($G70=0,0,VLOOKUP(F70,'Cover Sheet'!$D$10:$F$36,3,0))","v":0},null,{"$f":"IF(I70=0,0,VLOOKUP(I70,'Cover Sheet'!$L$10:$M$13,2,0))","v":0},0,null,{"$f":"IF(L70=0,0,VLOOKUP(L70,'Cover Sheet'!$L$14:$M$34,2,0))","v":0},0,null,{"$f":"IF(L70=\"\",0,VLOOKUP(L70,'Cover Sheet'!$L$14:$O$34,4,0))","v":0},"-",null,{"$f":"IF(R70=0,0,VLOOKUP(R70,'Cover Sheet'!$L$14:$M$34,2,0))","v":0},0,null,{"$f":"IF(R70=\"\",0,VLOOKUP(R70,'Cover Sheet'!$L$14:$O$34,4,0))","v":0},"-",{"$f":"IF(C70=0,0,VLOOKUP(C70,'Cover Sheet'!$D$10:$G$22,4,0))","v":0},{"$f":"IF(F70=0,0,VLOOKUP(F70,'Cover Sheet'!$D$10:$G$36,4,0))","v":0},null,null,0,7.53,"-","-","-",null,"",0,"-",0,0,null,0,7.53,"-","-","-",null,"",0,"-",0,0]
[53,null,null,null,{"$f":"IF($G71=0,0,VLOOKUP(C71,'Cover Sheet'!$D$10:$F$22,3,0))","v":0},null,0,{"$f":"IF($G71=0,0,VLOOKUP(F71,'Cover Sheet'!$D$10:$F$36,3,0))","v":0},null,{"$f":"IF(I71=0,0,VLOOKUP(I71,'Cover Sheet'!$L$10:$M$13,2,0))","v":0},0,null,{"$f":"IF(L71=0,0,VLOOKUP(L71,'Cover Sheet'!$L$14:$M$34,2,0))","v":0},0,null,{"$f":"IF(L71=\"\",0,VLOOKUP(L71,'Cover Sheet'!$L$14:$O$34,4,0))","v":0},"-",null,{"$f":"IF(R71=0,0,VLOOKUP(R71,'Cover Sheet'!$L$14:$M$34,2,0))","v":0},0,null,{"$f":"IF(R71=\"\",0,VLOOKUP(R71,'Cover Sheet'!$L$14:$O$34,4,0))","v":0},"-",{"$f":"IF(C71=0,0,VLOOKUP(C71,'Cover Sheet'!$D$10:$G$22,4,0))","v":0},{"$f":"IF(F71=0,0,VLOOKUP(F71,'Cover Sheet'!$D$10:$G$36,4,0))","v":0},null,null,0,7.53,"-",{"$f":"IF(AB71=0,\"-\",(AC71-0.2*AD71)^2/(AC71+0.8*AD71))","v":"-"},"-",null,"",0,"-",0,0,null,0,7.53,"-",{"$f":"IF(AN71=0,\"-\",(AO71-0.2*AP71)^2/(AO71+0.8*AP71))","v":"-"},"-",null,"",0,"-",0,0]
[54,null,null,null,{"$f":"IF($G72=0,0,VLOOKUP(C72,'Cover Sheet'!$D$10:$F$22,3,0))","v":0},null,0,{"$f":"IF($G72=0,0,VLOOKUP(F72,'Cover Sheet'!$D$10:$F$36,3,0))","v":0},null,{"$f":"IF(I72=0,0,VLOOKUP(I72,'Cover Sheet'!$L$10:$M$13,2,0))","v":0},0,null,{"$f":"IF(L72=0,0,VLOOKUP(L72,'Cover Sheet'!$L$14:$M$34,2,0))","v":0},0,null,{"$f":"IF(L72=\"\",0,VLOOKUP(L72,'Cover Sheet'!$L$14:$O$34,4,0))","v":0},"-",null,{"$f":"IF(R72=0,0,VLOOKUP(R72,'Cover Sheet'!$L$14:$M$34,2,0))","v":0},0,null,{"$f":"IF(R72=\"\",0,VLOOKUP(R72,'Cover Sheet'!$L$14:$O$34,4,0))","v":0},"-",{"$f":"IF(C72=0,0,VLOOKUP(C72,'Cover Sheet'!$D$10:$G$22,4,0))","v":0},{"$f":"IF(F72=0,0,VLOOKUP(F72,'Cover Sheet'!$D$10:$G$36,4,0))","v":0},null,null,0,7.53,"-",{"$f":"IF(AB72=0,\"-\",(AC72-0.2*AD72)^2/(AC72+0.8*AD72))","v":"-"},"-",null,"",0,"-",0,0,null,0,7.53,"-",{"$f":"IF(AN72=0,\"-\",(AO72-0.2*AP72)^2/(AO72+0.8*AP72))","v":"-"},"-",null,"",0,"-",0,0]
[55,null,null,null,{"$f":"IF($G73=0,0,VLOOKUP(C73,'Cover Sheet'!$D$10:$F$22,3,0))","v":0},null,0,{"$f":"IF($G73=0,0,VLOOKUP(F73,'Cover Sheet'!$D$10:$F$36,3,0))","v":0},null,{"$f":"IF(I73=0,0,VLOOKUP(I73,'Cover Sheet'!$L$10:$M$13,2,0))","v":0},0,null,{"$f":"IF(L73=0,0,VLOOKUP(L73,'Cover Sheet'!$L$14:$M$34,2,0))","v":0},0,null,{"$f":"IF(L73=\"\",0,VLOOKUP(L73,'Cover Sheet'!$L$14:$O$34,4,0))","v":0},"-",null,{"$f":"IF(R73=0,0,VLOOKUP(R73,'Cover Sheet'!$L$14:$M$34,2,0))","v":0},0,null,{"$f":"IF(R73=\"\",0,VLOOKUP(R73,'Cover Sheet'!$L$14:$O$34,4,0))","v":0},"-",{"$f":"IF(C73=0,0,VLOOKUP(C73,'Cover Sheet'!$D$10:$G$22,4,0))","v":0},{"$f":"IF(F73=0,0,VLOOKUP(F73,'Cover Sheet'!$D$10:$G$36,4,0))","v":0},null,null,0,7.53,"-","-","-",null,"",0,"-",0,0,null,0,7.53,"-","-","-",null,"",0,"-",0,0]
[56,null,null,null,{"$f":"IF($G74=0,0,VLOOKUP(C74,'Cover Sheet'!$D$10:$F$22,3,0))","v":0},null,0,{"$f":"IF($G74=0,0,VLOOKUP(F74,'Cover Sheet'!$D$10:$F$36,3,0))","v":0},null,{"$f":"IF(I74=0,0,VLOOKUP(I74,'Cover Sheet'!$L$10:$M$13,2,0))","v":0},0,null,{"$f":"IF(L74=0,0,VLOOKUP(L74,'Cover Sheet'!$L$14:$M$34,2,0))","v":0},0,null,{"$f":"IF(L74=\"\",0,VLOOKUP(L74,'Cover Sheet'!$L$14:$O$34,4,0))","v":0},"-",null,{"$f":"IF(R74=0,0,VLOOKUP(R74,'Cover Sheet'!$L$14:$M$34,2,0))","v":0},0,null,{"$f":"IF(R74=\"\",0,VLOOKUP(R74,'Cover Sheet'!$L$14:$O$34,4,0))","v":0},"-",{"$f":"IF(C74=0,0,VLOOKUP(C74,'Cover Sheet'!$D$10:$G$22,4,0))","v":0},{"$f":"IF(F74=0,0,VLOOKUP(F74,'Cover Sheet'!$D$10:$G$36,4,0))","v":0},null,null,0,7.53,"-","-","-",null,"",0,"-",0,0,null,0,7.53,"-","-","-",null,"",0,"-",0,0]
[57,null,null,null,{"$f":"IF($G75=0,0,VLOOKUP(C75,'Cover Sheet'!$D$10:$F$22,3,0))","v":0},null,0,{"$f":"IF($G75=0,0,VLOOKUP(F75,'Cover Sheet'!$D$10:$F$36,3,0))","v":0},null,{"$f":"IF(I75=0,0,VLOOKUP(I75,'Cover Sheet'!$L$10:$M$13,2,0))","v":0},0,null,{"$f":"IF(L75=0,0,VLOOKUP(L75,'Cover Sheet'!$L$14:$M$34,2,0))","v":0},0,null,{"$f":"IF(L75=\"\",0,VLOOKUP(L75,'Cover Sheet'!$L$14:$O$34,4,0))","v":0},"-",null,{"$f":"IF(R75=0,0,VLOOKUP(R75,'Cover Sheet'!$L$14:$M$34,2,0))","v":0},0,null,{"$f":"IF(R75=\"\",0,VLOOKUP(R75,'Cover Sheet'!$L$14:$O$34,4,0))","v":0},"-",{"$f":"IF(C75=0,0,VLOOKUP(C75,'Cover Sheet'!$D$10:$G$22,4,0))","v":0},{"$f":"IF(F75=0,0,VLOOKUP(F75,'Cover Sheet'!$D$10:$G$36,4,0))","v":0},null,null,0,7.53,"-","-","-",null,"",0,"-",0,0,null,0,7.53,"-","-","-",null,"",0,"-",0,0]
[58,null,null,null,{"$f":"IF($G76=0,0,VLOOKUP(C76,'Cover Sheet'!$D$10:$F$22,3,0))","v":0},null,0,{"$f":"IF($G76=0,0,VLOOKUP(F76,'Cover Sheet'!$D$10:$F$36,3,0))","v":0},null,{"$f":"IF(I76=0,0,VLOOKUP(I76,'Cover Sheet'!$L$10:$M$13,2,0))","v":0},0,null,{"$f":"IF(L76=0,0,VLOOKUP(L76,'Cover Sheet'!$L$14:$M$34,2,0))","v":0},0,null,{"$f":"IF(L76=\"\",0,VLOOKUP(L76,'Cover Sheet'!$L$14:$O$34,4,0))","v":0},"-",null,{"$f":"IF(R76=0,0,VLOOKUP(R76,'Cover Sheet'!$L$14:$M$34,2,0))","v":0},0,null,{"$f":"IF(R76=\"\",0,VLOOKUP(R76,'Cover Sheet'!$L$14:$O$34,4,0))","v":0},"-",{"$f":"IF(C76=0,0,VLOOKUP(C76,'Cover Sheet'!$D$10:$G$22,4,0))","v":0},{"$f":"IF(F76=0,0,VLOOKUP(F76,'Cover Sheet'!$D$10:$G$36,4,0))","v":0},null,null,0,7.53,"-","-","-",null,"",0,"-",0,0,null,0,7.53,"-","-","-",null,"",0,"-",0,0]
[59,null,null,null,{"$f":"IF($G77=0,0,VLOOKUP(C77,'Cover Sheet'!$D$10:$F$22,3,0))","v":0},null,0,{"$f":"IF($G77=0,0,VLOOKUP(F77,'Cover Sheet'!$D$10:$F$36,3,0))","v":0},null,{"$f":"IF(I77=0,0,VLOOKUP(I77,'Cover Sheet'!$L$10:$M$13,2,0))","v":0},0,null,{"$f":"IF(L77=0,0,VLOOKUP(L77,'Cover Sheet'!$L$14:$M$34,2,0))","v":0},0,null,{"$f":"IF(L77=\"\",0,VLOOKUP(L77,'Cover Sheet'!$L$14:$O$34,4,0))","v":0},"-",null,{"$f":"IF(R77=0,0,VLOOKUP(R77,'Cover Sheet'!$L$14:$M$34,2,0))","v":0},0,null,{"$f":"IF(R77=\"\",0,VLOOKUP(R77,'Cover Sheet'!$L$14:$O$34,4,0))","v":0},"-",{"$f":"IF(C77=0,0,VLOOKUP(C77,'Cover Sheet'!$D$10:$G$22,4,0))","v":0},{"$f":"IF(F77=0,0,VLOOKUP(F77,'Cover Sheet'!$D$10:$G$36,4,0))","v":0},null,null,0,7.53,"-","-","-",null,"",0,"-",0,0,null,0,7.53,"-","-","-",null,"",0,"-",0,0]
[60,null,null,null,{"$f":"IF($G78=0,0,VLOOKUP(C78,'Cover Sheet'!$D$10:$F$22,3,0))","v":0},null,0,{"$f":"IF($G78=0,0,VLOOKUP(F78,'Cover Sheet'!$D$10:$F$36,3,0))","v":0},null,{"$f":"IF(I78=0,0,VLOOKUP(I78,'Cover Sheet'!$L$10:$M$13,2,0))","v":0},0,null,{"$f":"IF(L78=0,0,VLOOKUP(L78,'Cover Sheet'!$L$14:$M$34,2,0))","v":0},0,null,{"$f":"IF(L78=\"\",0,VLOOKUP(L78,'Cover Sheet'!$L$14:$O$34,4,0))","v":0},"-",null,{"$f":"IF(R78=0,0,VLOOKUP(R78,'Cover Sheet'!$L$14:$M$34,2,0))","v":0},0,null,{"$f":"IF(R78=\"\",0,VLOOKUP(R78,'Cover Sheet'!$L$14:$O$34,4,0))","v":0},"-",{"$f":"IF(C78=0,0,VLOOKUP(C78,'Cover Sheet'!$D$10:$G$22,4,0))","v":0},{"$f":"IF(F78=0,0,VLOOKUP(F78,'Cover Sheet'!$D$10:$G$36,4,0))","v":0},null,null,0,7.53,"-","-","-",null,"",0,"-",0,0,null,0,7.53,"-","-","-",null,"",0,"-",0,0]
[61,null,null,null,{"$f":"IF($G79=0,0,VLOOKUP(C79,'Cover Sheet'!$D$10:$F$22,3,0))","v":0},null,0,{"$f":"IF($G79=0,0,VLOOKUP(F79,'Cover Sheet'!$D$10:$F$36,3,0))","v":0},null,{"$f":"IF(I79=0,0,VLOOKUP(I79,'Cover Sheet'!$L$10:$M$13,2,0))","v":0},0,null,{"$f":"IF(L79=0,0,VLOOKUP(L79,'Cover Sheet'!$L$14:$M$34,2,0))","v":0},0,null,{"$f":"IF(L79=\"\",0,VLOOKUP(L79,'Cover Sheet'!$L$14:$O$34,4,0))","v":0},"-",null,{"$f":"IF(R79=0,0,VLOOKUP(R79,'Cover Sheet'!$L$14:$M$34,2,0))","v":0},0,null,{"$f":"IF(R79=\"\",0,VLOOKUP(R79,'Cover Sheet'!$L$14:$O$34,4,0))","v":0},"-",{"$f":"IF(C79=0,0,VLOOKUP(C79,'Cover Sheet'!$D$10:$G$22,4,0))","v":0},{"$f":"IF(F79=0,0,VLOOKUP(F79,'Cover Sheet'!$D$10:$G$36,4,0))","v":0},null,null,0,7.53,"-",{"$f":"IF(AB79=0,\"-\",(AC79-0.2*AD79)^2/(AC79+0.8*AD79))","v":"-"},"-",null,"",0,"-",0,0,null,0,7.53,"-",{"$f":"IF(AN79=0,\"-\",(AO79-0.2*AP79)^2/(AO79+0.8*AP79))","v":"-"},"-",null,"",0,"-",0,0]
[62,null,null,null,{"$f":"IF($G80=0,0,VLOOKUP(C80,'Cover Sheet'!$D$10:$F$22,3,0))","v":0},null,0,{"$f":"IF($G80=0,0,VLOOKUP(F80,'Cover Sheet'!$D$10:$F$36,3,0))","v":0},null,{"$f":"IF(I80=0,0,VLOOKUP(I80,'Cover Sheet'!$L$10:$M$13,2,0))","v":0},0,null,{"$f":"IF(L80=0,0,VLOOKUP(L80,'Cover Sheet'!$L$14:$M$34,2,0))","v":0},0,null,{"$f":"IF(L80=\"\",0,VLOOKUP(L80,'Cover Sheet'!$L$14:$O$34,4,0))","v":0},"-",null,{"$f":"IF(R80=0,0,VLOOKUP(R80,'Cover Sheet'!$L$14:$M$34,2,0))","v":0},0,null,{"$f":"IF(R80=\"\",0,VLOOKUP(R80,'Cover Sheet'!$L$14:$O$34,4,0))","v":0},"-",{"$f":"IF(C80=0,0,VLOOKUP(C80,'Cover Sheet'!$D$10:$G$22,4,0))","v":0},{"$f":"IF(F80=0,0,VLOOKUP(F80,'Cover Sheet'!$D$10:$G$36,4,0))","v":0},null,null,0,7.53,"-",{"$f":"IF(AB80=0,\"-\",(AC80-0.2*AD80)^2/(AC80+0.8*AD80))","v":"-"},"-",null,"",0,"-",0,0,null,0,7.53,"-",{"$f":"IF(AN80=0,\"-\",(AO80-0.2*AP80)^2/(AO80+0.8*AP80))","v":"-"},"-",null,"",0,"-",0,0]
[63,null,null,null,{"$f":"IF($G81=0,0,VLOOKUP(C81,'Cover Sheet'!$D$10:$F$22,3,0))","v":0},null,0,{"$f":"IF($G81=0,0,VLOOKUP(F81,'Cover Sheet'!$D$10:$F$36,3,0))","v":0},null,{"$f":"IF(I81=0,0,VLOOKUP(I81,'Cover Sheet'!$L$10:$M$13,2,0))","v":0},0,null,{"$f":"IF(L81=0,0,VLOOKUP(L81,'Cover Sheet'!$L$14:$M$34,2,0))","v":0},0,null,{"$f":"IF(L81=\"\",0,VLOOKUP(L81,'Cover Sheet'!$L$14:$O$34,4,0))","v":0},"-",null,{"$f":"IF(R81=0,0,VLOOKUP(R81,'Cover Sheet'!$L$14:$M$34,2,0))","v":0},0,null,{"$f":"IF(R81=\"\",0,VLOOKUP(R81,'Cover Sheet'!$L$14:$O$34,4,0))","v":0},"-",{"$f":"IF(C81=0,0,VLOOKUP(C81,'Cover Sheet'!$D$10:$G$22,4,0))","v":0},{"$f":"IF(F81=0,0,VLOOKUP(F81,'Cover Sheet'!$D$10:$G$36,4,0))","v":0},null,null,0,7.53,"-","-","-",null,"",0,"-",0,0,null,0,7.53,"-","-","-",null,"",0,"-",0,0]
[64,null,null,null,{"$f":"IF($G82=0,0,VLOOKUP(C82,'Cover Sheet'!$D$10:$F$22,3,0))","v":0},null,0,{"$f":"IF($G82=0,0,VLOOKUP(F82,'Cover Sheet'!$D$10:$F$36,3,0))","v":0},null,{"$f":"IF(I82=0,0,VLOOKUP(I82,'Cover Sheet'!$L$10:$M$13,2,0))","v":0},0,null,{"$f":"IF(L82=0,0,VLOOKUP(L82,'Cover Sheet'!$L$14:$M$34,2,0))","v":0},0,null,{"$f":"IF(L82=\"\",0,VLOOKUP(L82,'Cover Sheet'!$L$14:$O$34,4,0))","v":0},"-",null,{"$f":"IF(R82=0,0,VLOOKUP(R82,'Cover Sheet'!$L$14:$M$34,2,0))","v":0},0,null,{"$f":"IF(R82=\"\",0,VLOOKUP(R82,'Cover Sheet'!$L$14:$O$34,4,0))","v":0},"-",{"$f":"IF(C82=0,0,VLOOKUP(C82,'Cover Sheet'!$D$10:$G$22,4,0))","v":0},{"$f":"IF(F82=0,0,VLOOKUP(F82,'Cover Sheet'!$D$10:$G$36,4,0))","v":0},null,null,0,7.53,"-","-","-",null,"",0,"-",0,0,null,0,7.53,"-","-","-",null,"",0,"-",0,0]
[65,null,null,null,{"$f":"IF($G83=0,0,VLOOKUP(C83,'Cover Sheet'!$D$10:$F$22,3,0))","v":0},null,0,{"$f":"IF($G83=0,0,VLOOKUP(F83,'Cover Sheet'!$D$10:$F$36,3,0))","v":0},null,{"$f":"IF(I83=0,0,VLOOKUP(I83,'Cover Sheet'!$L$10:$M$13,2,0))","v":0},0,null,{"$f":"IF(L83=0,0,VLOOKUP(L83,'Cover Sheet'!$L$14:$M$34,2,0))","v":0},0,null,{"$f":"IF(L83=\"\",0,VLOOKUP(L83,'Cover Sheet'!$L$14:$O$34,4,0))","v":0},"-",null,{"$f":"IF(R83=0,0,VLOOKUP(R83,'Cover Sheet'!$L$14:$M$34,2,0))","v":0},0,null,{"$f":"IF(R83=\"\",0,VLOOKUP(R83,'Cover Sheet'!$L$14:$O$34,4,0))","v":0},"-",{"$f":"IF(C83=0,0,VLOOKUP(C83,'Cover Sheet'!$D$10:$G$22,4,0))","v":0},{"$f":"IF(F83=0,0,VLOOKUP(F83,'Cover Sheet'!$D$10:$G$36,4,0))","v":0},null,null,0,7.53,"-","-","-",null,"",0,"-",0,0,null,0,7.53,"-","-","-",null,"",0,"-",0,0]
[66,null,null,null,{"$f":"IF($G84=0,0,VLOOKUP(C84,'Cover Sheet'!$D$10:$F$22,3,0))","v":0},null,0,{"$f":"IF($G84=0,0,VLOOKUP(F84,'Cover Sheet'!$D$10:$F$36,3,0))","v":0},null,{"$f":"IF(I84=0,0,VLOOKUP(I84,'Cover Sheet'!$L$10:$M$13,2,0))","v":0},0,null,{"$f":"IF(L84=0,0,VLOOKUP(L84,'Cover Sheet'!$L$14:$M$34,2,0))","v":0},0,null,{"$f":"IF(L84=\"\",0,VLOOKUP(L84,'Cover Sheet'!$L$14:$O$34,4,0))","v":0},"-",null,{"$f":"IF(R84=0,0,VLOOKUP(R84,'Cover Sheet'!$L$14:$M$34,2,0))","v":0},0,null,{"$f":"IF(R84=\"\",0,VLOOKUP(R84,'Cover Sheet'!$L$14:$O$34,4,0))","v":0},"-",{"$f":"IF(C84=0,0,VLOOKUP(C84,'Cover Sheet'!$D$10:$G$22,4,0))","v":0},{"$f":"IF(F84=0,0,VLOOKUP(F84,'Cover Sheet'!$D$10:$G$36,4,0))","v":0},null,null,0,7.53,"-","-","-",null,"",0,{"$f":"IF(AB84=0,\"-\",IF(AE84-AI84<0,0,AE84-AI84))","v":"-"},0,0,null,0,7.53,"-","-","-",null,"",0,{"$f":"IF(AN84=0,\"-\",IF(AQ84-AU84<0,0,AQ84-AU84))","v":"-"},0,0]
[67,null,null,null,{"$f":"IF($G85=0,0,VLOOKUP(C85,'Cover Sheet'!$D$10:$F$22,3,0))","v":0},null,0,{"$f":"IF($G85=0,0,VLOOKUP(F85,'Cover Sheet'!$D$10:$F$36,3,0))","v":0},null,{"$f":"IF(I85=0,0,VLOOKUP(I85,'Cover Sheet'!$L$10:$M$13,2,0))","v":0},0,null,{"$f":"IF(L85=0,0,VLOOKUP(L85,'Cover Sheet'!$L$14:$M$34,2,0))","v":0},0,null,{"$f":"IF(L85=\"\",0,VLOOKUP(L85,'Cover Sheet'!$L$14:$O$34,4,0))","v":0},"-",null,{"$f":"IF(R85=0,0,VLOOKUP(R85,'Cover Sheet'!$L$14:$M$34,2,0))","v":0},0,null,{"$f":"IF(R85=\"\",0,VLOOKUP(R85,'Cover Sheet'!$L$14:$O$34,4,0))","v":0},"-",{"$f":"IF(C85=0,0,VLOOKUP(C85,'Cover Sheet'!$D$10:$G$22,4,0))","v":0},{"$f":"IF(F85=0,0,VLOOKUP(F85,'Cover Sheet'!$D$10:$G$36,4,0))","v":0},null,null,0,7.53,"-","-","-",null,"",0,"-",0,0,null,0,7.53,"-","-","-",null,"",0,"-",0,0]
[68,null,null,null,{"$f":"IF($G86=0,0,VLOOKUP(C86,'Cover Sheet'!$D$10:$F$22,3,0))","v":0},null,0,{"$f":"IF($G86=0,0,VLOOKUP(F86,'Cover Sheet'!$D$10:$F$36,3,0))","v":0},null,{"$f":"IF(I86=0,0,VLOOKUP(I86,'Cover Sheet'!$L$10:$M$13,2,0))","v":0},0,null,{"$f":"IF(L86=0,0,VLOOKUP(L86,'Cover Sheet'!$L$14:$M$34,2,0))","v":0},0,null,{"$f":"IF(L86=\"\",0,VLOOKUP(L86,'Cover Sheet'!$L$14:$O$34,4,0))","v":0},"-",null,{"$f":"IF(R86=0,0,VLOOKUP(R86,'Cover Sheet'!$L$14:$M$34,2,0))","v":0},0,null,{"$f":"IF(R86=\"\",0,VLOOKUP(R86,'Cover Sheet'!$L$14:$O$34,4,0))","v":0},"-",{"$f":"IF(C86=0,0,VLOOKUP(C86,'Cover Sheet'!$D$10:$G$22,4,0))","v":0},{"$f":"IF(F86=0,0,VLOOKUP(F86,'Cover Sheet'!$D$10:$G$36,4,0))","v":0},null,null,0,7.53,"-","-","-",null,"",0,"-",0,0,null,0,7.53,"-","-","-",null,"",0,"-",0,0]
[69,null,null,null,{"$f":"IF($G87=0,0,VLOOKUP(C87,'Cover Sheet'!$D$10:$F$22,3,0))","v":0},null,{"$f":"D87","v":0},{"$f":"IF($G87=0,0,VLOOKUP(F87,'Cover Sheet'!$D$10:$F$36,3,0))","v":0},null,{"$f":"IF(I87=0,0,VLOOKUP(I87,'Cover Sheet'!$L$10:$M$13,2,0))","v":0},{"$f":"IF(J87>0,H87*(1-J87),H87)","v":0},null,{"$f":"IF(L87=0,0,VLOOKUP(L87,'Cover Sheet'!$L$14:$M$34,2,0))","v":0},{"$f":"IF(M87>0,ROUNDUP(K87*(1-M87),2),K87)","v":0},null,{"$f":"IF(L87=\"\",0,VLOOKUP(L87,'Cover Sheet'!$L$14:$O$34,4,0))","v":0},{"$f":"IF(L87=\"\",\"-\",IF(OR(L87=\"PP1\",L87=\"P2\"),P87*$D$10*E87*G87/12*43560,P87*$D$10*K87*G87/12*43560))","v":"-"},null,{"$f":"IF(R87=0,0,VLOOKUP(R87,'Cover Sheet'!$L$14:$M$34,2,0))","v":0},{"$f":"IF(S87>0,N87*(1-S87),N87)","v":0},null,{"$f":"IF(R87=\"\",0,VLOOKUP(R87,'Cover Sheet'!$L$14:$O$34,4,0))","v":0},{"$f":"IF(R87=\"\",\"-\",V87*$D$10*N87*G87/12*43560)","v":"-"},{"$f":"IF(C87=0,0,VLOOKUP(C87,'Cover Sheet'!$D$10:$G$22,4,0))","v":0},{"$f":"IF(F87=0,0,VLOOKUP(F87,'Cover Sheet'!$D$10:$G$36,4,0))","v":0},null,null,{"$f":"Y87","v":0},7.53,{"$f":"IF(AB87=0,\"-\",1000/AB87-10)","v":"-"},"-",{"$f":"Q87","v":"-"},null,{"$f":"IF(AG87=\"\",\"\",AF87*AG87)","v":""},{"$f":"IF(OR(AB87=0,L87=\"\"),0,12*AH87/43560/D87)","v":0},"-",{"$f":"IF(AB87=0,0,1000/(10+5*AC87+10*AJ87-10*(AJ87^2+1.25*AJ87*AC87)^(1/2)))","v":0},{"$f":"AK87-AB87","v":0},null,{"$f":"AK87","v":0},7.53,{"$f":"IF(AN87=0,\"-\",1000/AN87-10)","v":"-"},"-",{"$f":"W87","v":"-"},null,{"$f":"IF(AS87=\"\",\"\",AR87*AS87)","v":""},{"$f":"IF(OR(AN87=0,R87=\"\"),0,12*AT87/43560/D87)","v":0},"-",{"$f":"IF(AN87=0,0,1000/(10+5*AO87+10*AV87-10*(AV87^2+1.25*AV87*AO87)^(1/2)))","v":0},{"$f":"AW87-AN87","v":0}]
[70,null,null,null,{"$f":"IF($G88=0,0,VLOOKUP(C88,'Cover Sheet'!$D$10:$F$22,3,0))","v":0},null,0,{"$f":"IF($G88=0,0,VLOOKUP(F88,'Cover Sheet'!$D$10:$F$36,3,0))","v":0},null,{"$f":"IF(I88=0,0,VLOOKUP(I88,'Cover Sheet'!$L$10:$M$13,2,0))","v":0},0,null,{"$f":"IF(L88=0,0,VLOOKUP(L88,'Cover Sheet'!$L$14:$M$34,2,0))","v":0},0,null,{"$f":"IF(L88=\"\",0,VLOOKUP(L88,'Cover Sheet'!$L$14:$O$34,4,0))","v":0},"-",null,{"$f":"IF(R88=0,0,VLOOKUP(R88,'Cover Sheet'!$L$14:$M$34,2,0))","v":0},0,null,{"$f":"IF(R88=\"\",0,VLOOKUP(R88,'Cover Sheet'!$L$14:$O$34,4,0))","v":0},"-",{"$f":"IF(C88=0,0,VLOOKUP(C88,'Cover Sheet'!$D$10:$G$22,4,0))","v":0},{"$f":"IF(F88=0,0,VLOOKUP(F88,'Cover Sheet'!$D$10:$G$36,4,0))","v":0},null,null,0,7.53,"-","-","-",null,"",0,"-",0,0,null,0,7.53,"-","-","-",null,"",0,"-",0,0]
[71,null,null,null,{"$f":"IF($G89=0,0,VLOOKUP(C89,'Cover Sheet'!$D$10:$F$22,3,0))","v":0},null,0,{"$f":"IF($G89=0,0,VLOOKUP(F89,'Cover Sheet'!$D$10:$F$36,3,0))","v":0},null,{"$f":"IF(I89=0,0,VLOOKUP(I89,'Cover Sheet'!$L$10:$M$13,2,0))","v":0},0,null,{"$f":"IF(L89=0,0,VLOOKUP(L89,'Cover Sheet'!$L$14:$M$34,2,0))","v":0},0,null,{"$f":"IF(L89=\"\",0,VLOOKUP(L89,'Cover Sheet'!$L$14:$O$34,4,0))","v":0},"-",null,{"$f":"IF(R89=0,0,VLOOKUP(R89,'Cover Sheet'!$L$14:$M$34,2,0))","v":0},0,null,{"$f":"IF(R89=\"\",0,VLOOKUP(R89,'Cover Sheet'!$L$14:$O$34,4,0))","v":0},"-",{"$f":"IF(C89=0,0,VLOOKUP(C89,'Cover Sheet'!$D$10:$G$22,4,0))","v":0},{"$f":"IF(F89=0,0,VLOOKUP(F89,'Cover Sheet'!$D$10:$G$36,4,0))","v":0},null,null,0,7.53,"-","-","-",null,"",0,"-",0,0,null,0,7.53,"-","-","-",null,"",0,"-",0,0]
[72,null,null,null,{"$f":"IF($G90=0,0,VLOOKUP(C90,'Cover Sheet'!$D$10:$F$22,3,0))","v":0},null,0,{"$f":"IF($G90=0,0,VLOOKUP(F90,'Cover Sheet'!$D$10:$F$36,3,0))","v":0},null,{"$f":"IF(I90=0,0,VLOOKUP(I90,'Cover Sheet'!$L$10:$M$13,2,0))","v":0},0,null,{"$f":"IF(L90=0,0,VLOOKUP(L90,'Cover Sheet'!$L$14:$M$34,2,0))","v":0},0,null,{"$f":"IF(L90=\"\",0,VLOOKUP(L90,'Cover Sheet'!$L$14:$O$34,4,0))","v":0},"-",null,{"$f":"IF(R90=0,0,VLOOKUP(R90,'Cover Sheet'!$L$14:$M$34,2,0))","v":0},0,null,{"$f":"IF(R90=\"\",0,VLOOKUP(R90,'Cover Sheet'!$L$14:$O$34,4,0))","v":0},"-",{"$f":"IF(C90=0,0,VLOOKUP(C90,'Cover Sheet'!$D$10:$G$22,4,0))","v":0},{"$f":"IF(F90=0,0,VLOOKUP(F90,'Cover Sheet'!$D$10:$G$36,4,0))","v":0},null,null,0,7.53,"-","-","-",null,"",0,"-",0,0,null,0,7.53,"-","-","-",null,"",0,"-",0,0]
[73,null,null,null,{"$f":"IF($G91=0,0,VLOOKUP(C91,'Cover Sheet'!$D$10:$F$22,3,0))","v":0},null,0,{"$f":"IF($G91=0,0,VLOOKUP(F91,'Cover Sheet'!$D$10:$F$36,3,0))","v":0},null,{"$f":"IF(I91=0,0,VLOOKUP(I91,'Cover Sheet'!$L$10:$M$13,2,0))","v":0},0,null,{"$f":"IF(L91=0,0,VLOOKUP(L91,'Cover Sheet'!$L$14:$M$34,2,0))","v":0},0,null,{"$f":"IF(L91=\"\",0,VLOOKUP(L91,'Cover Sheet'!$L$14:$O$34,4,0))","v":0},"-",null,{"$f":"IF(R91=0,0,VLOOKUP(R91,'Cover Sheet'!$L$14:$M$34,2,0))","v":0},0,null,{"$f":"IF(R91=\"\",0,VLOOKUP(R91,'Cover Sheet'!$L$14:$O$34,4,0))","v":0},"-",{"$f":"IF(C91=0,0,VLOOKUP(C91,'Cover Sheet'!$D$10:$G$22,4,0))","v":0},{"$f":"IF(F91=0,0,VLOOKUP(F91,'Cover Sheet'!$D$10:$G$36,4,0))","v":0},null,null,0,7.53,"-","-","-",null,"",0,"-",0,0,null,0,7.53,"-","-","-",null,"",0,"-",0,0]
[74,null,null,null,{"$f":"IF($G92=0,0,VLOOKUP(C92,'Cover Sheet'!$D$10:$F$22,3,0))","v":0},null,0,{"$f":"IF($G92=0,0,VLOOKUP(F92,'Cover Sheet'!$D$10:$F$36,3,0))","v":0},null,{"$f":"IF(I92=0,0,VLOOKUP(I92,'Cover Sheet'!$L$10:$M$13,2,0))","v":0},0,null,{"$f":"IF(L92=0,0,VLOOKUP(L92,'Cover Sheet'!$L$14:$M$34,2,0))","v":0},0,null,{"$f":"IF(L92=\"\",0,VLOOKUP(L92,'Cover Sheet'!$L$14:$O$34,4,0))","v":0},"-",null,{"$f":"IF(R92=0,0,VLOOKUP(R92,'Cover Sheet'!$L$14:$M$34,2,0))","v":0},0,null,{"$f":"IF(R92=\"\",0,VLOOKUP(R92,'Cover Sheet'!$L$14:$O$34,4,0))","v":0},"-",{"$f":"IF(C92=0,0,VLOOKUP(C92,'Cover Sheet'!$D$10:$G$22,4,0))","v":0},{"$f":"IF(F92=0,0,VLOOKUP(F92,'Cover Sheet'!$D$10:$G$36,4,0))","v":0},null,null,0,7.53,"-","-","-",null,"",0,"-",0,0,null,0,7.53,"-","-","-",null,"",0,"-",0,0]
[75,null,null,null,{"$f":"IF($G93=0,0,VLOOKUP(C93,'Cover Sheet'!$D$10:$F$22,3,0))","v":0},null,0,{"$f":"IF($G93=0,0,VLOOKUP(F93,'Cover Sheet'!$D$10:$F$36,3,0))","v":0},null,{"$f":"IF(I93=0,0,VLOOKUP(I93,'Cover Sheet'!$L$10:$M$13,2,0))","v":0},0,null,{"$f":"IF(L93=0,0,VLOOKUP(L93,'Cover Sheet'!$L$14:$M$34,2,0))","v":0},0,null,{"$f":"IF(L93=\"\",0,VLOOKUP(L93,'Cover Sheet'!$L$14:$O$34,4,0))","v":0},"-",null,{"$f":"IF(R93=0,0,VLOOKUP(R93,'Cover Sheet'!$L$14:$M$34,2,0))","v":0},0,null,{"$f":"IF(R93=\"\",0,VLOOKUP(R93,'Cover Sheet'!$L$14:$O$34,4,0))","v":0},"-",{"$f":"IF(C93=0,0,VLOOKUP(C93,'Cover Sheet'!$D$10:$G$22,4,0))","v":0},{"$f":"IF(F93=0,0,VLOOKUP(F93,'Cover Sheet'!$D$10:$G$36,4,0))","v":0},null,null,0,7.53,"-","-","-",null,"",0,"-",0,0,null,0,7.53,"-","-","-",null,"",0,"-",0,0]
[76,null,null,null,{"$f":"IF($G94=0,0,VLOOKUP(C94,'Cover Sheet'!$D$10:$F$22,3,0))","v":0},null,0,{"$f":"IF($G94=0,0,VLOOKUP(F94,'Cover Sheet'!$D$10:$F$36,3,0))","v":0},null,{"$f":"IF(I94=0,0,VLOOKUP(I94,'Cover Sheet'!$L$10:$M$13,2,0))","v":0},0,null,{"$f":"IF(L94=0,0,VLOOKUP(L94,'Cover Sheet'!$L$14:$M$34,2,0))","v":0},0,null,{"$f":"IF(L94=\"\",0,VLOOKUP(L94,'Cover Sheet'!$L$14:$O$34,4,0))","v":0},"-",null,{"$f":"IF(R94=0,0,VLOOKUP(R94,'Cover Sheet'!$L$14:$M$34,2,0))","v":0},0,null,{"$f":"IF(R94=\"\",0,VLOOKUP(R94,'Cover Sheet'!$L$14:$O$34,4,0))","v":0},"-",{"$f":"IF(C94=0,0,VLOOKUP(C94,'Cover Sheet'!$D$10:$G$22,4,0))","v":0},{"$f":"IF(F94=0,0,VLOOKUP(F94,'Cover Sheet'!$D$10:$G$36,4,0))","v":0},null,null,0,7.53,"-",{"$f":"IF(AB94=0,\"-\",(AC94-0.2*AD94)^2/(AC94+0.8*AD94))","v":"-"},"-",null,"",0,"-",0,0,null,0,7.53,"-",{"$f":"IF(AN94=0,\"-\",(AO94-0.2*AP94)^2/(AO94+0.8*AP94))","v":"-"},"-",null,"",0,"-",0,0]
[77,null,null,null,{"$f":"IF($G95=0,0,VLOOKUP(C95,'Cover Sheet'!$D$10:$F$22,3,0))","v":0},null,0,{"$f":"IF($G95=0,0,VLOOKUP(F95,'Cover Sheet'!$D$10:$F$36,3,0))","v":0},null,{"$f":"IF(I95=0,0,VLOOKUP(I95,'Cover Sheet'!$L$10:$M$13,2,0))","v":0},0,null,{"$f":"IF(L95=0,0,VLOOKUP(L95,'Cover Sheet'!$L$14:$M$34,2,0))","v":0},0,null,{"$f":"IF(L95=\"\",0,VLOOKUP(L95,'Cover Sheet'!$L$14:$O$34,4,0))","v":0},"-",null,{"$f":"IF(R95=0,0,VLOOKUP(R95,'Cover Sheet'!$L$14:$M$34,2,0))","v":0},0,null,{"$f":"IF(R95=\"\",0,VLOOKUP(R95,'Cover Sheet'!$L$14:$O$34,4,0))","v":0},"-",{"$f":"IF(C95=0,0,VLOOKUP(C95,'Cover Sheet'!$D$10:$G$22,4,0))","v":0},{"$f":"IF(F95=0,0,VLOOKUP(F95,'Cover Sheet'!$D$10:$G$36,4,0))","v":0},null,null,0,7.53,"-",{"$f":"IF(AB95=0,\"-\",(AC95-0.2*AD95)^2/(AC95+0.8*AD95))","v":"-"},"-",null,"",0,"-",0,0,null,0,7.53,"-",{"$f":"IF(AN95=0,\"-\",(AO95-0.2*AP95)^2/(AO95+0.8*AP95))","v":"-"},"-",null,"",0,"-",0,0]
[78,null,null,null,{"$f":"IF($G96=0,0,VLOOKUP(C96,'Cover Sheet'!$D$10:$F$22,3,0))","v":0},null,{"$f":"D96","v":0},{"$f":"IF($G96=0,0,VLOOKUP(F96,'Cover Sheet'!$D$10:$F$36,3,0))","v":0},null,{"$f":"IF(I96=0,0,VLOOKUP(I96,'Cover Sheet'!$L$10:$M$13,2,0))","v":0},{"$f":"IF(J96>0,H96*(1-J96),H96)","v":0},null,{"$f":"IF(L96=0,0,VLOOKUP(L96,'Cover Sheet'!$L$14:$M$34,2,0))","v":0},{"$f":"IF(M96>0,ROUNDUP(K96*(1-M96),2),K96)","v":0},null,{"$f":"IF(L96=\"\",0,VLOOKUP(L96,'Cover Sheet'!$L$14:$O$34,4,0))","v":0},{"$f":"IF(L96=\"\",\"-\",IF(OR(L96=\"PP1\",L96=\"P2\"),P96*$D$10*E96*G96/12*43560,P96*$D$10*K96*G96/12*43560))","v":"-"},null,{"$f":"IF(R96=0,0,VLOOKUP(R96,'Cover Sheet'!$L$14:$M$34,2,0))","v":0},{"$f":"IF(S96>0,N96*(1-S96),N96)","v":0},null,{"$f":"IF(R96=\"\",0,VLOOKUP(R96,'Cover Sheet'!$L$14:$O$34,4,0))","v":0},{"$f":"IF(R96=\"\",\"-\",V96*$D$10*N96*G96/12*43560)","v":"-"},{"$f":"IF(C96=0,0,VLOOKUP(C96,'Cover Sheet'!$D$10:$G$22,4,0))","v":0},{"$f":"IF(F96=0,0,VLOOKUP(F96,'Cover Sheet'!$D$10:$G$36,4,0))","v":0},null,null,{"$f":"Y96","v":0},7.53,{"$f":"IF(AB96=0,\"-\",1000/AB96-10)","v":"-"},{"$f":"IF(AB96=0,\"-\",(AC96-0.2*AD96)^2/(AC96+0.8*AD96))","v":"-"},{"$f":"Q96","v":"-"},null,{"$f":"IF(AG96=\"\",\"\",AF96*AG96)","v":""},{"$f":"IF(OR(AB96=0,L96=\"\"),0,12*AH96/43560/D96)","v":0},"-",{"$f":"IF(AB96=0,0,1000/(10+5*AC96+10*AJ96-10*(AJ96^2+1.25*AJ96*AC96)^(1/2)))","v":0},{"$f":"AK96-AB96","v":0},null,{"$f":"AK96","v":0},7.53,{"$f":"IF(AN96=0,\"-\",1000/AN96-10)","v":"-"},{"$f":"IF(AN96=0,\"-\",(AO96-0.2*AP96)^2/(AO96+0.8*AP96))","v":"-"},{"$f":"W96","v":"-"},null,{"$f":"IF(AS96=\"\",\"\",AR96*AS96)","v":""},{"$f":"IF(OR(AN96=0,R96=\"\"),0,12*AT96/43560/D96)","v":0},"-",{"$f":"IF(AN96=0,0,1000/(10+5*AO96+10*AV96-10*(AV96^2+1.25*AV96*AO96)^(1/2)))","v":0},{"$f":"AW96-AN96","v":0}]
[79,null,null,null,{"$f":"IF($G97=0,0,VLOOKUP(C97,'Cover Sheet'!$D$10:$F$22,3,0))","v":0},null,0,{"$f":"IF($G97=0,0,VLOOKUP(F97,'Cover Sheet'!$D$10:$F$36,3,0))","v":0},null,{"$f":"IF(I97=0,0,VLOOKUP(I97,'Cover Sheet'!$L$10:$M$13,2,0))","v":0},0,null,{"$f":"IF(L97=0,0,VLOOKUP(L97,'Cover Sheet'!$L$14:$M$34,2,0))","v":0},0,null,{"$f":"IF(L97=\"\",0,VLOOKUP(L97,'Cover Sheet'!$L$14:$O$34,4,0))","v":0},"-",null,{"$f":"IF(R97=0,0,VLOOKUP(R97,'Cover Sheet'!$L$14:$M$34,2,0))","v":0},0,null,{"$f":"IF(R97=\"\",0,VLOOKUP(R97,'Cover Sheet'!$L$14:$O$34,4,0))","v":0},"-",{"$f":"IF(C97=0,0,VLOOKUP(C97,'Cover Sheet'!$D$10:$G$22,4,0))","v":0},{"$f":"IF(F97=0,0,VLOOKUP(F97,'Cover Sheet'!$D$10:$G$36,4,0))","v":0},null,null,0,7.53,"-","-","-",null,"",0,"-",0,0,null,0,7.53,"-","-","-",null,"",0,"-",0,0]
[80,null,null,null,{"$f":"IF($G98=0,0,VLOOKUP(C98,'Cover Sheet'!$D$10:$F$22,3,0))","v":0},null,0,{"$f":"IF($G98=0,0,VLOOKUP(F98,'Cover Sheet'!$D$10:$F$36,3,0))","v":0},null,{"$f":"IF(I98=0,0,VLOOKUP(I98,'Cover Sheet'!$L$10:$M$13,2,0))","v":0},0,null,{"$f":"IF(L98=0,0,VLOOKUP(L98,'Cover Sheet'!$L$14:$M$34,2,0))","v":0},0,null,{"$f":"IF(L98=\"\",0,VLOOKUP(L98,'Cover Sheet'!$L$14:$O$34,4,0))","v":0},"-",null,{"$f":"IF(R98=0,0,VLOOKUP(R98,'Cover Sheet'!$L$14:$M$34,2,0))","v":0},0,null,{"$f":"IF(R98=\"\",0,VLOOKUP(R98,'Cover Sheet'!$L$14:$O$34,4,0))","v":0},"-",{"$f":"IF(C98=0,0,VLOOKUP(C98,'Cover Sheet'!$D$10:$G$22,4,0))","v":0},{"$f":"IF(F98=0,0,VLOOKUP(F98,'Cover Sheet'!$D$10:$G$36,4,0))","v":0},null,null,0,7.53,"-","-","-",null,"",0,"-",0,0,null,0,7.53,"-","-","-",null,"",0,"-",0,0]
[81,null,null,null,{"$f":"IF($G99=0,0,VLOOKUP(C99,'Cover Sheet'!$D$10:$F$22,3,0))","v":0},null,0,{"$f":"IF($G99=0,0,VLOOKUP(F99,'Cover Sheet'!$D$10:$F$36,3,0))","v":0},null,{"$f":"IF(I99=0,0,VLOOKUP(I99,'Cover Sheet'!$L$10:$M$13,2,0))","v":0},0,null,{"$f":"IF(L99=0,0,VLOOKUP(L99,'Cover Sheet'!$L$14:$M$34,2,0))","v":0},0,null,{"$f":"IF(L99=\"\",0,VLOOKUP(L99,'Cover Sheet'!$L$14:$O$34,4,0))","v":0},"-",null,{"$f":"IF(R99=0,0,VLOOKUP(R99,'Cover Sheet'!$L$14:$M$34,2,0))","v":0},0,null,{"$f":"IF(R99=\"\",0,VLOOKUP(R99,'Cover Sheet'!$L$14:$O$34,4,0))","v":0},"-",{"$f":"IF(C99=0,0,VLOOKUP(C99,'Cover Sheet'!$D$10:$G$22,4,0))","v":0},{"$f":"IF(F99=0,0,VLOOKUP(F99,'Cover Sheet'!$D$10:$G$36,4,0))","v":0},null,null,0,7.53,"-","-","-",null,"",0,"-",0,0,null,0,7.53,"-","-","-",null,"",0,"-",0,0]
[82,null,null,null,{"$f":"IF($G100=0,0,VLOOKUP(C100,'Cover Sheet'!$D$10:$F$22,3,0))","v":0},null,0,{"$f":"IF($G100=0,0,VLOOKUP(F100,'Cover Sheet'!$D$10:$F$36,3,0))","v":0},null,{"$f":"IF(I100=0,0,VLOOKUP(I100,'Cover Sheet'!$L$10:$M$13,2,0))","v":0},0,null,{"$f":"IF(L100=0,0,VLOOKUP(L100,'Cover Sheet'!$L$14:$M$34,2,0))","v":0},0,null,{"$f":"IF(L100=\"\",0,VLOOKUP(L100,'Cover Sheet'!$L$14:$O$34,4,0))","v":0},"-",null,{"$f":"IF(R100=0,0,VLOOKUP(R100,'Cover Sheet'!$L$14:$M$34,2,0))","v":0},0,null,{"$f":"IF(R100=\"\",0,VLOOKUP(R100,'Cover Sheet'!$L$14:$O$34,4,0))","v":0},"-",{"$f":"IF(C100=0,0,VLOOKUP(C100,'Cover Sheet'!$D$10:$G$22,4,0))","v":0},{"$f":"IF(F100=0,0,VLOOKUP(F100,'Cover Sheet'!$D$10:$G$36,4,0))","v":0},null,null,0,7.53,"-","-","-",null,"",0,"-",0,0,null,0,7.53,"-","-","-",null,"",0,"-",0,0]
[83,null,null,null,{"$f":"IF($G101=0,0,VLOOKUP(C101,'Cover Sheet'!$D$10:$F$22,3,0))","v":0},null,0,{"$f":"IF($G101=0,0,VLOOKUP(F101,'Cover Sheet'!$D$10:$F$36,3,0))","v":0},null,{"$f":"IF(I101=0,0,VLOOKUP(I101,'Cover Sheet'!$L$10:$M$13,2,0))","v":0},0,null,{"$f":"IF(L101=0,0,VLOOKUP(L101,'Cover Sheet'!$L$14:$M$34,2,0))","v":0},0,null,{"$f":"IF(L101=\"\",0,VLOOKUP(L101,'Cover Sheet'!$L$14:$O$34,4,0))","v":0},"-",null,{"$f":"IF(R101=0,0,VLOOKUP(R101,'Cover Sheet'!$L$14:$M$34,2,0))","v":0},0,null,{"$f":"IF(R101=\"\",0,VLOOKUP(R101,'Cover Sheet'!$L$14:$O$34,4,0))","v":0},"-",{"$f":"IF(C101=0,0,VLOOKUP(C101,'Cover Sheet'!$D$10:$G$22,4,0))","v":0},{"$f":"IF(F101=0,0,VLOOKUP(F101,'Cover Sheet'!$D$10:$G$36,4,0))","v":0},null,null,0,7.53,"-","-","-",null,"",0,"-",0,0,null,0,7.53,"-","-","-",null,"",0,"-",0,0]
[84,null,null,null,{"$f":"IF($G102=0,0,VLOOKUP(C102,'Cover Sheet'!$D$10:$F$22,3,0))","v":0},null,0,{"$f":"IF($G102=0,0,VLOOKUP(F102,'Cover Sheet'!$D$10:$F$36,3,0))","v":0},null,{"$f":"IF(I102=0,0,VLOOKUP(I102,'Cover Sheet'!$L$10:$M$13,2,0))","v":0},0,null,{"$f":"IF(L102=0,0,VLOOKUP(L102,'Cover Sheet'!$L$14:$M$34,2,0))","v":0},0,null,{"$f":"IF(L102=\"\",0,VLOOKUP(L102,'Cover Sheet'!$L$14:$O$34,4,0))","v":0},"-",null,{"$f":"IF(R102=0,0,VLOOKUP(R102,'Cover Sheet'!$L$14:$M$34,2,0))","v":0},0,null,{"$f":"IF(R102=\"\",0,VLOOKUP(R102,'Cover Sheet'!$L$14:$O$34,4,0))","v":0},"-",{"$f":"IF(C102=0,0,VLOOKUP(C102,'Cover Sheet'!$D$10:$G$22,4,0))","v":0},{"$f":"IF(F102=0,0,VLOOKUP(F102,'Cover Sheet'!$D$10:$G$36,4,0))","v":0},null,null,0,7.53,"-","-","-",null,"",0,"-",0,0,null,0,7.53,"-","-","-",null,"",0,"-",0,0]
[85,null,null,null,{"$f":"IF($G103=0,0,VLOOKUP(C103,'Cover Sheet'!$D$10:$F$22,3,0))","v":0},null,0,{"$f":"IF($G103=0,0,VLOOKUP(F103,'Cover Sheet'!$D$10:$F$36,3,0))","v":0},null,{"$f":"IF(I103=0,0,VLOOKUP(I103,'Cover Sheet'!$L$10:$M$13,2,0))","v":0},0,null,{"$f":"IF(L103=0,0,VLOOKUP(L103,'Cover Sheet'!$L$14:$M$34,2,0))","v":0},0,null,{"$f":"IF(L103=\"\",0,VLOOKUP(L103,'Cover Sheet'!$L$14:$O$34,4,0))","v":0},"-",null,{"$f":"IF(R103=0,0,VLOOKUP(R103,'Cover Sheet'!$L$14:$M$34,2,0))","v":0},0,null,{"$f":"IF(R103=\"\",0,VLOOKUP(R103,'Cover Sheet'!$L$14:$O$34,4,0))","v":0},"-",{"$f":"IF(C103=0,0,VLOOKUP(C103,'Cover Sheet'!$D$10:$G$22,4,0))","v":0},{"$f":"IF(F103=0,0,VLOOKUP(F103,'Cover Sheet'!$D$10:$G$36,4,0))","v":0},null,null,0,7.53,"-","-","-",null,"",0,"-",0,0,null,0,7.53,"-","-","-",null,"",0,"-",0,0]
[86,null,null,null,{"$f":"IF($G104=0,0,VLOOKUP(C104,'Cover Sheet'!$D$10:$F$22,3,0))","v":0},null,0,{"$f":"IF($G104=0,0,VLOOKUP(F104,'Cover Sheet'!$D$10:$F$36,3,0))","v":0},null,{"$f":"IF(I104=0,0,VLOOKUP(I104,'Cover Sheet'!$L$10:$M$13,2,0))","v":0},0,null,{"$f":"IF(L104=0,0,VLOOKUP(L104,'Cover Sheet'!$L$14:$M$34,2,0))","v":0},0,null,{"$f":"IF(L104=\"\",0,VLOOKUP(L104,'Cover Sheet'!$L$14:$O$34,4,0))","v":0},"-",null,{"$f":"IF(R104=0,0,VLOOKUP(R104,'Cover Sheet'!$L$14:$M$34,2,0))","v":0},0,null,{"$f":"IF(R104=\"\",0,VLOOKUP(R104,'Cover Sheet'!$L$14:$O$34,4,0))","v":0},"-",{"$f":"IF(C104=0,0,VLOOKUP(C104,'Cover Sheet'!$D$10:$G$22,4,0))","v":0},{"$f":"IF(F104=0,0,VLOOKUP(F104,'Cover Sheet'!$D$10:$G$36,4,0))","v":0},null,null,0,7.53,"-","-","-",null,"",0,"-",0,0,null,0,7.53,"-","-","-",null,"",0,"-",0,0]
[87,null,null,null,{"$f":"IF($G105=0,0,VLOOKUP(C105,'Cover Sheet'!$D$10:$F$22,3,0))","v":0},null,0,{"$f":"IF($G105=0,0,VLOOKUP(F105,'Cover Sheet'!$D$10:$F$36,3,0))","v":0},null,{"$f":"IF(I105=0,0,VLOOKUP(I105,'Cover Sheet'!$L$10:$M$13,2,0))","v":0},0,null,{"$f":"IF(L105=0,0,VLOOKUP(L105,'Cover Sheet'!$L$14:$M$34,2,0))","v":0},0,null,{"$f":"IF(L105=\"\",0,VLOOKUP(L105,'Cover Sheet'!$L$14:$O$34,4,0))","v":0},"-",null,{"$f":"IF(R105=0,0,VLOOKUP(R105,'Cover Sheet'!$L$14:$M$34,2,0))","v":0},0,null,{"$f":"IF(R105=\"\",0,VLOOKUP(R105,'Cover Sheet'!$L$14:$O$34,4,0))","v":0},"-",{"$f":"IF(C105=0,0,VLOOKUP(C105,'Cover Sheet'!$D$10:$G$22,4,0))","v":0},{"$f":"IF(F105=0,0,VLOOKUP(F105,'Cover Sheet'!$D$10:$G$36,4,0))","v":0},null,null,0,7.53,"-","-","-",null,"",0,"-",0,0,null,0,7.53,"-","-","-",null,"",0,"-",0,0]
[88,null,null,null,{"$f":"IF($G106=0,0,VLOOKUP(C106,'Cover Sheet'!$D$10:$F$22,3,0))","v":0},null,0,{"$f":"IF($G106=0,0,VLOOKUP(F106,'Cover Sheet'!$D$10:$F$36,3,0))","v":0},null,{"$f":"IF(I106=0,0,VLOOKUP(I106,'Cover Sheet'!$L$10:$M$13,2,0))","v":0},0,null,{"$f":"IF(L106=0,0,VLOOKUP(L106,'Cover Sheet'!$L$14:$M$34,2,0))","v":0},0,null,{"$f":"IF(L106=\"\",0,VLOOKUP(L106,'Cover Sheet'!$L$14:$O$34,4,0))","v":0},"-",null,{"$f":"IF(R106=0,0,VLOOKUP(R106,'Cover Sheet'!$L$14:$M$34,2,0))","v":0},0,null,{"$f":"IF(R106=\"\",0,VLOOKUP(R106,'Cover Sheet'!$L$14:$O$34,4,0))","v":0},"-",{"$f":"IF(C106=0,0,VLOOKUP(C106,'Cover Sheet'!$D$10:$G$22,4,0))","v":0},{"$f":"IF(F106=0,0,VLOOKUP(F106,'Cover Sheet'!$D$10:$G$36,4,0))","v":0},null,null,0,7.53,"-","-","-",null,"",0,"-",0,0,null,0,7.53,"-","-","-",null,"",0,"-",0,0]
[89,null,null,null,{"$f":"IF($G107=0,0,VLOOKUP(C107,'Cover Sheet'!$D$10:$F$22,3,0))","v":0},null,0,{"$f":"IF($G107=0,0,VLOOKUP(F107,'Cover Sheet'!$D$10:$F$36,3,0))","v":0},null,{"$f":"IF(I107=0,0,VLOOKUP(I107,'Cover Sheet'!$L$10:$M$13,2,0))","v":0},0,null,{"$f":"IF(L107=0,0,VLOOKUP(L107,'Cover Sheet'!$L$14:$M$34,2,0))","v":0},0,null,{"$f":"IF(L107=\"\",0,VLOOKUP(L107,'Cover Sheet'!$L$14:$O$34,4,0))","v":0},"-",null,{"$f":"IF(R107=0,0,VLOOKUP(R107,'Cover Sheet'!$L$14:$M$34,2,0))","v":0},0,null,{"$f":"IF(R107=\"\",0,VLOOKUP(R107,'Cover Sheet'!$L$14:$O$34,4,0))","v":0},"-",{"$f":"IF(C107=0,0,VLOOKUP(C107,'Cover Sheet'!$D$10:$G$22,4,0))","v":0},{"$f":"IF(F107=0,0,VLOOKUP(F107,'Cover Sheet'!$D$10:$G$36,4,0))","v":0},null,null,0,7.53,"-","-","-",null,"",0,"-",0,0,null,0,7.53,"-","-","-",null,"",0,"-",0,0]
[90,null,null,null,{"$f":"IF($G108=0,0,VLOOKUP(C108,'Cover Sheet'!$D$10:$F$22,3,0))","v":0},null,0,{"$f":"IF($G108=0,0,VLOOKUP(F108,'Cover Sheet'!$D$10:$F$36,3,0))","v":0},null,{"$f":"IF(I108=0,0,VLOOKUP(I108,'Cover Sheet'!$L$10:$M$13,2,0))","v":0},0,null,{"$f":"IF(L108=0,0,VLOOKUP(L108,'Cover Sheet'!$L$14:$M$34,2,0))","v":0},0,null,{"$f":"IF(L108=\"\",0,VLOOKUP(L108,'Cover Sheet'!$L$14:$O$34,4,0))","v":0},"-",null,{"$f":"IF(R108=0,0,VLOOKUP(R108,'Cover Sheet'!$L$14:$M$34,2,0))","v":0},0,null,{"$f":"IF(R108=\"\",0,VLOOKUP(R108,'Cover Sheet'!$L$14:$O$34,4,0))","v":0},"-",{"$f":"IF(C108=0,0,VLOOKUP(C108,'Cover Sheet'!$D$10:$G$22,4,0))","v":0},{"$f":"IF(F108=0,0,VLOOKUP(F108,'Cover Sheet'!$D$10:$G$36,4,0))","v":0},null,null,0,7.53,"-","-","-",null,"",0,"-",0,0,null,0,7.53,"-","-","-",null,"",0,"-",0,0]
[91,null,null,null,{"$f":"IF($G109=0,0,VLOOKUP(C109,'Cover Sheet'!$D$10:$F$22,3,0))","v":0},null,0,{"$f":"IF($G109=0,0,VLOOKUP(F109,'Cover Sheet'!$D$10:$F$36,3,0))","v":0},null,{"$f":"IF(I109=0,0,VLOOKUP(I109,'Cover Sheet'!$L$10:$M$13,2,0))","v":0},0,null,{"$f":"IF(L109=0,0,VLOOKUP(L109,'Cover Sheet'!$L$14:$M$34,2,0))","v":0},0,null,{"$f":"IF(L109=\"\",0,VLOOKUP(L109,'Cover Sheet'!$L$14:$O$34,4,0))","v":0},"-",null,{"$f":"IF(R109=0,0,VLOOKUP(R109,'Cover Sheet'!$L$14:$M$34,2,0))","v":0},0,null,{"$f":"IF(R109=\"\",0,VLOOKUP(R109,'Cover Sheet'!$L$14:$O$34,4,0))","v":0},"-",{"$f":"IF(C109=0,0,VLOOKUP(C109,'Cover Sheet'!$D$10:$G$22,4,0))","v":0},{"$f":"IF(F109=0,0,VLOOKUP(F109,'Cover Sheet'!$D$10:$G$36,4,0))","v":0},null,null,0,7.53,"-","-","-",null,"",0,"-",0,0,null,0,7.53,"-","-","-",null,"",0,"-",0,0]
[92,null,null,null,{"$f":"IF($G110=0,0,VLOOKUP(C110,'Cover Sheet'!$D$10:$F$22,3,0))","v":0},null,{"$f":"D110","v":0},{"$f":"IF($G110=0,0,VLOOKUP(F110,'Cover Sheet'!$D$10:$F$36,3,0))","v":0},null,{"$f":"IF(I110=0,0,VLOOKUP(I110,'Cover Sheet'!$L$10:$M$13,2,0))","v":0},{"$f":"IF(J110>0,H110*(1-J110),H110)","v":0},null,{"$f":"IF(L110=0,0,VLOOKUP(L110,'Cover Sheet'!$L$14:$M$34,2,0))","v":0},{"$f":"IF(M110>0,ROUNDUP(K110*(1-M110),2),K110)","v":0},null,{"$f":"IF(L110=\"\",0,VLOOKUP(L110,'Cover Sheet'!$L$14:$O$34,4,0))","v":0},{"$f":"IF(L110=\"\",\"-\",IF(OR(L110=\"PP1\",L110=\"P2\"),P110*$D$10*E110*G110/12*43560,P110*$D$10*K110*G110/12*43560))","v":"-"},null,{"$f":"IF(R110=0,0,VLOOKUP(R110,'Cover Sheet'!$L$14:$M$34,2,0))","v":0},{"$f":"IF(S110>0,N110*(1-S110),N110)","v":0},null,{"$f":"IF(R110=\"\",0,VLOOKUP(R110,'Cover Sheet'!$L$14:$O$34,4,0))","v":0},{"$f":"IF(R110=\"\",\"-\",V110*$D$10*N110*G110/12*43560)","v":"-"},{"$f":"IF(C110=0,0,VLOOKUP(C110,'Cover Sheet'!$D$10:$G$22,4,0))","v":0},{"$f":"IF(F110=0,0,VLOOKUP(F110,'Cover Sheet'!$D$10:$G$36,4,0))","v":0},null,null,{"$f":"Y110","v":0},7.53,{"$f":"IF(AB110=0,\"-\",1000/AB110-10)","v":"-"},{"$f":"IF(AB110=0,\"-\",(AC110-0.2*AD110)^2/(AC110+0.8*AD110))","v":"-"},{"$f":"Q110","v":"-"},null,{"$f":"IF(AG110=\"\",\"\",AF110*AG110)","v":""},{"$f":"IF(OR(AB110=0,L110=\"\"),0,12*AH110/43560/D110)","v":0},"-",{"$f":"IF(AB110=0,0,1000/(10+5*AC110+10*AJ110-10*(AJ110^2+1.25*AJ110*AC110)^(1/2)))","v":0},{"$f":"AK110-AB110","v":0},null,{"$f":"AK110","v":0},7.53,{"$f":"IF(AN110=0,\"-\",1000/AN110-10)","v":"-"},{"$f":"IF(AN110=0,\"-\",(AO110-0.2*AP110)^2/(AO110+0.8*AP110))","v":"-"},{"$f":"W110","v":"-"},null,{"$f":"IF(AS110=\"\",\"\",AR110*AS110)","v":""},{"$f":"IF(OR(AN110=0,R110=\"\"),0,12*AT110/43560/D110)","v":0},"-",{"$f":"IF(AN110=0,0,1000/(10+5*AO110+10*AV110-10*(AV110^2+1.25*AV110*AO110)^(1/2)))","v":0},{"$f":"AW110-AN110","v":0}]
[93,null,null,null,{"$f":"IF($G111=0,0,VLOOKUP(C111,'Cover Sheet'!$D$10:$F$22,3,0))","v":0},null,0,{"$f":"IF($G111=0,0,VLOOKUP(F111,'Cover Sheet'!$D$10:$F$36,3,0))","v":0},null,{"$f":"IF(I111=0,0,VLOOKUP(I111,'Cover Sheet'!$L$10:$M$13,2,0))","v":0},0,null,{"$f":"IF(L111=0,0,VLOOKUP(L111,'Cover Sheet'!$L$14:$M$34,2,0))","v":0},0,null,{"$f":"IF(L111=\"\",0,VLOOKUP(L111,'Cover Sheet'!$L$14:$O$34,4,0))","v":0},"-",null,{"$f":"IF(R111=0,0,VLOOKUP(R111,'Cover Sheet'!$L$14:$M$34,2,0))","v":0},0,null,{"$f":"IF(R111=\"\",0,VLOOKUP(R111,'Cover Sheet'!$L$14:$O$34,4,0))","v":0},"-",{"$f":"IF(C111=0,0,VLOOKUP(C111,'Cover Sheet'!$D$10:$G$22,4,0))","v":0},{"$f":"IF(F111=0,0,VLOOKUP(F111,'Cover Sheet'!$D$10:$G$36,4,0))","v":0},null,null,0,7.53,"-","-","-",null,"",0,"-",0,0,null,0,7.53,"-","-","-",null,"",0,"-",0,0]
[94,null,null,null,{"$f":"IF($G112=0,0,VLOOKUP(C112,'Cover Sheet'!$D$10:$F$22,3,0))","v":0},null,0,{"$f":"IF($G112=0,0,VLOOKUP(F112,'Cover Sheet'!$D$10:$F$36,3,0))","v":0},null,{"$f":"IF(I112=0,0,VLOOKUP(I112,'Cover Sheet'!$L$10:$M$13,2,0))","v":0},0,null,{"$f":"IF(L112=0,0,VLOOKUP(L112,'Cover Sheet'!$L$14:$M$34,2,0))","v":0},0,null,{"$f":"IF(L112=\"\",0,VLOOKUP(L112,'Cover Sheet'!$L$14:$O$34,4,0))","v":0},"-",null,{"$f":"IF(R112=0,0,VLOOKUP(R112,'Cover Sheet'!$L$14:$M$34,2,0))","v":0},0,null,{"$f":"IF(R112=\"\",0,VLOOKUP(R112,'Cover Sheet'!$L$14:$O$34,4,0))","v":0},"-",{"$f":"IF(C112=0,0,VLOOKUP(C112,'Cover Sheet'!$D$10:$G$22,4,0))","v":0},{"$f":"IF(F112=0,0,VLOOKUP(F112,'Cover Sheet'!$D$10:$G$36,4,0))","v":0},null,null,0,7.53,"-","-","-",null,"",0,"-",0,0,null,0,7.53,"-","-","-",null,"",0,"-",0,0]
[95,null,null,null,{"$f":"IF($G113=0,0,VLOOKUP(C113,'Cover Sheet'!$D$10:$F$22,3,0))","v":0},null,0,{"$f":"IF($G113=0,0,VLOOKUP(F113,'Cover Sheet'!$D$10:$F$36,3,0))","v":0},null,{"$f":"IF(I113=0,0,VLOOKUP(I113,'Cover Sheet'!$L$10:$M$13,2,0))","v":0},0,null,{"$f":"IF(L113=0,0,VLOOKUP(L113,'Cover Sheet'!$L$14:$M$34,2,0))","v":0},0,null,{"$f":"IF(L113=\"\",0,VLOOKUP(L113,'Cover Sheet'!$L$14:$O$34,4,0))","v":0},"-",null,{"$f":"IF(R113=0,0,VLOOKUP(R113,'Cover Sheet'!$L$14:$M$34,2,0))","v":0},0,null,{"$f":"IF(R113=\"\",0,VLOOKUP(R113,'Cover Sheet'!$L$14:$O$34,4,0))","v":0},"-",{"$f":"IF(C113=0,0,VLOOKUP(C113,'Cover Sheet'!$D$10:$G$22,4,0))","v":0},{"$f":"IF(F113=0,0,VLOOKUP(F113,'Cover Sheet'!$D$10:$G$36,4,0))","v":0},null,null,0,7.53,"-","-","-",null,"",0,"-",0,0,null,0,7.53,"-","-","-",null,"",0,"-",0,0]
[96,null,null,null,{"$f":"IF($G114=0,0,VLOOKUP(C114,'Cover Sheet'!$D$10:$F$22,3,0))","v":0},null,{"$f":"D114","v":0},{"$f":"IF($G114=0,0,VLOOKUP(F114,'Cover Sheet'!$D$10:$F$36,3,0))","v":0},null,{"$f":"IF(I114=0,0,VLOOKUP(I114,'Cover Sheet'!$L$10:$M$13,2,0))","v":0},{"$f":"IF(J114>0,H114*(1-J114),H114)","v":0},null,{"$f":"IF(L114=0,0,VLOOKUP(L114,'Cover Sheet'!$L$14:$M$34,2,0))","v":0},{"$f":"IF(M114>0,ROUNDUP(K114*(1-M114),2),K114)","v":0},null,{"$f":"IF(L114=\"\",0,VLOOKUP(L114,'Cover Sheet'!$L$14:$O$34,4,0))","v":0},{"$f":"IF(L114=\"\",\"-\",IF(OR(L114=\"PP1\",L114=\"P2\"),P114*$D$10*E114*G114/12*43560,P114*$D$10*K114*G114/12*43560))","v":"-"},null,{"$f":"IF(R114=0,0,VLOOKUP(R114,'Cover Sheet'!$L$14:$M$34,2,0))","v":0},{"$f":"IF(S114>0,N114*(1-S114),N114)","v":0},null,{"$f":"IF(R114=\"\",0,VLOOKUP(R114,'Cover Sheet'!$L$14:$O$34,4,0))","v":0},{"$f":"IF(R114=\"\",\"-\",V114*$D$10*N114*G114/12*43560)","v":"-"},{"$f":"IF(C114=0,0,VLOOKUP(C114,'Cover Sheet'!$D$10:$G$22,4,0))","v":0},{"$f":"IF(F114=0,0,VLOOKUP(F114,'Cover Sheet'!$D$10:$G$36,4,0))","v":0},null,null,{"$f":"Y114","v":0},7.53,{"$f":"IF(AB114=0,\"-\",1000/AB114-10)","v":"-"},"-",{"$f":"Q114","v":"-"},null,{"$f":"IF(AG114=\"\",\"\",AF114*AG114)","v":""},{"$f":"IF(OR(AB114=0,L114=\"\"),0,12*AH114/43560/D114)","v":0},"-",{"$f":"IF(AB114=0,0,1000/(10+5*AC114+10*AJ114-10*(AJ114^2+1.25*AJ114*AC114)^(1/2)))","v":0},{"$f":"AK114-AB114","v":0},null,{"$f":"AK114","v":0},7.53,{"$f":"IF(AN114=0,\"-\",1000/AN114-10)","v":"-"},"-",{"$f":"W114","v":"-"},null,{"$f":"IF(AS114=\"\",\"\",AR114*AS114)","v":""},{"$f":"IF(OR(AN114=0,R114=\"\"),0,12*AT114/43560/D114)","v":0},"-",{"$f":"IF(AN114=0,0,1000/(10+5*AO114+10*AV114-10*(AV114^2+1.25*AV114*AO114)^(1/2)))","v":0},{"$f":"AW114-AN114","v":0}]
[97,null,null,null,{"$f":"IF($G115=0,0,VLOOKUP(C115,'Cover Sheet'!$D$10:$F$22,3,0))","v":0},null,0,{"$f":"IF($G115=0,0,VLOOKUP(F115,'Cover Sheet'!$D$10:$F$36,3,0))","v":0},null,{"$f":"IF(I115=0,0,VLOOKUP(I115,'Cover Sheet'!$L$10:$M$13,2,0))","v":0},0,null,{"$f":"IF(L115=0,0,VLOOKUP(L115,'Cover Sheet'!$L$14:$M$34,2,0))","v":0},0,null,{"$f":"IF(L115=\"\",0,VLOOKUP(L115,'Cover Sheet'!$L$14:$O$34,4,0))","v":0},"-",null,{"$f":"IF(R115=0,0,VLOOKUP(R115,'Cover Sheet'!$L$14:$M$34,2,0))","v":0},0,null,{"$f":"IF(R115=\"\",0,VLOOKUP(R115,'Cover Sheet'!$L$14:$O$34,4,0))","v":0},"-",{"$f":"IF(C115=0,0,VLOOKUP(C115,'Cover Sheet'!$D$10:$G$22,4,0))","v":0},{"$f":"IF(F115=0,0,VLOOKUP(F115,'Cover Sheet'!$D$10:$G$36,4,0))","v":0},null,null,0,7.53,"-","-","-",null,"",0,"-",0,0,null,0,7.53,"-","-","-",null,"",0,"-",0,0]
[98,null,null,null,{"$f":"IF($G116=0,0,VLOOKUP(C116,'Cover Sheet'!$D$10:$F$22,3,0))","v":0},null,0,{"$f":"IF($G116=0,0,VLOOKUP(F116,'Cover Sheet'!$D$10:$F$36,3,0))","v":0},null,{"$f":"IF(I116=0,0,VLOOKUP(I116,'Cover Sheet'!$L$10:$M$13,2,0))","v":0},0,null,{"$f":"IF(L116=0,0,VLOOKUP(L116,'Cover Sheet'!$L$14:$M$34,2,0))","v":0},0,null,{"$f":"IF(L116=\"\",0,VLOOKUP(L116,'Cover Sheet'!$L$14:$O$34,4,0))","v":0},"-",null,{"$f":"IF(R116=0,0,VLOOKUP(R116,'Cover Sheet'!$L$14:$M$34,2,0))","v":0},0,null,{"$f":"IF(R116=\"\",0,VLOOKUP(R116,'Cover Sheet'!$L$14:$O$34,4,0))","v":0},"-",{"$f":"IF(C116=0,0,VLOOKUP(C116,'Cover Sheet'!$D$10:$G$22,4,0))","v":0},{"$f":"IF(F116=0,0,VLOOKUP(F116,'Cover Sheet'!$D$10:$G$36,4,0))","v":0},null,null,0,7.53,"-","-","-",null,"",0,"-",0,0,null,0,7.53,"-","-","-",null,"",0,"-",0,0]
[99,null,null,null,{"$f":"IF($G117=0,0,VLOOKUP(C117,'Cover Sheet'!$D$10:$F$22,3,0))","v":0},null,0,{"$f":"IF($G117=0,0,VLOOKUP(F117,'Cover Sheet'!$D$10:$F$36,3,0))","v":0},null,{"$f":"IF(I117=0,0,VLOOKUP(I117,'Cover Sheet'!$L$10:$M$13,2,0))","v":0},0,null,{"$f":"IF(L117=0,0,VLOOKUP(L117,'Cover Sheet'!$L$14:$M$34,2,0))","v":0},0,null,{"$f":"IF(L117=\"\",0,VLOOKUP(L117,'Cover Sheet'!$L$14:$O$34,4,0))","v":0},"-",null,{"$f":"IF(R117=0,0,VLOOKUP(R117,'Cover Sheet'!$L$14:$M$34,2,0))","v":0},0,null,{"$f":"IF(R117=\"\",0,VLOOKUP(R117,'Cover Sheet'!$L$14:$O$34,4,0))","v":0},"-",{"$f":"IF(C117=0,0,VLOOKUP(C117,'Cover Sheet'!$D$10:$G$22,4,0))","v":0},{"$f":"IF(F117=0,0,VLOOKUP(F117,'Cover Sheet'!$D$10:$G$36,4,0))","v":0},null,null,0,7.53,"-","-","-",null,"",0,"-",0,0,null,0,7.53,"-","-","-",null,"",0,"-",0,0]
[100,null,null,null,{"$f":"IF($G118=0,0,VLOOKUP(C118,'Cover Sheet'!$D$10:$F$22,3,0))","v":0},null,0,{"$f":"IF($G118=0,0,VLOOKUP(F118,'Cover Sheet'!$D$10:$F$36,3,0))","v":0},null,{"$f":"IF(I118=0,0,VLOOKUP(I118,'Cover Sheet'!$L$10:$M$13,2,0))","v":0},{"$f":"IF(J118>0,H118*(1-J118),H118)","v":0},null,{"$f":"IF(L118=0,0,VLOOKUP(L118,'Cover Sheet'!$L$14:$M$34,2,0))","v":0},{"$f":"IF(M118>0,ROUNDUP(K118*(1-M118),2),K118)","v":0},null,{"$f":"IF(L118=\"\",0,VLOOKUP(L118,'Cover Sheet'!$L$14:$O$34,4,0))","v":0},{"$f":"IF(L118=\"\",\"-\",IF(OR(L118=\"PP1\",L118=\"P2\"),P118*$D$10*E118*G118/12*43560,P118*$D$10*K118*G118/12*43560))","v":"-"},null,{"$f":"IF(R118=0,0,VLOOKUP(R118,'Cover Sheet'!$L$14:$M$34,2,0))","v":0},{"$f":"IF(S118>0,N118*(1-S118),N118)","v":0},null,{"$f":"IF(R118=\"\",0,VLOOKUP(R118,'Cover Sheet'!$L$14:$O$34,4,0))","v":0},"-",{"$f":"IF(C118=0,0,VLOOKUP(C118,'Cover Sheet'!$D$10:$G$22,4,0))","v":0},{"$f":"IF(F118=0,0,VLOOKUP(F118,'Cover Sheet'!$D$10:$G$36,4,0))","v":0},null,null,{"$f":"Y118","v":0},7.53,"-",{"$f":"IF(AB118=0,\"-\",(AC118-0.2*AD118)^2/(AC118+0.8*AD118))","v":"-"},{"$f":"Q118","v":"-"},null,{"$f":"IF(AG118=\"\",\"\",AF118*AG118)","v":""},0,"-",{"$f":"IF(AB118=0,0,1000/(10+5*AC118+10*AJ118-10*(AJ118^2+1.25*AJ118*AC118)^(1/2)))","v":0},{"$f":"AK118-AB118","v":0},null,{"$f":"AK118","v":0},7.53,"-","-",{"$f":"W118","v":"-"},null,{"$f":"IF(AS118=\"\",\"\",AR118*AS118)","v":""},{"$f":"IF(OR(AN118=0,R118=\"\"),0,12*AT118/43560/D118)","v":0},"-",0,{"$f":"AW118-AN118","v":0}]
[{"$f":"A118+1","v":101},null,null,null,{"$f":"IF($G119=0,0,VLOOKUP(C119,'Cover Sheet'!$D$10:$F$22,3,0))","v":0},null,0,{"$f":"IF($G119=0,0,VLOOKUP(F119,'Cover Sheet'!$D$10:$F$36,3,0))","v":0},null,{"$f":"IF(I119=0,0,VLOOKUP(I119,'Cover Sheet'!$L$10:$M$13,2,0))","v":0},{"$f":"IF(J119>0,H119*(1-J119),H119)","v":0},null,{"$f":"IF(L119=0,0,VLOOKUP(L119,'Cover Sheet'!$L$14:$M$34,2,0))","v":0},{"$f":"IF(M119>0,ROUNDUP(K119*(1-M119),2),K119)","v":0},null,{"$f":"IF(L119=\"\",0,VLOOKUP(L119,'Cover Sheet'!$L$14:$O$34,4,0))","v":0},{"$f":"IF(L119=\"\",\"-\",IF(OR(L119=\"PP1\",L119=\"P2\"),P119*$D$10*E119*G119/12*43560,P119*$D$10*K119*G119/12*43560))","v":"-"},null,{"$f":"IF(R119=0,0,VLOOKUP(R119,'Cover Sheet'!$L$14:$M$34,2,0))","v":0},{"$f":"IF(S119>0,N119*(1-S119),N119)","v":0},null,{"$f":"IF(R119=\"\",0,VLOOKUP(R119,'Cover Sheet'!$L$14:$O$34,4,0))","v":0},"-",{"$f":"IF(C119=0,0,VLOOKUP(C119,'Cover Sheet'!$D$10:$G$22,4,0))","v":0},{"$f":"IF(F119=0,0,VLOOKUP(F119,'Cover Sheet'!$D$10:$G$36,4,0))","v":0},null,null,{"$f":"Y119","v":0},{"$f":"$AC$19","v":7.53},"-",{"$f":"IF(AB119=0,\"-\",(AC119-0.2*AD119)^2/(AC119+0.8*AD119))","v":"-"},{"$f":"Q119","v":"-"},null,{"$f":"IF(AG119=\"\",\"\",AF119*AG119)","v":""},0,"-",{"$f":"IF(AB119=0,0,1000/(10+5*AC119+10*AJ119-10*(AJ119^2+1.25*AJ119*AC119)^(1/2)))","v":0},{"$f":"AK119-AB119","v":0},null,{"$f":"AK119","v":0},{"$f":"$AC$19","v":7.53},"-","-",{"$f":"W119","v":"-"},null,{"$f":"IF(AS119=\"\",\"\",AR119*AS119)","v":""},{"$f":"IF(OR(AN119=0,R119=\"\"),0,12*AT119/43560/D119)","v":0},"-",0,{"$f":"AW119-AN119","v":0}]
[102,null,null,null,{"$f":"IF($G120=0,0,VLOOKUP(C120,'Cover Sheet'!$D$10:$F$22,3,0))","v":0},null,0,{"$f":"IF($G120=0,0,VLOOKUP(F120,'Cover Sheet'!$D$10:$F$36,3,0))","v":0},null,{"$f":"IF(I120=0,0,VLOOKUP(I120,'Cover Sheet'!$L$10:$M$13,2,0))","v":0},0,null,{"$f":"IF(L120=0,0,VLOOKUP(L120,'Cover Sheet'!$L$14:$M$34,2,0))","v":0},0,null,{"$f":"IF(L120=\"\",0,VLOOKUP(L120,'Cover Sheet'!$L$14:$O$34,4,0))","v":0},{"$f":"IF(L120=\"\",\"-\",IF(OR(L120=\"PP1\",L120=\"P2\"),P120*$D$10*E120*G120/12*43560,P120*$D$10*K120*G120/12*43560))","v":"-"},null,{"$f":"IF(R120=0,0,VLOOKUP(R120,'Cover Sheet'!$L$14:$M$34,2,0))","v":0},{"$f":"IF(S120>0,N120*(1-S120),N120)","v":0},null,{"$f":"IF(R120=\"\",0,VLOOKUP(R120,'Cover Sheet'!$L$14:$O$34,4,0))","v":0},"-",{"$f":"IF(C120=0,0,VLOOKUP(C120,'Cover Sheet'!$D$10:$G$22,4,0))","v":0},{"$f":"IF(F120=0,0,VLOOKUP(F120,'Cover Sheet'!$D$10:$G$36,4,0))","v":0},null,null,0,7.53,"-","-",{"$f":"Q120","v":"-"},null,"",0,"-",0,0,null,0,7.53,"-","-","-",null,"",0,"-",0,0]
[103,null,null,null,{"$f":"IF($G121=0,0,VLOOKUP(C121,'Cover Sheet'!$D$10:$F$22,3,0))","v":0},null,0,{"$f":"IF($G121=0,0,VLOOKUP(F121,'Cover Sheet'!$D$10:$F$36,3,0))","v":0},null,{"$f":"IF(I121=0,0,VLOOKUP(I121,'Cover Sheet'!$L$10:$M$13,2,0))","v":0},0,null,{"$f":"IF(L121=0,0,VLOOKUP(L121,'Cover Sheet'!$L$14:$M$34,2,0))","v":0},0,null,{"$f":"IF(L121=\"\",0,VLOOKUP(L121,'Cover Sheet'!$L$14:$O$34,4,0))","v":0},"-",null,{"$f":"IF(R121=0,0,VLOOKUP(R121,'Cover Sheet'!$L$14:$M$34,2,0))","v":0},0,null,{"$f":"IF(R121=\"\",0,VLOOKUP(R121,'Cover Sheet'!$L$14:$O$34,4,0))","v":0},"-",{"$f":"IF(C121=0,0,VLOOKUP(C121,'Cover Sheet'!$D$10:$G$22,4,0))","v":0},{"$f":"IF(F121=0,0,VLOOKUP(F121,'Cover Sheet'!$D$10:$G$36,4,0))","v":0},null,null,0,7.53,"-","-","-",null,"",0,"-",0,0,null,0,7.53,"-","-","-",null,"",0,"-",0,0]
[104,null,null,null,{"$f":"IF($G122=0,0,VLOOKUP(C122,'Cover Sheet'!$D$10:$F$22,3,0))","v":0},null,0,{"$f":"IF($G122=0,0,VLOOKUP(F122,'Cover Sheet'!$D$10:$F$36,3,0))","v":0},null,{"$f":"IF(I122=0,0,VLOOKUP(I122,'Cover Sheet'!$L$10:$M$13,2,0))","v":0},0,null,{"$f":"IF(L122=0,0,VLOOKUP(L122,'Cover Sheet'!$L$14:$M$34,2,0))","v":0},0,null,{"$f":"IF(L122=\"\",0,VLOOKUP(L122,'Cover Sheet'!$L$14:$O$34,4,0))","v":0},"-",null,{"$f":"IF(R122=0,0,VLOOKUP(R122,'Cover Sheet'!$L$14:$M$34,2,0))","v":0},0,null,{"$f":"IF(R122=\"\",0,VLOOKUP(R122,'Cover Sheet'!$L$14:$O$34,4,0))","v":0},"-",{"$f":"IF(C122=0,0,VLOOKUP(C122,'Cover Sheet'!$D$10:$G$22,4,0))","v":0},{"$f":"IF(F122=0,0,VLOOKUP(F122,'Cover Sheet'!$D$10:$G$36,4,0))","v":0},null,null,0,7.53,"-","-","-",null,"",0,"-",0,0,null,0,7.53,"-","-","-",null,"",0,"-",0,0]
[105,null,null,null,{"$f":"IF($G123=0,0,VLOOKUP(C123,'Cover Sheet'!$D$10:$F$22,3,0))","v":0},null,0,{"$f":"IF($G123=0,0,VLOOKUP(F123,'Cover Sheet'!$D$10:$F$36,3,0))","v":0},null,{"$f":"IF(I123=0,0,VLOOKUP(I123,'Cover Sheet'!$L$10:$M$13,2,0))","v":0},0,null,{"$f":"IF(L123=0,0,VLOOKUP(L123,'Cover Sheet'!$L$14:$M$34,2,0))","v":0},0,null,{"$f":"IF(L123=\"\",0,VLOOKUP(L123,'Cover Sheet'!$L$14:$O$34,4,0))","v":0},"-",null,{"$f":"IF(R123=0,0,VLOOKUP(R123,'Cover Sheet'!$L$14:$M$34,2,0))","v":0},0,null,{"$f":"IF(R123=\"\",0,VLOOKUP(R123,'Cover Sheet'!$L$14:$O$34,4,0))","v":0},"-",{"$f":"IF(C123=0,0,VLOOKUP(C123,'Cover Sheet'!$D$10:$G$22,4,0))","v":0},{"$f":"IF(F123=0,0,VLOOKUP(F123,'Cover Sheet'!$D$10:$G$36,4,0))","v":0},null,null,0,7.53,"-","-","-",null,"",0,"-",0,0,null,0,7.53,"-","-","-",null,"",0,"-",0,0]
[106,null,null,null,{"$f":"IF($G124=0,0,VLOOKUP(C124,'Cover Sheet'!$D$10:$F$22,3,0))","v":0},null,0,{"$f":"IF($G124=0,0,VLOOKUP(F124,'Cover Sheet'!$D$10:$F$36,3,0))","v":0},null,{"$f":"IF(I124=0,0,VLOOKUP(I124,'Cover Sheet'!$L$10:$M$13,2,0))","v":0},0,null,{"$f":"IF(L124=0,0,VLOOKUP(L124,'Cover Sheet'!$L$14:$M$34,2,0))","v":0},0,null,{"$f":"IF(L124=\"\",0,VLOOKUP(L124,'Cover Sheet'!$L$14:$O$34,4,0))","v":0},"-",null,{"$f":"IF(R124=0,0,VLOOKUP(R124,'Cover Sheet'!$L$14:$M$34,2,0))","v":0},0,null,{"$f":"IF(R124=\"\",0,VLOOKUP(R124,'Cover Sheet'!$L$14:$O$34,4,0))","v":0},"-",{"$f":"IF(C124=0,0,VLOOKUP(C124,'Cover Sheet'!$D$10:$G$22,4,0))","v":0},{"$f":"IF(F124=0,0,VLOOKUP(F124,'Cover Sheet'!$D$10:$G$36,4,0))","v":0},null,null,0,7.53,"-","-","-",null,"",0,"-",0,0,null,0,7.53,"-","-","-",null,"",0,"-",0,0]
[107,null,null,null,{"$f":"IF($G125=0,0,VLOOKUP(C125,'Cover Sheet'!$D$10:$F$22,3,0))","v":0},null,0,{"$f":"IF($G125=0,0,VLOOKUP(F125,'Cover Sheet'!$D$10:$F$36,3,0))","v":0},null,{"$f":"IF(I125=0,0,VLOOKUP(I125,'Cover Sheet'!$L$10:$M$13,2,0))","v":0},0,null,{"$f":"IF(L125=0,0,VLOOKUP(L125,'Cover Sheet'!$L$14:$M$34,2,0))","v":0},0,null,{"$f":"IF(L125=\"\",0,VLOOKUP(L125,'Cover Sheet'!$L$14:$O$34,4,0))","v":0},"-",null,{"$f":"IF(R125=0,0,VLOOKUP(R125,'Cover Sheet'!$L$14:$M$34,2,0))","v":0},0,null,{"$f":"IF(R125=\"\",0,VLOOKUP(R125,'Cover Sheet'!$L$14:$O$34,4,0))","v":0},"-",{"$f":"IF(C125=0,0,VLOOKUP(C125,'Cover Sheet'!$D$10:$G$22,4,0))","v":0},{"$f":"IF(F125=0,0,VLOOKUP(F125,'Cover Sheet'!$D$10:$G$36,4,0))","v":0},null,null,0,7.53,"-","-","-",null,"",0,"-",0,0,null,0,7.53,"-","-","-",null,"",0,"-",0,0]
[108,null,null,null,{"$f":"IF($G126=0,0,VLOOKUP(C126,'Cover Sheet'!$D$10:$F$22,3,0))","v":0},null,0,{"$f":"IF($G126=0,0,VLOOKUP(F126,'Cover Sheet'!$D$10:$F$36,3,0))","v":0},null,{"$f":"IF(I126=0,0,VLOOKUP(I126,'Cover Sheet'!$L$10:$M$13,2,0))","v":0},0,null,{"$f":"IF(L126=0,0,VLOOKUP(L126,'Cover Sheet'!$L$14:$M$34,2,0))","v":0},0,null,{"$f":"IF(L126=\"\",0,VLOOKUP(L126,'Cover Sheet'!$L$14:$O$34,4,0))","v":0},"-",null,{"$f":"IF(R126=0,0,VLOOKUP(R126,'Cover Sheet'!$L$14:$M$34,2,0))","v":0},0,null,{"$f":"IF(R126=\"\",0,VLOOKUP(R126,'Cover Sheet'!$L$14:$O$34,4,0))","v":0},"-",{"$f":"IF(C126=0,0,VLOOKUP(C126,'Cover Sheet'!$D$10:$G$22,4,0))","v":0},{"$f":"IF(F126=0,0,VLOOKUP(F126,'Cover Sheet'!$D$10:$G$36,4,0))","v":0},null,null,0,7.53,"-","-","-",null,"",0,"-",0,0,null,0,7.53,"-","-","-",null,"",0,"-",0,0]
[109,null,null,null,{"$f":"IF($G127=0,0,VLOOKUP(C127,'Cover Sheet'!$D$10:$F$22,3,0))","v":0},null,0,{"$f":"IF($G127=0,0,VLOOKUP(F127,'Cover Sheet'!$D$10:$F$36,3,0))","v":0},null,{"$f":"IF(I127=0,0,VLOOKUP(I127,'Cover Sheet'!$L$10:$M$13,2,0))","v":0},0,null,{"$f":"IF(L127=0,0,VLOOKUP(L127,'Cover Sheet'!$L$14:$M$34,2,0))","v":0},0,null,{"$f":"IF(L127=\"\",0,VLOOKUP(L127,'Cover Sheet'!$L$14:$O$34,4,0))","v":0},"-",null,{"$f":"IF(R127=0,0,VLOOKUP(R127,'Cover Sheet'!$L$14:$M$34,2,0))","v":0},0,null,{"$f":"IF(R127=\"\",0,VLOOKUP(R127,'Cover Sheet'!$L$14:$O$34,4,0))","v":0},"-",{"$f":"IF(C127=0,0,VLOOKUP(C127,'Cover Sheet'!$D$10:$G$22,4,0))","v":0},{"$f":"IF(F127=0,0,VLOOKUP(F127,'Cover Sheet'!$D$10:$G$36,4,0))","v":0},null,null,0,7.53,"-","-","-",null,"",0,"-",0,0,null,0,7.53,"-","-","-",null,"",0,"-",0,0]
[110,null,null,null,{"$f":"IF($G128=0,0,VLOOKUP(C128,'Cover Sheet'!$D$10:$F$22,3,0))","v":0},null,0,{"$f":"IF($G128=0,0,VLOOKUP(F128,'Cover Sheet'!$D$10:$F$36,3,0))","v":0},null,{"$f":"IF(I128=0,0,VLOOKUP(I128,'Cover Sheet'!$L$10:$M$13,2,0))","v":0},0,null,{"$f":"IF(L128=0,0,VLOOKUP(L128,'Cover Sheet'!$L$14:$M$34,2,0))","v":0},0,null,{"$f":"IF(L128=\"\",0,VLOOKUP(L128,'Cover Sheet'!$L$14:$O$34,4,0))","v":0},"-",null,{"$f":"IF(R128=0,0,VLOOKUP(R128,'Cover Sheet'!$L$14:$M$34,2,0))","v":0},0,null,{"$f":"IF(R128=\"\",0,VLOOKUP(R128,'Cover Sheet'!$L$14:$O$34,4,0))","v":0},"-",{"$f":"IF(C128=0,0,VLOOKUP(C128,'Cover Sheet'!$D$10:$G$22,4,0))","v":0},{"$f":"IF(F128=0,0,VLOOKUP(F128,'Cover Sheet'!$D$10:$G$36,4,0))","v":0},null,null,0,7.53,"-","-","-",null,"",0,"-",0,0,null,0,7.53,"-","-","-",null,"",0,"-",0,0]
[111,null,null,null,{"$f":"IF($G129=0,0,VLOOKUP(C129,'Cover Sheet'!$D$10:$F$22,3,0))","v":0},null,0,{"$f":"IF($G129=0,0,VLOOKUP(F129,'Cover Sheet'!$D$10:$F$36,3,0))","v":0},null,{"$f":"IF(I129=0,0,VLOOKUP(I129,'Cover Sheet'!$L$10:$M$13,2,0))","v":0},0,null,{"$f":"IF(L129=0,0,VLOOKUP(L129,'Cover Sheet'!$L$14:$M$34,2,0))","v":0},0,null,{"$f":"IF(L129=\"\",0,VLOOKUP(L129,'Cover Sheet'!$L$14:$O$34,4,0))","v":0},"-",null,{"$f":"IF(R129=0,0,VLOOKUP(R129,'Cover Sheet'!$L$14:$M$34,2,0))","v":0},0,null,{"$f":"IF(R129=\"\",0,VLOOKUP(R129,'Cover Sheet'!$L$14:$O$34,4,0))","v":0},"-",{"$f":"IF(C129=0,0,VLOOKUP(C129,'Cover Sheet'!$D$10:$G$22,4,0))","v":0},{"$f":"IF(F129=0,0,VLOOKUP(F129,'Cover Sheet'!$D$10:$G$36,4,0))","v":0},null,null,0,7.53,"-",{"$f":"IF(AB129=0,\"-\",(AC129-0.2*AD129)^2/(AC129+0.8*AD129))","v":"-"},"-",null,"",0,"-",0,0,null,0,7.53,"-",{"$f":"IF(AN129=0,\"-\",(AO129-0.2*AP129)^2/(AO129+0.8*AP129))","v":"-"},"-",null,"",0,"-",0,0]
[112,null,null,null,{"$f":"IF($G130=0,0,VLOOKUP(C130,'Cover Sheet'!$D$10:$F$22,3,0))","v":0},null,0,{"$f":"IF($G130=0,0,VLOOKUP(F130,'Cover Sheet'!$D$10:$F$36,3,0))","v":0},null,{"$f":"IF(I130=0,0,VLOOKUP(I130,'Cover Sheet'!$L$10:$M$13,2,0))","v":0},0,null,{"$f":"IF(L130=0,0,VLOOKUP(L130,'Cover Sheet'!$L$14:$M$34,2,0))","v":0},0,null,{"$f":"IF(L130=\"\",0,VLOOKUP(L130,'Cover Sheet'!$L$14:$O$34,4,0))","v":0},"-",null,{"$f":"IF(R130=0,0,VLOOKUP(R130,'Cover Sheet'!$L$14:$M$34,2,0))","v":0},0,null,{"$f":"IF(R130=\"\",0,VLOOKUP(R130,'Cover Sheet'!$L$14:$O$34,4,0))","v":0},"-",{"$f":"IF(C130=0,0,VLOOKUP(C130,'Cover Sheet'!$D$10:$G$22,4,0))","v":0},{"$f":"IF(F130=0,0,VLOOKUP(F130,'Cover Sheet'!$D$10:$G$36,4,0))","v":0},null,null,0,7.53,"-",{"$f":"IF(AB130=0,\"-\",(AC130-0.2*AD130)^2/(AC130+0.8*AD130))","v":"-"},"-",null,"",0,"-",0,0,null,0,7.53,"-",{"$f":"IF(AN130=0,\"-\",(AO130-0.2*AP130)^2/(AO130+0.8*AP130))","v":"-"},"-",null,"",0,"-",0,0]
[113,null,null,null,{"$f":"IF($G131=0,0,VLOOKUP(C131,'Cover Sheet'!$D$10:$F$22,3,0))","v":0},null,0,{"$f":"IF($G131=0,0,VLOOKUP(F131,'Cover Sheet'!$D$10:$F$36,3,0))","v":0},null,{"$f":"IF(I131=0,0,VLOOKUP(I131,'Cover Sheet'!$L$10:$M$13,2,0))","v":0},0,null,{"$f":"IF(L131=0,0,VLOOKUP(L131,'Cover Sheet'!$L$14:$M$34,2,0))","v":0},0,null,{"$f":"IF(L131=\"\",0,VLOOKUP(L131,'Cover Sheet'!$L$14:$O$34,4,0))","v":0},"-",null,{"$f":"IF(R131=0,0,VLOOKUP(R131,'Cover Sheet'!$L$14:$M$34,2,0))","v":0},0,null,{"$f":"IF(R131=\"\",0,VLOOKUP(R131,'Cover Sheet'!$L$14:$O$34,4,0))","v":0},"-",{"$f":"IF(C131=0,0,VLOOKUP(C131,'Cover Sheet'!$D$10:$G$22,4,0))","v":0},{"$f":"IF(F131=0,0,VLOOKUP(F131,'Cover Sheet'!$D$10:$G$36,4,0))","v":0},null,null,0,7.53,"-","-","-",null,"",0,"-",0,0,null,0,7.53,"-","-","-",null,"",0,"-",0,0]
[114,null,null,null,{"$f":"IF($G132=0,0,VLOOKUP(C132,'Cover Sheet'!$D$10:$F$22,3,0))","v":0},null,0,{"$f":"IF($G132=0,0,VLOOKUP(F132,'Cover Sheet'!$D$10:$F$36,3,0))","v":0},null,{"$f":"IF(I132=0,0,VLOOKUP(I132,'Cover Sheet'!$L$10:$M$13,2,0))","v":0},0,null,{"$f":"IF(L132=0,0,VLOOKUP(L132,'Cover Sheet'!$L$14:$M$34,2,0))","v":0},0,null,{"$f":"IF(L132=\"\",0,VLOOKUP(L132,'Cover Sheet'!$L$14:$O$34,4,0))","v":0},"-",null,{"$f":"IF(R132=0,0,VLOOKUP(R132,'Cover Sheet'!$L$14:$M$34,2,0))","v":0},0,null,{"$f":"IF(R132=\"\",0,VLOOKUP(R132,'Cover Sheet'!$L$14:$O$34,4,0))","v":0},"-",{"$f":"IF(C132=0,0,VLOOKUP(C132,'Cover Sheet'!$D$10:$G$22,4,0))","v":0},{"$f":"IF(F132=0,0,VLOOKUP(F132,'Cover Sheet'!$D$10:$G$36,4,0))","v":0},null,null,0,7.53,"-","-","-",null,"",0,"-",0,0,null,0,7.53,"-","-","-",null,"",0,"-",0,0]
[115,null,null,null,{"$f":"IF($G133=0,0,VLOOKUP(C133,'Cover Sheet'!$D$10:$F$22,3,0))","v":0},null,{"$f":"D133","v":0},{"$f":"IF($G133=0,0,VLOOKUP(F133,'Cover Sheet'!$D$10:$F$36,3,0))","v":0},null,{"$f":"IF(I133=0,0,VLOOKUP(I133,'Cover Sheet'!$L$10:$M$13,2,0))","v":0},0,null,{"$f":"IF(L133=0,0,VLOOKUP(L133,'Cover Sheet'!$L$14:$M$34,2,0))","v":0},0,null,{"$f":"IF(L133=\"\",0,VLOOKUP(L133,'Cover Sheet'!$L$14:$O$34,4,0))","v":0},"-",null,{"$f":"IF(R133=0,0,VLOOKUP(R133,'Cover Sheet'!$L$14:$M$34,2,0))","v":0},0,null,{"$f":"IF(R133=\"\",0,VLOOKUP(R133,'Cover Sheet'!$L$14:$O$34,4,0))","v":0},{"$f":"IF(R133=\"\",\"-\",V133*$D$10*N133*G133/12*43560)","v":"-"},{"$f":"IF(C133=0,0,VLOOKUP(C133,'Cover Sheet'!$D$10:$G$22,4,0))","v":0},{"$f":"IF(F133=0,0,VLOOKUP(F133,'Cover Sheet'!$D$10:$G$36,4,0))","v":0},null,null,0,7.53,{"$f":"IF(AB133=0,\"-\",1000/AB133-10)","v":"-"},"-","-",null,"",{"$f":"IF(OR(AB133=0,L133=\"\"),0,12*AH133/43560/D133)","v":0},"-",0,0,null,0,7.53,{"$f":"IF(AN133=0,\"-\",1000/AN133-10)","v":"-"},"-","-",null,"",0,"-",{"$f":"IF(AN133=0,0,1000/(10+5*AO133+10*AV133-10*(AV133^2+1.25*AV133*AO133)^(1/2)))","v":0},0]
[116,null,null,null,{"$f":"IF($G134=0,0,VLOOKUP(C134,'Cover Sheet'!$D$10:$F$22,3,0))","v":0},null,0,{"$f":"IF($G134=0,0,VLOOKUP(F134,'Cover Sheet'!$D$10:$F$36,3,0))","v":0},null,{"$f":"IF(I134=0,0,VLOOKUP(I134,'Cover Sheet'!$L$10:$M$13,2,0))","v":0},0,null,{"$f":"IF(L134=0,0,VLOOKUP(L134,'Cover Sheet'!$L$14:$M$34,2,0))","v":0},0,null,{"$f":"IF(L134=\"\",0,VLOOKUP(L134,'Cover Sheet'!$L$14:$O$34,4,0))","v":0},"-",null,{"$f":"IF(R134=0,0,VLOOKUP(R134,'Cover Sheet'!$L$14:$M$34,2,0))","v":0},0,null,{"$f":"IF(R134=\"\",0,VLOOKUP(R134,'Cover Sheet'!$L$14:$O$34,4,0))","v":0},"-",{"$f":"IF(C134=0,0,VLOOKUP(C134,'Cover Sheet'!$D$10:$G$22,4,0))","v":0},{"$f":"IF(F134=0,0,VLOOKUP(F134,'Cover Sheet'!$D$10:$G$36,4,0))","v":0},null,null,0,7.53,"-","-","-",null,"",0,"-",0,0,null,0,7.53,"-","-","-",null,"",0,"-",0,0]
[117,null,null,null,{"$f":"IF($G135=0,0,VLOOKUP(C135,'Cover Sheet'!$D$10:$F$22,3,0))","v":0},null,0,{"$f":"IF($G135=0,0,VLOOKUP(F135,'Cover Sheet'!$D$10:$F$36,3,0))","v":0},null,{"$f":"IF(I135=0,0,VLOOKUP(I135,'Cover Sheet'!$L$10:$M$13,2,0))","v":0},0,null,{"$f":"IF(L135=0,0,VLOOKUP(L135,'Cover Sheet'!$L$14:$M$34,2,0))","v":0},0,null,{"$f":"IF(L135=\"\",0,VLOOKUP(L135,'Cover Sheet'!$L$14:$O$34,4,0))","v":0},"-",null,{"$f":"IF(R135=0,0,VLOOKUP(R135,'Cover Sheet'!$L$14:$M$34,2,0))","v":0},0,null,{"$f":"IF(R135=\"\",0,VLOOKUP(R135,'Cover Sheet'!$L$14:$O$34,4,0))","v":0},"-",{"$f":"IF(C135=0,0,VLOOKUP(C135,'Cover Sheet'!$D$10:$G$22,4,0))","v":0},{"$f":"IF(F135=0,0,VLOOKUP(F135,'Cover Sheet'!$D$10:$G$36,4,0))","v":0},null,null,0,7.53,"-","-","-",null,"",0,"-",0,0,null,0,7.53,"-","-","-",null,"",0,"-",0,0]
[118,null,null,null,{"$f":"IF($G136=0,0,VLOOKUP(C136,'Cover Sheet'!$D$10:$F$22,3,0))","v":0},null,0,{"$f":"IF($G136=0,0,VLOOKUP(F136,'Cover Sheet'!$D$10:$F$36,3,0))","v":0},null,{"$f":"IF(I136=0,0,VLOOKUP(I136,'Cover Sheet'!$L$10:$M$13,2,0))","v":0},0,null,{"$f":"IF(L136=0,0,VLOOKUP(L136,'Cover Sheet'!$L$14:$M$34,2,0))","v":0},0,null,{"$f":"IF(L136=\"\",0,VLOOKUP(L136,'Cover Sheet'!$L$14:$O$34,4,0))","v":0},"-",null,{"$f":"IF(R136=0,0,VLOOKUP(R136,'Cover Sheet'!$L$14:$M$34,2,0))","v":0},0,null,{"$f":"IF(R136=\"\",0,VLOOKUP(R136,'Cover Sheet'!$L$14:$O$34,4,0))","v":0},"-",{"$f":"IF(C136=0,0,VLOOKUP(C136,'Cover Sheet'!$D$10:$G$22,4,0))","v":0},{"$f":"IF(F136=0,0,VLOOKUP(F136,'Cover Sheet'!$D$10:$G$36,4,0))","v":0},null,null,0,7.53,"-","-","-",null,"",0,"-",0,0,null,0,7.53,"-","-","-",null,"",0,"-",0,0]
[119,null,null,null,{"$f":"IF($G137=0,0,VLOOKUP(C137,'Cover Sheet'!$D$10:$F$22,3,0))","v":0},null,0,{"$f":"IF($G137=0,0,VLOOKUP(F137,'Cover Sheet'!$D$10:$F$36,3,0))","v":0},null,{"$f":"IF(I137=0,0,VLOOKUP(I137,'Cover Sheet'!$L$10:$M$13,2,0))","v":0},0,null,{"$f":"IF(L137=0,0,VLOOKUP(L137,'Cover Sheet'!$L$14:$M$34,2,0))","v":0},0,null,{"$f":"IF(L137=\"\",0,VLOOKUP(L137,'Cover Sheet'!$L$14:$O$34,4,0))","v":0},"-",null,{"$f":"IF(R137=0,0,VLOOKUP(R137,'Cover Sheet'!$L$14:$M$34,2,0))","v":0},0,null,{"$f":"IF(R137=\"\",0,VLOOKUP(R137,'Cover Sheet'!$L$14:$O$34,4,0))","v":0},"-",{"$f":"IF(C137=0,0,VLOOKUP(C137,'Cover Sheet'!$D$10:$G$22,4,0))","v":0},{"$f":"IF(F137=0,0,VLOOKUP(F137,'Cover Sheet'!$D$10:$G$36,4,0))","v":0},null,null,0,7.53,"-","-","-",null,"",0,"-",0,0,null,0,7.53,"-","-","-",null,"",0,"-",0,0]
[120,null,null,null,{"$f":"IF($G138=0,0,VLOOKUP(C138,'Cover Sheet'!$D$10:$F$22,3,0))","v":0},null,0,{"$f":"IF($G138=0,0,VLOOKUP(F138,'Cover Sheet'!$D$10:$F$36,3,0))","v":0},null,{"$f":"IF(I138=0,0,VLOOKUP(I138,'Cover Sheet'!$L$10:$M$13,2,0))","v":0},0,null,{"$f":"IF(L138=0,0,VLOOKUP(L138,'Cover Sheet'!$L$14:$M$34,2,0))","v":0},0,null,{"$f":"IF(L138=\"\",0,VLOOKUP(L138,'Cover Sheet'!$L$14:$O$34,4,0))","v":0},"-",null,{"$f":"IF(R138=0,0,VLOOKUP(R138,'Cover Sheet'!$L$14:$M$34,2,0))","v":0},0,null,{"$f":"IF(R138=\"\",0,VLOOKUP(R138,'Cover Sheet'!$L$14:$O$34,4,0))","v":0},"-",{"$f":"IF(C138=0,0,VLOOKUP(C138,'Cover Sheet'!$D$10:$G$22,4,0))","v":0},{"$f":"IF(F138=0,0,VLOOKUP(F138,'Cover Sheet'!$D$10:$G$36,4,0))","v":0},null,null,0,7.53,"-","-","-",null,"",0,"-",0,0,null,0,7.53,"-","-","-",null,"",0,"-",0,0]
[121,null,null,null,{"$f":"IF($G139=0,0,VLOOKUP(C139,'Cover Sheet'!$D$10:$F$22,3,0))","v":0},null,0,{"$f":"IF($G139=0,0,VLOOKUP(F139,'Cover Sheet'!$D$10:$F$36,3,0))","v":0},null,{"$f":"IF(I139=0,0,VLOOKUP(I139,'Cover Sheet'!$L$10:$M$13,2,0))","v":0},0,null,{"$f":"IF(L139=0,0,VLOOKUP(L139,'Cover Sheet'!$L$14:$M$34,2,0))","v":0},0,null,{"$f":"IF(L139=\"\",0,VLOOKUP(L139,'Cover Sheet'!$L$14:$O$34,4,0))","v":0},"-",null,{"$f":"IF(R139=0,0,VLOOKUP(R139,'Cover Sheet'!$L$14:$M$34,2,0))","v":0},0,null,{"$f":"IF(R139=\"\",0,VLOOKUP(R139,'Cover Sheet'!$L$14:$O$34,4,0))","v":0},"-",{"$f":"IF(C139=0,0,VLOOKUP(C139,'Cover Sheet'!$D$10:$G$22,4,0))","v":0},{"$f":"IF(F139=0,0,VLOOKUP(F139,'Cover Sheet'!$D$10:$G$36,4,0))","v":0},null,null,0,7.53,"-",{"$f":"IF(AB139=0,\"-\",(AC139-0.2*AD139)^2/(AC139+0.8*AD139))","v":"-"},"-",null,"",0,"-",0,0,null,0,7.53,"-",{"$f":"IF(AN139=0,\"-\",(AO139-0.2*AP139)^2/(AO139+0.8*AP139))","v":"-"},"-",null,"",0,"-",0,0]
[122,null,null,null,{"$f":"IF($G140=0,0,VLOOKUP(C140,'Cover Sheet'!$D$10:$F$22,3,0))","v":0},null,0,{"$f":"IF($G140=0,0,VLOOKUP(F140,'Cover Sheet'!$D$10:$F$36,3,0))","v":0},null,{"$f":"IF(I140=0,0,VLOOKUP(I140,'Cover Sheet'!$L$10:$M$13,2,0))","v":0},0,null,{"$f":"IF(L140=0,0,VLOOKUP(L140,'Cover Sheet'!$L$14:$M$34,2,0))","v":0},0,null,{"$f":"IF(L140=\"\",0,VLOOKUP(L140,'Cover Sheet'!$L$14:$O$34,4,0))","v":0},"-",null,{"$f":"IF(R140=0,0,VLOOKUP(R140,'Cover Sheet'!$L$14:$M$34,2,0))","v":0},0,null,{"$f":"IF(R140=\"\",0,VLOOKUP(R140,'Cover Sheet'!$L$14:$O$34,4,0))","v":0},"-",{"$f":"IF(C140=0,0,VLOOKUP(C140,'Cover Sheet'!$D$10:$G$22,4,0))","v":0},{"$f":"IF(F140=0,0,VLOOKUP(F140,'Cover Sheet'!$D$10:$G$36,4,0))","v":0},null,null,0,7.53,"-",{"$f":"IF(AB140=0,\"-\",(AC140-0.2*AD140)^2/(AC140+0.8*AD140))","v":"-"},"-",null,"",0,"-",0,0,null,0,7.53,"-",{"$f":"IF(AN140=0,\"-\",(AO140-0.2*AP140)^2/(AO140+0.8*AP140))","v":"-"},"-",null,"",0,"-",0,0]
[123,null,null,null,{"$f":"IF($G141=0,0,VLOOKUP(C141,'Cover Sheet'!$D$10:$F$22,3,0))","v":0},null,0,{"$f":"IF($G141=0,0,VLOOKUP(F141,'Cover Sheet'!$D$10:$F$36,3,0))","v":0},null,{"$f":"IF(I141=0,0,VLOOKUP(I141,'Cover Sheet'!$L$10:$M$13,2,0))","v":0},0,null,{"$f":"IF(L141=0,0,VLOOKUP(L141,'Cover Sheet'!$L$14:$M$34,2,0))","v":0},0,null,{"$f":"IF(L141=\"\",0,VLOOKUP(L141,'Cover Sheet'!$L$14:$O$34,4,0))","v":0},"-",null,{"$f":"IF(R141=0,0,VLOOKUP(R141,'Cover Sheet'!$L$14:$M$34,2,0))","v":0},0,null,{"$f":"IF(R141=\"\",0,VLOOKUP(R141,'Cover Sheet'!$L$14:$O$34,4,0))","v":0},"-",{"$f":"IF(C141=0,0,VLOOKUP(C141,'Cover Sheet'!$D$10:$G$22,4,0))","v":0},{"$f":"IF(F141=0,0,VLOOKUP(F141,'Cover Sheet'!$D$10:$G$36,4,0))","v":0},null,null,0,7.53,"-","-","-",null,"",0,"-",0,0,null,0,7.53,"-","-","-",null,"",0,"-",0,0]
[124,null,null,null,{"$f":"IF($G142=0,0,VLOOKUP(C142,'Cover Sheet'!$D$10:$F$22,3,0))","v":0},null,0,{"$f":"IF($G142=0,0,VLOOKUP(F142,'Cover Sheet'!$D$10:$F$36,3,0))","v":0},null,{"$f":"IF(I142=0,0,VLOOKUP(I142,'Cover Sheet'!$L$10:$M$13,2,0))","v":0},0,null,{"$f":"IF(L142=0,0,VLOOKUP(L142,'Cover Sheet'!$L$14:$M$34,2,0))","v":0},0,null,{"$f":"IF(L142=\"\",0,VLOOKUP(L142,'Cover Sheet'!$L$14:$O$34,4,0))","v":0},"-",null,{"$f":"IF(R142=0,0,VLOOKUP(R142,'Cover Sheet'!$L$14:$M$34,2,0))","v":0},0,null,{"$f":"IF(R142=\"\",0,VLOOKUP(R142,'Cover Sheet'!$L$14:$O$34,4,0))","v":0},"-",{"$f":"IF(C142=0,0,VLOOKUP(C142,'Cover Sheet'!$D$10:$G$22,4,0))","v":0},{"$f":"IF(F142=0,0,VLOOKUP(F142,'Cover Sheet'!$D$10:$G$36,4,0))","v":0},null,null,0,7.53,"-","-","-",null,"",0,"-",0,0,null,0,7.53,"-","-","-",null,"",0,"-",0,0]
[125,null,null,null,{"$f":"IF($G143=0,0,VLOOKUP(C143,'Cover Sheet'!$D$10:$F$22,3,0))","v":0},null,0,{"$f":"IF($G143=0,0,VLOOKUP(F143,'Cover Sheet'!$D$10:$F$36,3,0))","v":0},null,{"$f":"IF(I143=0,0,VLOOKUP(I143,'Cover Sheet'!$L$10:$M$13,2,0))","v":0},0,null,{"$f":"IF(L143=0,0,VLOOKUP(L143,'Cover Sheet'!$L$14:$M$34,2,0))","v":0},0,null,{"$f":"IF(L143=\"\",0,VLOOKUP(L143,'Cover Sheet'!$L$14:$O$34,4,0))","v":0},"-",null,{"$f":"IF(R143=0,0,VLOOKUP(R143,'Cover Sheet'!$L$14:$M$34,2,0))","v":0},0,null,{"$f":"IF(R143=\"\",0,VLOOKUP(R143,'Cover Sheet'!$L$14:$O$34,4,0))","v":0},"-",{"$f":"IF(C143=0,0,VLOOKUP(C143,'Cover Sheet'!$D$10:$G$22,4,0))","v":0},{"$f":"IF(F143=0,0,VLOOKUP(F143,'Cover Sheet'!$D$10:$G$36,4,0))","v":0},null,null,0,7.53,"-","-","-",null,"",0,"-",0,0,null,0,7.53,"-","-","-",null,"",0,"-",0,0]
[126,null,null,null,{"$f":"IF($G144=0,0,VLOOKUP(C144,'Cover Sheet'!$D$10:$F$22,3,0))","v":0},null,0,{"$f":"IF($G144=0,0,VLOOKUP(F144,'Cover Sheet'!$D$10:$F$34,3,0))","v":0},null,{"$f":"IF(I144=0,0,VLOOKUP(I144,'Cover Sheet'!$L$10:$M$13,2,0))","v":0},0,null,{"$f":"IF(L144=0,0,VLOOKUP(L144,'Cover Sheet'!$L$14:$M$34,2,0))","v":0},0,null,{"$f":"IF(L144=\"\",0,VLOOKUP(L144,'Cover Sheet'!$L$10:$O$34,4,0))","v":0},"-",null,{"$f":"IF(R144=0,0,VLOOKUP(R144,'Cover Sheet'!$L$14:$M$34,2,0))","v":0},0,null,{"$f":"IF(R144=\"\",0,VLOOKUP(R144,'Cover Sheet'!$L$10:$O$34,4,0))","v":0},"-",{"$f":"IF(C144=0,0,VLOOKUP(C144,'Cover Sheet'!$D$10:$G$22,4,0))","v":0},{"$f":"IF(F144=0,0,VLOOKUP(F144,'Cover Sheet'!$D$10:$G$34,4,0))","v":0},null,null,0,7.53,"-","-","-",null,"",0,"-",0,0,null,0,7.53,"-","-","-",null,"",0,"-",0,0]
[127,null,null,null,{"$f":"IF($G145=0,0,VLOOKUP(C145,'Cover Sheet'!$D$10:$F$22,3,0))","v":0},null,0,{"$f":"IF($G145=0,0,VLOOKUP(F145,'Cover Sheet'!$D$10:$F$34,3,0))","v":0},null,{"$f":"IF(I145=0,0,VLOOKUP(I145,'Cover Sheet'!$L$10:$M$13,2,0))","v":0},0,null,{"$f":"IF(L145=0,0,VLOOKUP(L145,'Cover Sheet'!$L$14:$M$34,2,0))","v":0},0,null,{"$f":"IF(L145=\"\",0,VLOOKUP(L145,'Cover Sheet'!$L$10:$O$34,4,0))","v":0},"-",null,{"$f":"IF(R145=0,0,VLOOKUP(R145,'Cover Sheet'!$L$14:$M$34,2,0))","v":0},0,null,{"$f":"IF(R145=\"\",0,VLOOKUP(R145,'Cover Sheet'!$L$10:$O$34,4,0))","v":0},"-",{"$f":"IF(C145=0,0,VLOOKUP(C145,'Cover Sheet'!$D$10:$G$22,4,0))","v":0},{"$f":"IF(F145=0,0,VLOOKUP(F145,'Cover Sheet'!$D$10:$G$34,4,0))","v":0},null,null,0,7.53,"-","-","-",null,"",0,"-",0,0,null,0,7.53,"-","-","-",null,"",0,"-",0,0]
[128,null,null,null,{"$f":"IF($G146=0,0,VLOOKUP(C146,'Cover Sheet'!$D$10:$F$22,3,0))","v":0},null,0,{"$f":"IF($G146=0,0,VLOOKUP(F146,'Cover Sheet'!$D$10:$F$34,3,0))","v":0},null,{"$f":"IF(I146=0,0,VLOOKUP(I146,'Cover Sheet'!$L$10:$M$13,2,0))","v":0},0,null,{"$f":"IF(L146=0,0,VLOOKUP(L146,'Cover Sheet'!$L$14:$M$34,2,0))","v":0},0,null,{"$f":"IF(L146=\"\",0,VLOOKUP(L146,'Cover Sheet'!$L$10:$O$34,4,0))","v":0},"-",null,{"$f":"IF(R146=0,0,VLOOKUP(R146,'Cover Sheet'!$L$14:$M$34,2,0))","v":0},0,null,{"$f":"IF(R146=\"\",0,VLOOKUP(R146,'Cover Sheet'!$L$10:$O$34,4,0))","v":0},"-",{"$f":"IF(C146=0,0,VLOOKUP(C146,'Cover Sheet'!$D$10:$G$22,4,0))","v":0},{"$f":"IF(F146=0,0,VLOOKUP(F146,'Cover Sheet'!$D$10:$G$34,4,0))","v":0},null,null,0,7.53,"-","-","-",null,"",0,"-",0,0,null,0,7.53,"-","-","-",null,"",0,"-",0,0]
[129,null,null,null,{"$f":"IF($G147=0,0,VLOOKUP(C147,'Cover Sheet'!$D$10:$F$22,3,0))","v":0},null,0,{"$f":"IF($G147=0,0,VLOOKUP(F147,'Cover Sheet'!$D$10:$F$34,3,0))","v":0},null,{"$f":"IF(I147=0,0,VLOOKUP(I147,'Cover Sheet'!$L$10:$M$13,2,0))","v":0},0,null,{"$f":"IF(L147=0,0,VLOOKUP(L147,'Cover Sheet'!$L$14:$M$34,2,0))","v":0},0,null,{"$f":"IF(L147=\"\",0,VLOOKUP(L147,'Cover Sheet'!$L$10:$O$34,4,0))","v":0},"-",null,{"$f":"IF(R147=0,0,VLOOKUP(R147,'Cover Sheet'!$L$14:$M$34,2,0))","v":0},0,null,{"$f":"IF(R147=\"\",0,VLOOKUP(R147,'Cover Sheet'!$L$10:$O$34,4,0))","v":0},"-",{"$f":"IF(C147=0,0,VLOOKUP(C147,'Cover Sheet'!$D$10:$G$22,4,0))","v":0},{"$f":"IF(F147=0,0,VLOOKUP(F147,'Cover Sheet'!$D$10:$G$34,4,0))","v":0},null,null,0,7.53,"-","-","-",null,"",0,"-",0,0,null,0,7.53,"-","-","-",null,"",0,"-",0,0]
[130,null,null,null,{"$f":"IF($G148=0,0,VLOOKUP(C148,'Cover Sheet'!$D$10:$F$22,3,0))","v":0},null,0,{"$f":"IF($G148=0,0,VLOOKUP(F148,'Cover Sheet'!$D$10:$F$34,3,0))","v":0},null,{"$f":"IF(I148=0,0,VLOOKUP(I148,'Cover Sheet'!$L$10:$M$13,2,0))","v":0},0,null,{"$f":"IF(L148=0,0,VLOOKUP(L148,'Cover Sheet'!$L$14:$M$34,2,0))","v":0},0,null,{"$f":"IF(L148=\"\",0,VLOOKUP(L148,'Cover Sheet'!$L$10:$O$34,4,0))","v":0},"-",null,{"$f":"IF(R148=0,0,VLOOKUP(R148,'Cover Sheet'!$L$14:$M$34,2,0))","v":0},0,null,{"$f":"IF(R148=\"\",0,VLOOKUP(R148,'Cover Sheet'!$L$10:$O$34,4,0))","v":0},"-",{"$f":"IF(C148=0,0,VLOOKUP(C148,'Cover Sheet'!$D$10:$G$22,4,0))","v":0},{"$f":"IF(F148=0,0,VLOOKUP(F148,'Cover Sheet'!$D$10:$G$34,4,0))","v":0},null,null,0,7.53,"-","-","-",null,"",0,{"$f":"IF(AB148=0,\"-\",IF(AE148-AI148<0,0,AE148-AI148))","v":"-"},0,0,null,0,7.53,"-","-","-",null,"",0,{"$f":"IF(AN148=0,\"-\",IF(AQ148-AU148<0,0,AQ148-AU148))","v":"-"},0,0]
[131,null,null,null,{"$f":"IF($G149=0,0,VLOOKUP(C149,'Cover Sheet'!$D$10:$F$22,3,0))","v":0},null,0,{"$f":"IF($G149=0,0,VLOOKUP(F149,'Cover Sheet'!$D$10:$F$34,3,0))","v":0},null,{"$f":"IF(I149=0,0,VLOOKUP(I149,'Cover Sheet'!$L$10:$M$13,2,0))","v":0},0,null,{"$f":"IF(L149=0,0,VLOOKUP(L149,'Cover Sheet'!$L$14:$M$34,2,0))","v":0},0,null,{"$f":"IF(L149=\"\",0,VLOOKUP(L149,'Cover Sheet'!$L$10:$O$34,4,0))","v":0},"-",null,{"$f":"IF(R149=0,0,VLOOKUP(R149,'Cover Sheet'!$L$14:$M$34,2,0))","v":0},0,null,{"$f":"IF(R149=\"\",0,VLOOKUP(R149,'Cover Sheet'!$L$10:$O$34,4,0))","v":0},"-",{"$f":"IF(C149=0,0,VLOOKUP(C149,'Cover Sheet'!$D$10:$G$22,4,0))","v":0},{"$f":"IF(F149=0,0,VLOOKUP(F149,'Cover Sheet'!$D$10:$G$34,4,0))","v":0},null,null,0,7.53,"-",{"$f":"IF(AB149=0,\"-\",(AC149-0.2*AD149)^2/(AC149+0.8*AD149))","v":"-"},"-",null,"",0,"-",0,0,null,0,7.53,"-",{"$f":"IF(AN149=0,\"-\",(AO149-0.2*AP149)^2/(AO149+0.8*AP149))","v":"-"},"-",null,"",0,"-",0,0]
[132,null,null,null,{"$f":"IF($G150=0,0,VLOOKUP(C150,'Cover Sheet'!$D$10:$F$22,3,0))","v":0},null,0,{"$f":"IF($G150=0,0,VLOOKUP(F150,'Cover Sheet'!$D$10:$F$34,3,0))","v":0},null,{"$f":"IF(I150=0,0,VLOOKUP(I150,'Cover Sheet'!$L$10:$M$13,2,0))","v":0},0,null,{"$f":"IF(L150=0,0,VLOOKUP(L150,'Cover Sheet'!$L$14:$M$34,2,0))","v":0},0,null,{"$f":"IF(L150=\"\",0,VLOOKUP(L150,'Cover Sheet'!$L$10:$O$34,4,0))","v":0},"-",null,{"$f":"IF(R150=0,0,VLOOKUP(R150,'Cover Sheet'!$L$14:$M$34,2,0))","v":0},0,null,{"$f":"IF(R150=\"\",0,VLOOKUP(R150,'Cover Sheet'!$L$10:$O$34,4,0))","v":0},"-",{"$f":"IF(C150=0,0,VLOOKUP(C150,'Cover Sheet'!$D$10:$G$22,4,0))","v":0},{"$f":"IF(F150=0,0,VLOOKUP(F150,'Cover Sheet'!$D$10:$G$34,4,0))","v":0},null,null,0,7.53,"-",{"$f":"IF(AB150=0,\"-\",(AC150-0.2*AD150)^2/(AC150+0.8*AD150))","v":"-"},"-",null,"",0,"-",0,0,null,0,7.53,"-",{"$f":"IF(AN150=0,\"-\",(AO150-0.2*AP150)^2/(AO150+0.8*AP150))","v":"-"},"-",null,"",0,"-",0,0]
[133,null,null,null,{"$f":"IF($G151=0,0,VLOOKUP(C151,'Cover Sheet'!$D$10:$F$22,3,0))","v":0},null,0,{"$f":"IF($G151=0,0,VLOOKUP(F151,'Cover Sheet'!$D$10:$F$34,3,0))","v":0},null,{"$f":"IF(I151=0,0,VLOOKUP(I151,'Cover Sheet'!$L$10:$M$13,2,0))","v":0},0,null,{"$f":"IF(L151=0,0,VLOOKUP(L151,'Cover Sheet'!$L$14:$M$34,2,0))","v":0},0,null,{"$f":"IF(L151=\"\",0,VLOOKUP(L151,'Cover Sheet'!$L$10:$O$34,4,0))","v":0},"-",null,{"$f":"IF(R151=0,0,VLOOKUP(R151,'Cover Sheet'!$L$14:$M$34,2,0))","v":0},0,null,{"$f":"IF(R151=\"\",0,VLOOKUP(R151,'Cover Sheet'!$L$10:$O$34,4,0))","v":0},"-",{"$f":"IF(C151=0,0,VLOOKUP(C151,'Cover Sheet'!$D$10:$G$22,4,0))","v":0},{"$f":"IF(F151=0,0,VLOOKUP(F151,'Cover Sheet'!$D$10:$G$34,4,0))","v":0},null,null,0,7.53,"-","-","-",null,"",0,"-",0,0,null,0,7.53,"-","-","-",null,"",0,"-",0,0]
[134,null,null,null,{"$f":"IF($G152=0,0,VLOOKUP(C152,'Cover Sheet'!$D$10:$F$22,3,0))","v":0},null,0,{"$f":"IF($G152=0,0,VLOOKUP(F152,'Cover Sheet'!$D$10:$F$34,3,0))","v":0},null,{"$f":"IF(I152=0,0,VLOOKUP(I152,'Cover Sheet'!$L$10:$M$13,2,0))","v":0},0,null,{"$f":"IF(L152=0,0,VLOOKUP(L152,'Cover Sheet'!$L$14:$M$34,2,0))","v":0},0,null,{"$f":"IF(L152=\"\",0,VLOOKUP(L152,'Cover Sheet'!$L$10:$O$34,4,0))","v":0},"-",null,{"$f":"IF(R152=0,0,VLOOKUP(R152,'Cover Sheet'!$L$14:$M$34,2,0))","v":0},0,null,{"$f":"IF(R152=\"\",0,VLOOKUP(R152,'Cover Sheet'!$L$10:$O$34,4,0))","v":0},"-",{"$f":"IF(C152=0,0,VLOOKUP(C152,'Cover Sheet'!$D$10:$G$22,4,0))","v":0},{"$f":"IF(F152=0,0,VLOOKUP(F152,'Cover Sheet'!$D$10:$G$34,4,0))","v":0},null,null,0,7.53,"-","-","-",null,"",0,"-",0,0,null,0,7.53,"-","-","-",null,"",0,"-",0,0]
[135,null,null,null,{"$f":"IF($G153=0,0,VLOOKUP(C153,'Cover Sheet'!$D$10:$F$22,3,0))","v":0},null,0,{"$f":"IF($G153=0,0,VLOOKUP(F153,'Cover Sheet'!$D$10:$F$34,3,0))","v":0},null,{"$f":"IF(I153=0,0,VLOOKUP(I153,'Cover Sheet'!$L$10:$M$13,2,0))","v":0},0,null,{"$f":"IF(L153=0,0,VLOOKUP(L153,'Cover Sheet'!$L$14:$M$34,2,0))","v":0},0,null,{"$f":"IF(L153=\"\",0,VLOOKUP(L153,'Cover Sheet'!$L$10:$O$34,4,0))","v":0},"-",null,{"$f":"IF(R153=0,0,VLOOKUP(R153,'Cover Sheet'!$L$14:$M$34,2,0))","v":0},0,null,{"$f":"IF(R153=\"\",0,VLOOKUP(R153,'Cover Sheet'!$L$10:$O$34,4,0))","v":0},"-",{"$f":"IF(C153=0,0,VLOOKUP(C153,'Cover Sheet'!$D$10:$G$22,4,0))","v":0},{"$f":"IF(F153=0,0,VLOOKUP(F153,'Cover Sheet'!$D$10:$G$34,4,0))","v":0},null,null,0,7.53,"-","-","-",null,"",0,"-",0,0,null,0,7.53,"-","-","-",null,"",0,"-",0,0]
[136,null,null,null,{"$f":"IF($G154=0,0,VLOOKUP(C154,'Cover Sheet'!$D$10:$F$22,3,0))","v":0},null,0,{"$f":"IF($G154=0,0,VLOOKUP(F154,'Cover Sheet'!$D$10:$F$34,3,0))","v":0},null,{"$f":"IF(I154=0,0,VLOOKUP(I154,'Cover Sheet'!$L$10:$M$13,2,0))","v":0},0,null,{"$f":"IF(L154=0,0,VLOOKUP(L154,'Cover Sheet'!$L$14:$M$34,2,0))","v":0},0,null,{"$f":"IF(L154=\"\",0,VLOOKUP(L154,'Cover Sheet'!$L$10:$O$34,4,0))","v":0},"-",null,{"$f":"IF(R154=0,0,VLOOKUP(R154,'Cover Sheet'!$L$14:$M$34,2,0))","v":0},0,null,{"$f":"IF(R154=\"\",0,VLOOKUP(R154,'Cover Sheet'!$L$10:$O$34,4,0))","v":0},"-",{"$f":"IF(C154=0,0,VLOOKUP(C154,'Cover Sheet'!$D$10:$G$22,4,0))","v":0},{"$f":"IF(F154=0,0,VLOOKUP(F154,'Cover Sheet'!$D$10:$G$34,4,0))","v":0},null,null,0,7.53,"-","-","-",null,"",0,"-",0,0,null,0,7.53,"-","-","-",null,"",0,"-",0,0]
[137,null,null,null,{"$f":"IF($G155=0,0,VLOOKUP(C155,'Cover Sheet'!$D$10:$F$22,3,0))","v":0},null,0,{"$f":"IF($G155=0,0,VLOOKUP(F155,'Cover Sheet'!$D$10:$F$34,3,0))","v":0},null,{"$f":"IF(I155=0,0,VLOOKUP(I155,'Cover Sheet'!$L$10:$M$13,2,0))","v":0},0,null,{"$f":"IF(L155=0,0,VLOOKUP(L155,'Cover Sheet'!$L$14:$M$34,2,0))","v":0},0,null,{"$f":"IF(L155=\"\",0,VLOOKUP(L155,'Cover Sheet'!$L$10:$O$34,4,0))","v":0},"-",null,{"$f":"IF(R155=0,0,VLOOKUP(R155,'Cover Sheet'!$L$14:$M$34,2,0))","v":0},0,null,{"$f":"IF(R155=\"\",0,VLOOKUP(R155,'Cover Sheet'!$L$10:$O$34,4,0))","v":0},"-",{"$f":"IF(C155=0,0,VLOOKUP(C155,'Cover Sheet'!$D$10:$G$22,4,0))","v":0},{"$f":"IF(F155=0,0,VLOOKUP(F155,'Cover Sheet'!$D$10:$G$34,4,0))","v":0},null,null,0,7.53,"-","-","-",null,"",0,"-",0,0,null,0,7.53,"-","-","-",null,"",0,"-",0,0]
[138,null,null,null,{"$f":"IF($G156=0,0,VLOOKUP(C156,'Cover Sheet'!$D$10:$F$22,3,0))","v":0},null,0,{"$f":"IF($G156=0,0,VLOOKUP(F156,'Cover Sheet'!$D$10:$F$34,3,0))","v":0},null,{"$f":"IF(I156=0,0,VLOOKUP(I156,'Cover Sheet'!$L$10:$M$13,2,0))","v":0},0,null,{"$f":"IF(L156=0,0,VLOOKUP(L156,'Cover Sheet'!$L$14:$M$34,2,0))","v":0},0,null,{"$f":"IF(L156=\"\",0,VLOOKUP(L156,'Cover Sheet'!$L$10:$O$34,4,0))","v":0},"-",null,{"$f":"IF(R156=0,0,VLOOKUP(R156,'Cover Sheet'!$L$14:$M$34,2,0))","v":0},0,null,{"$f":"IF(R156=\"\",0,VLOOKUP(R156,'Cover Sheet'!$L$10:$O$34,4,0))","v":0},"-",{"$f":"IF(C156=0,0,VLOOKUP(C156,'Cover Sheet'!$D$10:$G$22,4,0))","v":0},{"$f":"IF(F156=0,0,VLOOKUP(F156,'Cover Sheet'!$D$10:$G$34,4,0))","v":0},null,null,0,7.53,"-","-","-",null,"",0,"-",0,0,null,0,7.53,"-","-","-",null,"",0,"-",0,0]
[139,null,null,null,{"$f":"IF($G157=0,0,VLOOKUP(C157,'Cover Sheet'!$D$10:$F$22,3,0))","v":0},null,0,{"$f":"IF($G157=0,0,VLOOKUP(F157,'Cover Sheet'!$D$10:$F$34,3,0))","v":0},null,{"$f":"IF(I157=0,0,VLOOKUP(I157,'Cover Sheet'!$L$10:$M$13,2,0))","v":0},0,null,{"$f":"IF(L157=0,0,VLOOKUP(L157,'Cover Sheet'!$L$14:$M$34,2,0))","v":0},0,null,{"$f":"IF(L157=\"\",0,VLOOKUP(L157,'Cover Sheet'!$L$10:$O$34,4,0))","v":0},"-",null,{"$f":"IF(R157=0,0,VLOOKUP(R157,'Cover Sheet'!$L$14:$M$34,2,0))","v":0},0,null,{"$f":"IF(R157=\"\",0,VLOOKUP(R157,'Cover Sheet'!$L$10:$O$34,4,0))","v":0},"-",{"$f":"IF(C157=0,0,VLOOKUP(C157,'Cover Sheet'!$D$10:$G$22,4,0))","v":0},{"$f":"IF(F157=0,0,VLOOKUP(F157,'Cover Sheet'!$D$10:$G$34,4,0))","v":0},null,null,0,7.53,"-",{"$f":"IF(AB157=0,\"-\",(AC157-0.2*AD157)^2/(AC157+0.8*AD157))","v":"-"},"-",null,"",0,"-",0,0,null,0,7.53,"-",{"$f":"IF(AN157=0,\"-\",(AO157-0.2*AP157)^2/(AO157+0.8*AP157))","v":"-"},"-",null,"",0,"-",0,0]
[140,null,null,null,{"$f":"IF($G158=0,0,VLOOKUP(C158,'Cover Sheet'!$D$10:$F$22,3,0))","v":0},null,0,{"$f":"IF($G158=0,0,VLOOKUP(F158,'Cover Sheet'!$D$10:$F$34,3,0))","v":0},null,{"$f":"IF(I158=0,0,VLOOKUP(I158,'Cover Sheet'!$L$10:$M$13,2,0))","v":0},0,null,{"$f":"IF(L158=0,0,VLOOKUP(L158,'Cover Sheet'!$L$14:$M$34,2,0))","v":0},0,null,{"$f":"IF(L158=\"\",0,VLOOKUP(L158,'Cover Sheet'!$L$10:$O$34,4,0))","v":0},"-",null,{"$f":"IF(R158=0,0,VLOOKUP(R158,'Cover Sheet'!$L$14:$M$34,2,0))","v":0},0,null,{"$f":"IF(R158=\"\",0,VLOOKUP(R158,'Cover Sheet'!$L$10:$O$34,4,0))","v":0},"-",{"$f":"IF(C158=0,0,VLOOKUP(C158,'Cover Sheet'!$D$10:$G$22,4,0))","v":0},{"$f":"IF(F158=0,0,VLOOKUP(F158,'Cover Sheet'!$D$10:$G$34,4,0))","v":0},null,null,0,7.53,"-",{"$f":"IF(AB158=0,\"-\",(AC158-0.2*AD158)^2/(AC158+0.8*AD158))","v":"-"},"-",null,"",0,"-",0,0,null,0,7.53,"-",{"$f":"IF(AN158=0,\"-\",(AO158-0.2*AP158)^2/(AO158+0.8*AP158))","v":"-"},"-",null,"",0,"-",0,0]
[141,null,null,null,{"$f":"IF($G159=0,0,VLOOKUP(C159,'Cover Sheet'!$D$10:$F$22,3,0))","v":0},null,0,{"$f":"IF($G159=0,0,VLOOKUP(F159,'Cover Sheet'!$D$10:$F$34,3,0))","v":0},null,{"$f":"IF(I159=0,0,VLOOKUP(I159,'Cover Sheet'!$L$10:$M$13,2,0))","v":0},0,null,{"$f":"IF(L159=0,0,VLOOKUP(L159,'Cover Sheet'!$L$14:$M$34,2,0))","v":0},0,null,{"$f":"IF(L159=\"\",0,VLOOKUP(L159,'Cover Sheet'!$L$10:$O$34,4,0))","v":0},"-",null,{"$f":"IF(R159=0,0,VLOOKUP(R159,'Cover Sheet'!$L$14:$M$34,2,0))","v":0},0,null,{"$f":"IF(R159=\"\",0,VLOOKUP(R159,'Cover Sheet'!$L$10:$O$34,4,0))","v":0},"-",{"$f":"IF(C159=0,0,VLOOKUP(C159,'Cover Sheet'!$D$10:$G$22,4,0))","v":0},{"$f":"IF(F159=0,0,VLOOKUP(F159,'Cover Sheet'!$D$10:$G$34,4,0))","v":0},null,null,0,7.53,"-","-","-",null,"",0,"-",0,0,null,0,7.53,"-","-","-",null,"",0,"-",0,0]
[142,null,null,null,{"$f":"IF($G160=0,0,VLOOKUP(C160,'Cover Sheet'!$D$10:$F$22,3,0))","v":0},null,0,{"$f":"IF($G160=0,0,VLOOKUP(F160,'Cover Sheet'!$D$10:$F$34,3,0))","v":0},null,{"$f":"IF(I160=0,0,VLOOKUP(I160,'Cover Sheet'!$L$10:$M$13,2,0))","v":0},0,null,{"$f":"IF(L160=0,0,VLOOKUP(L160,'Cover Sheet'!$L$14:$M$34,2,0))","v":0},0,null,{"$f":"IF(L160=\"\",0,VLOOKUP(L160,'Cover Sheet'!$L$10:$O$34,4,0))","v":0},"-",null,{"$f":"IF(R160=0,0,VLOOKUP(R160,'Cover Sheet'!$L$14:$M$34,2,0))","v":0},0,null,{"$f":"IF(R160=\"\",0,VLOOKUP(R160,'Cover Sheet'!$L$10:$O$34,4,0))","v":0},"-",{"$f":"IF(C160=0,0,VLOOKUP(C160,'Cover Sheet'!$D$10:$G$22,4,0))","v":0},{"$f":"IF(F160=0,0,VLOOKUP(F160,'Cover Sheet'!$D$10:$G$34,4,0))","v":0},null,null,0,7.53,"-","-","-",null,"",0,"-",0,0,null,0,7.53,"-","-","-",null,"",0,"-",0,0]
[143,null,null,null,{"$f":"IF($G161=0,0,VLOOKUP(C161,'Cover Sheet'!$D$10:$F$22,3,0))","v":0},null,0,{"$f":"IF($G161=0,0,VLOOKUP(F161,'Cover Sheet'!$D$10:$F$34,3,0))","v":0},null,{"$f":"IF(I161=0,0,VLOOKUP(I161,'Cover Sheet'!$L$10:$M$13,2,0))","v":0},0,null,{"$f":"IF(L161=0,0,VLOOKUP(L161,'Cover Sheet'!$L$14:$M$34,2,0))","v":0},0,null,{"$f":"IF(L161=\"\",0,VLOOKUP(L161,'Cover Sheet'!$L$10:$O$34,4,0))","v":0},"-",null,{"$f":"IF(R161=0,0,VLOOKUP(R161,'Cover Sheet'!$L$14:$M$34,2,0))","v":0},0,null,{"$f":"IF(R161=\"\",0,VLOOKUP(R161,'Cover Sheet'!$L$10:$O$34,4,0))","v":0},"-",{"$f":"IF(C161=0,0,VLOOKUP(C161,'Cover Sheet'!$D$10:$G$22,4,0))","v":0},{"$f":"IF(F161=0,0,VLOOKUP(F161,'Cover Sheet'!$D$10:$G$34,4,0))","v":0},null,null,0,7.53,"-","-","-",null,"",0,"-",0,0,null,0,7.53,"-","-","-",null,"",0,"-",0,0]
[144,null,null,null,{"$f":"IF($G162=0,0,VLOOKUP(C162,'Cover Sheet'!$D$10:$F$22,3,0))","v":0},null,0,{"$f":"IF($G162=0,0,VLOOKUP(F162,'Cover Sheet'!$D$10:$F$34,3,0))","v":0},null,{"$f":"IF(I162=0,0,VLOOKUP(I162,'Cover Sheet'!$L$10:$M$13,2,0))","v":0},0,null,{"$f":"IF(L162=0,0,VLOOKUP(L162,'Cover Sheet'!$L$14:$M$34,2,0))","v":0},0,null,{"$f":"IF(L162=\"\",0,VLOOKUP(L162,'Cover Sheet'!$L$10:$O$34,4,0))","v":0},"-",null,{"$f":"IF(R162=0,0,VLOOKUP(R162,'Cover Sheet'!$L$14:$M$34,2,0))","v":0},0,null,{"$f":"IF(R162=\"\",0,VLOOKUP(R162,'Cover Sheet'!$L$10:$O$34,4,0))","v":0},"-",{"$f":"IF(C162=0,0,VLOOKUP(C162,'Cover Sheet'!$D$10:$G$22,4,0))","v":0},{"$f":"IF(F162=0,0,VLOOKUP(F162,'Cover Sheet'!$D$10:$G$34,4,0))","v":0},null,null,0,7.53,"-","-","-",null,"",0,"-",0,0,null,0,7.53,"-","-","-",null,"",0,"-",0,0]
[145,null,null,null,{"$f":"IF($G163=0,0,VLOOKUP(C163,'Cover Sheet'!$D$10:$F$22,3,0))","v":0},null,0,{"$f":"IF($G163=0,0,VLOOKUP(F163,'Cover Sheet'!$D$10:$F$34,3,0))","v":0},null,{"$f":"IF(I163=0,0,VLOOKUP(I163,'Cover Sheet'!$L$10:$M$13,2,0))","v":0},0,null,{"$f":"IF(L163=0,0,VLOOKUP(L163,'Cover Sheet'!$L$14:$M$34,2,0))","v":0},0,null,{"$f":"IF(L163=\"\",0,VLOOKUP(L163,'Cover Sheet'!$L$10:$O$34,4,0))","v":0},"-",null,{"$f":"IF(R163=0,0,VLOOKUP(R163,'Cover Sheet'!$L$14:$M$34,2,0))","v":0},0,null,{"$f":"IF(R163=\"\",0,VLOOKUP(R163,'Cover Sheet'!$L$10:$O$34,4,0))","v":0},"-",{"$f":"IF(C163=0,0,VLOOKUP(C163,'Cover Sheet'!$D$10:$G$22,4,0))","v":0},{"$f":"IF(F163=0,0,VLOOKUP(F163,'Cover Sheet'!$D$10:$G$34,4,0))","v":0},null,null,0,7.53,"-","-","-",null,"",0,"-",0,0,null,0,7.53,"-","-","-",null,"",0,"-",0,0]
[146,null,null,null,{"$f":"IF($G164=0,0,VLOOKUP(C164,'Cover Sheet'!$D$10:$F$22,3,0))","v":0},null,0,{"$f":"IF($G164=0,0,VLOOKUP(F164,'Cover Sheet'!$D$10:$F$34,3,0))","v":0},null,{"$f":"IF(I164=0,0,VLOOKUP(I164,'Cover Sheet'!$L$10:$M$13,2,0))","v":0},0,null,{"$f":"IF(L164=0,0,VLOOKUP(L164,'Cover Sheet'!$L$14:$M$34,2,0))","v":0},0,null,{"$f":"IF(L164=\"\",0,VLOOKUP(L164,'Cover Sheet'!$L$10:$O$34,4,0))","v":0},"-",null,{"$f":"IF(R164=0,0,VLOOKUP(R164,'Cover Sheet'!$L$14:$M$34,2,0))","v":0},0,null,{"$f":"IF(R164=\"\",0,VLOOKUP(R164,'Cover Sheet'!$L$10:$O$34,4,0))","v":0},"-",{"$f":"IF(C164=0,0,VLOOKUP(C164,'Cover Sheet'!$D$10:$G$22,4,0))","v":0},{"$f":"IF(F164=0,0,VLOOKUP(F164,'Cover Sheet'!$D$10:$G$34,4,0))","v":0},null,null,0,7.53,"-","-","-",null,"",0,"-",0,0,null,0,7.53,"-","-","-",null,"",0,"-",0,0]
[147,null,null,null,{"$f":"IF($G165=0,0,VLOOKUP(C165,'Cover Sheet'!$D$10:$F$22,3,0))","v":0},null,0,{"$f":"IF($G165=0,0,VLOOKUP(F165,'Cover Sheet'!$D$10:$F$34,3,0))","v":0},null,{"$f":"IF(I165=0,0,VLOOKUP(I165,'Cover Sheet'!$L$10:$M$13,2,0))","v":0},0,null,{"$f":"IF(L165=0,0,VLOOKUP(L165,'Cover Sheet'!$L$14:$M$34,2,0))","v":0},0,null,{"$f":"IF(L165=\"\",0,VLOOKUP(L165,'Cover Sheet'!$L$10:$O$34,4,0))","v":0},"-",null,{"$f":"IF(R165=0,0,VLOOKUP(R165,'Cover Sheet'!$L$14:$M$34,2,0))","v":0},0,null,{"$f":"IF(R165=\"\",0,VLOOKUP(R165,'Cover Sheet'!$L$10:$O$34,4,0))","v":0},"-",{"$f":"IF(C165=0,0,VLOOKUP(C165,'Cover Sheet'!$D$10:$G$22,4,0))","v":0},{"$f":"IF(F165=0,0,VLOOKUP(F165,'Cover Sheet'!$D$10:$G$34,4,0))","v":0},null,null,0,7.53,"-","-","-",null,"",0,"-",0,0,null,0,7.53,"-","-","-",null,"",0,"-",0,0]
[148,null,null,null,{"$f":"IF($G166=0,0,VLOOKUP(C166,'Cover Sheet'!$D$10:$F$22,3,0))","v":0},null,0,{"$f":"IF($G166=0,0,VLOOKUP(F166,'Cover Sheet'!$D$10:$F$34,3,0))","v":0},null,{"$f":"IF(I166=0,0,VLOOKUP(I166,'Cover Sheet'!$L$10:$M$13,2,0))","v":0},0,null,{"$f":"IF(L166=0,0,VLOOKUP(L166,'Cover Sheet'!$L$14:$M$34,2,0))","v":0},0,null,{"$f":"IF(L166=\"\",0,VLOOKUP(L166,'Cover Sheet'!$L$10:$O$34,4,0))","v":0},"-",null,{"$f":"IF(R166=0,0,VLOOKUP(R166,'Cover Sheet'!$L$14:$M$34,2,0))","v":0},0,null,{"$f":"IF(R166=\"\",0,VLOOKUP(R166,'Cover Sheet'!$L$10:$O$34,4,0))","v":0},"-",{"$f":"IF(C166=0,0,VLOOKUP(C166,'Cover Sheet'!$D$10:$G$22,4,0))","v":0},{"$f":"IF(F166=0,0,VLOOKUP(F166,'Cover Sheet'!$D$10:$G$34,4,0))","v":0},null,null,0,7.53,"-","-","-",null,"",0,"-",0,0,null,0,7.53,"-","-","-",null,"",0,"-",0,0]
[149,null,null,null,{"$f":"IF($G167=0,0,VLOOKUP(C167,'Cover Sheet'!$D$10:$F$22,3,0))","v":0},null,0,{"$f":"IF($G167=0,0,VLOOKUP(F167,'Cover Sheet'!$D$10:$F$34,3,0))","v":0},null,{"$f":"IF(I167=0,0,VLOOKUP(I167,'Cover Sheet'!$L$10:$M$13,2,0))","v":0},0,null,{"$f":"IF(L167=0,0,VLOOKUP(L167,'Cover Sheet'!$L$14:$M$34,2,0))","v":0},0,null,{"$f":"IF(L167=\"\",0,VLOOKUP(L167,'Cover Sheet'!$L$10:$O$34,4,0))","v":0},"-",null,{"$f":"IF(R167=0,0,VLOOKUP(R167,'Cover Sheet'!$L$14:$M$34,2,0))","v":0},0,null,{"$f":"IF(R167=\"\",0,VLOOKUP(R167,'Cover Sheet'!$L$10:$O$34,4,0))","v":0},"-",{"$f":"IF(C167=0,0,VLOOKUP(C167,'Cover Sheet'!$D$10:$G$22,4,0))","v":0},{"$f":"IF(F167=0,0,VLOOKUP(F167,'Cover Sheet'!$D$10:$G$34,4,0))","v":0},null,null,0,7.53,"-","-","-",null,"",0,"-",0,0,null,0,7.53,"-","-","-",null,"",0,"-",0,0]
[150,null,null,null,{"$f":"IF($G168=0,0,VLOOKUP(C168,'Cover Sheet'!$D$10:$F$22,3,0))","v":0},null,0,{"$f":"IF($G168=0,0,VLOOKUP(F168,'Cover Sheet'!$D$10:$F$34,3,0))","v":0},null,{"$f":"IF(I168=0,0,VLOOKUP(I168,'Cover Sheet'!$L$10:$M$13,2,0))","v":0},0,null,{"$f":"IF(L168=0,0,VLOOKUP(L168,'Cover Sheet'!$L$14:$M$34,2,0))","v":0},0,null,{"$f":"IF(L168=\"\",0,VLOOKUP(L168,'Cover Sheet'!$L$10:$O$34,4,0))","v":0},"-",null,{"$f":"IF(R168=0,0,VLOOKUP(R168,'Cover Sheet'!$L$14:$M$34,2,0))","v":0},0,null,{"$f":"IF(R168=\"\",0,VLOOKUP(R168,'Cover Sheet'!$L$10:$O$34,4,0))","v":0},"-",{"$f":"IF(C168=0,0,VLOOKUP(C168,'Cover Sheet'!$D$10:$G$22,4,0))","v":0},{"$f":"IF(F168=0,0,VLOOKUP(F168,'Cover Sheet'!$D$10:$G$34,4,0))","v":0},null,null,0,7.53,"-","-","-",null,"",0,"-",0,0,null,0,7.53,"-","-","-",null,"",0,"-",0,0]
[151,null,null,null,{"$f":"IF($G169=0,0,VLOOKUP(C169,'Cover Sheet'!$D$10:$F$22,3,0))","v":0},null,0,{"$f":"IF($G169=0,0,VLOOKUP(F169,'Cover Sheet'!$D$10:$F$34,3,0))","v":0},null,{"$f":"IF(I169=0,0,VLOOKUP(I169,'Cover Sheet'!$L$10:$M$13,2,0))","v":0},0,null,{"$f":"IF(L169=0,0,VLOOKUP(L169,'Cover Sheet'!$L$14:$M$34,2,0))","v":0},0,null,{"$f":"IF(L169=\"\",0,VLOOKUP(L169,'Cover Sheet'!$L$10:$O$34,4,0))","v":0},"-",null,{"$f":"IF(R169=0,0,VLOOKUP(R169,'Cover Sheet'!$L$14:$M$34,2,0))","v":0},0,null,{"$f":"IF(R169=\"\",0,VLOOKUP(R169,'Cover Sheet'!$L$10:$O$34,4,0))","v":0},"-",{"$f":"IF(C169=0,0,VLOOKUP(C169,'Cover Sheet'!$D$10:$G$22,4,0))","v":0},{"$f":"IF(F169=0,0,VLOOKUP(F169,'Cover Sheet'!$D$10:$G$34,4,0))","v":0},null,null,0,7.53,"-","-","-",null,"",0,"-",0,0,null,0,7.53,"-","-","-",null,"",0,"-",0,0]
[152,null,null,null,{"$f":"IF($G170=0,0,VLOOKUP(C170,'Cover Sheet'!$D$10:$F$22,3,0))","v":0},null,0,{"$f":"IF($G170=0,0,VLOOKUP(F170,'Cover Sheet'!$D$10:$F$34,3,0))","v":0},null,{"$f":"IF(I170=0,0,VLOOKUP(I170,'Cover Sheet'!$L$10:$M$13,2,0))","v":0},0,null,{"$f":"IF(L170=0,0,VLOOKUP(L170,'Cover Sheet'!$L$14:$M$34,2,0))","v":0},0,null,{"$f":"IF(L170=\"\",0,VLOOKUP(L170,'Cover Sheet'!$L$10:$O$34,4,0))","v":0},"-",null,{"$f":"IF(R170=0,0,VLOOKUP(R170,'Cover Sheet'!$L$14:$M$34,2,0))","v":0},0,null,{"$f":"IF(R170=\"\",0,VLOOKUP(R170,'Cover Sheet'!$L$10:$O$34,4,0))","v":0},"-",{"$f":"IF(C170=0,0,VLOOKUP(C170,'Cover Sheet'!$D$10:$G$22,4,0))","v":0},{"$f":"IF(F170=0,0,VLOOKUP(F170,'Cover Sheet'!$D$10:$G$34,4,0))","v":0},null,null,0,7.53,"-",{"$f":"IF(AB170=0,\"-\",(AC170-0.2*AD170)^2/(AC170+0.8*AD170))","v":"-"},"-",null,"",0,"-",0,0,null,0,7.53,"-",{"$f":"IF(AN170=0,\"-\",(AO170-0.2*AP170)^2/(AO170+0.8*AP170))","v":"-"},"-",null,"",0,"-",0,0]
[153,null,null,null,{"$f":"IF($G171=0,0,VLOOKUP(C171,'Cover Sheet'!$D$10:$F$22,3,0))","v":0},null,0,{"$f":"IF($G171=0,0,VLOOKUP(F171,'Cover Sheet'!$D$10:$F$34,3,0))","v":0},null,{"$f":"IF(I171=0,0,VLOOKUP(I171,'Cover Sheet'!$L$10:$M$13,2,0))","v":0},0,null,{"$f":"IF(L171=0,0,VLOOKUP(L171,'Cover Sheet'!$L$14:$M$34,2,0))","v":0},0,null,{"$f":"IF(L171=\"\",0,VLOOKUP(L171,'Cover Sheet'!$L$10:$O$34,4,0))","v":0},"-",null,{"$f":"IF(R171=0,0,VLOOKUP(R171,'Cover Sheet'!$L$14:$M$34,2,0))","v":0},0,null,{"$f":"IF(R171=\"\",0,VLOOKUP(R171,'Cover Sheet'!$L$10:$O$34,4,0))","v":0},"-",{"$f":"IF(C171=0,0,VLOOKUP(C171,'Cover Sheet'!$D$10:$G$22,4,0))","v":0},{"$f":"IF(F171=0,0,VLOOKUP(F171,'Cover Sheet'!$D$10:$G$34,4,0))","v":0},null,null,0,7.53,"-",{"$f":"IF(AB171=0,\"-\",(AC171-0.2*AD171)^2/(AC171+0.8*AD171))","v":"-"},"-",null,"",0,"-",0,0,null,0,7.53,"-",{"$f":"IF(AN171=0,\"-\",(AO171-0.2*AP171)^2/(AO171+0.8*AP171))","v":"-"},"-",null,"",0,"-",0,0]
[154,null,null,null,{"$f":"IF($G172=0,0,VLOOKUP(C172,'Cover Sheet'!$D$10:$F$22,3,0))","v":0},null,0,{"$f":"IF($G172=0,0,VLOOKUP(F172,'Cover Sheet'!$D$10:$F$34,3,0))","v":0},null,{"$f":"IF(I172=0,0,VLOOKUP(I172,'Cover Sheet'!$L$10:$M$13,2,0))","v":0},0,null,{"$f":"IF(L172=0,0,VLOOKUP(L172,'Cover Sheet'!$L$14:$M$34,2,0))","v":0},0,null,{"$f":"IF(L172=\"\",0,VLOOKUP(L172,'Cover Sheet'!$L$10:$O$34,4,0))","v":0},"-",null,{"$f":"IF(R172=0,0,VLOOKUP(R172,'Cover Sheet'!$L$14:$M$34,2,0))","v":0},0,null,{"$f":"IF(R172=\"\",0,VLOOKUP(R172,'Cover Sheet'!$L$10:$O$34,4,0))","v":0},"-",{"$f":"IF(C172=0,0,VLOOKUP(C172,'Cover Sheet'!$D$10:$G$22,4,0))","v":0},{"$f":"IF(F172=0,0,VLOOKUP(F172,'Cover Sheet'!$D$10:$G$34,4,0))","v":0},null,null,0,7.53,"-","-","-",null,"",0,"-",0,0,null,0,7.53,"-","-","-",null,"",0,"-",0,0]
[155,null,null,null,{"$f":"IF($G173=0,0,VLOOKUP(C173,'Cover Sheet'!$D$10:$F$22,3,0))","v":0},null,0,{"$f":"IF($G173=0,0,VLOOKUP(F173,'Cover Sheet'!$D$10:$F$34,3,0))","v":0},null,{"$f":"IF(I173=0,0,VLOOKUP(I173,'Cover Sheet'!$L$10:$M$13,2,0))","v":0},0,null,{"$f":"IF(L173=0,0,VLOOKUP(L173,'Cover Sheet'!$L$14:$M$34,2,0))","v":0},0,null,{"$f":"IF(L173=\"\",0,VLOOKUP(L173,'Cover Sheet'!$L$10:$O$34,4,0))","v":0},"-",null,{"$f":"IF(R173=0,0,VLOOKUP(R173,'Cover Sheet'!$L$14:$M$34,2,0))","v":0},0,null,{"$f":"IF(R173=\"\",0,VLOOKUP(R173,'Cover Sheet'!$L$10:$O$34,4,0))","v":0},"-",{"$f":"IF(C173=0,0,VLOOKUP(C173,'Cover Sheet'!$D$10:$G$22,4,0))","v":0},{"$f":"IF(F173=0,0,VLOOKUP(F173,'Cover Sheet'!$D$10:$G$34,4,0))","v":0},null,null,0,7.53,"-","-","-",null,"",0,"-",0,0,null,0,7.53,"-","-","-",null,"",0,"-",0,0]
[156,null,null,null,{"$f":"IF($G174=0,0,VLOOKUP(C174,'Cover Sheet'!$D$10:$F$22,3,0))","v":0},null,0,{"$f":"IF($G174=0,0,VLOOKUP(F174,'Cover Sheet'!$D$10:$F$34,3,0))","v":0},null,{"$f":"IF(I174=0,0,VLOOKUP(I174,'Cover Sheet'!$L$10:$M$13,2,0))","v":0},0,null,{"$f":"IF(L174=0,0,VLOOKUP(L174,'Cover Sheet'!$L$14:$M$34,2,0))","v":0},0,null,{"$f":"IF(L174=\"\",0,VLOOKUP(L174,'Cover Sheet'!$L$10:$O$34,4,0))","v":0},"-",null,{"$f":"IF(R174=0,0,VLOOKUP(R174,'Cover Sheet'!$L$14:$M$34,2,0))","v":0},0,null,{"$f":"IF(R174=\"\",0,VLOOKUP(R174,'Cover Sheet'!$L$10:$O$34,4,0))","v":0},"-",{"$f":"IF(C174=0,0,VLOOKUP(C174,'Cover Sheet'!$D$10:$G$22,4,0))","v":0},{"$f":"IF(F174=0,0,VLOOKUP(F174,'Cover Sheet'!$D$10:$G$34,4,0))","v":0},null,null,0,7.53,"-","-","-",null,"",0,"-",0,0,null,0,7.53,"-","-","-",null,"",0,"-",0,0]
[157,null,null,null,{"$f":"IF($G175=0,0,VLOOKUP(C175,'Cover Sheet'!$D$10:$F$22,3,0))","v":0},null,0,{"$f":"IF($G175=0,0,VLOOKUP(F175,'Cover Sheet'!$D$10:$F$34,3,0))","v":0},null,{"$f":"IF(I175=0,0,VLOOKUP(I175,'Cover Sheet'!$L$10:$M$13,2,0))","v":0},0,null,{"$f":"IF(L175=0,0,VLOOKUP(L175,'Cover Sheet'!$L$14:$M$34,2,0))","v":0},0,null,{"$f":"IF(L175=\"\",0,VLOOKUP(L175,'Cover Sheet'!$L$10:$O$34,4,0))","v":0},"-",null,{"$f":"IF(R175=0,0,VLOOKUP(R175,'Cover Sheet'!$L$14:$M$34,2,0))","v":0},0,null,{"$f":"IF(R175=\"\",0,VLOOKUP(R175,'Cover Sheet'!$L$10:$O$34,4,0))","v":0},"-",{"$f":"IF(C175=0,0,VLOOKUP(C175,'Cover Sheet'!$D$10:$G$22,4,0))","v":0},{"$f":"IF(F175=0,0,VLOOKUP(F175,'Cover Sheet'!$D$10:$G$34,4,0))","v":0},null,null,0,7.53,"-","-","-",null,"",0,"-",0,0,null,0,7.53,"-","-","-",null,"",0,"-",0,0]
[158,null,null,null,{"$f":"IF($G176=0,0,VLOOKUP(C176,'Cover Sheet'!$D$10:$F$22,3,0))","v":0},null,0,{"$f":"IF($G176=0,0,VLOOKUP(F176,'Cover Sheet'!$D$10:$F$34,3,0))","v":0},null,{"$f":"IF(I176=0,0,VLOOKUP(I176,'Cover Sheet'!$L$10:$M$13,2,0))","v":0},0,null,{"$f":"IF(L176=0,0,VLOOKUP(L176,'Cover Sheet'!$L$14:$M$34,2,0))","v":0},0,null,{"$f":"IF(L176=\"\",0,VLOOKUP(L176,'Cover Sheet'!$L$10:$O$34,4,0))","v":0},"-",null,{"$f":"IF(R176=0,0,VLOOKUP(R176,'Cover Sheet'!$L$14:$M$34,2,0))","v":0},0,null,{"$f":"IF(R176=\"\",0,VLOOKUP(R176,'Cover Sheet'!$L$10:$O$34,4,0))","v":0},"-",{"$f":"IF(C176=0,0,VLOOKUP(C176,'Cover Sheet'!$D$10:$G$22,4,0))","v":0},{"$f":"IF(F176=0,0,VLOOKUP(F176,'Cover Sheet'!$D$10:$G$34,4,0))","v":0},null,null,0,7.53,"-","-","-",null,"",0,"-",0,0,null,0,7.53,"-","-","-",null,"",0,"-",0,0]
[159,null,null,null,{"$f":"IF($G177=0,0,VLOOKUP(C177,'Cover Sheet'!$D$10:$F$22,3,0))","v":0},null,0,{"$f":"IF($G177=0,0,VLOOKUP(F177,'Cover Sheet'!$D$10:$F$34,3,0))","v":0},null,{"$f":"IF(I177=0,0,VLOOKUP(I177,'Cover Sheet'!$L$10:$M$13,2,0))","v":0},0,null,{"$f":"IF(L177=0,0,VLOOKUP(L177,'Cover Sheet'!$L$14:$M$34,2,0))","v":0},0,null,{"$f":"IF(L177=\"\",0,VLOOKUP(L177,'Cover Sheet'!$L$10:$O$34,4,0))","v":0},"-",null,{"$f":"IF(R177=0,0,VLOOKUP(R177,'Cover Sheet'!$L$14:$M$34,2,0))","v":0},0,null,{"$f":"IF(R177=\"\",0,VLOOKUP(R177,'Cover Sheet'!$L$10:$O$34,4,0))","v":0},"-",{"$f":"IF(C177=0,0,VLOOKUP(C177,'Cover Sheet'!$D$10:$G$22,4,0))","v":0},{"$f":"IF(F177=0,0,VLOOKUP(F177,'Cover Sheet'!$D$10:$G$34,4,0))","v":0},null,null,0,7.53,"-","-","-",null,"",0,"-",0,0,null,0,7.53,"-","-","-",null,"",0,"-",0,0]
[160,null,null,null,{"$f":"IF($G178=0,0,VLOOKUP(C178,'Cover Sheet'!$D$10:$F$22,3,0))","v":0},null,0,{"$f":"IF($G178=0,0,VLOOKUP(F178,'Cover Sheet'!$D$10:$F$34,3,0))","v":0},null,{"$f":"IF(I178=0,0,VLOOKUP(I178,'Cover Sheet'!$L$10:$M$13,2,0))","v":0},0,null,{"$f":"IF(L178=0,0,VLOOKUP(L178,'Cover Sheet'!$L$14:$M$34,2,0))","v":0},0,null,{"$f":"IF(L178=\"\",0,VLOOKUP(L178,'Cover Sheet'!$L$10:$O$34,4,0))","v":0},"-",null,{"$f":"IF(R178=0,0,VLOOKUP(R178,'Cover Sheet'!$L$14:$M$34,2,0))","v":0},0,null,{"$f":"IF(R178=\"\",0,VLOOKUP(R178,'Cover Sheet'!$L$10:$O$34,4,0))","v":0},"-",{"$f":"IF(C178=0,0,VLOOKUP(C178,'Cover Sheet'!$D$10:$G$22,4,0))","v":0},{"$f":"IF(F178=0,0,VLOOKUP(F178,'Cover Sheet'!$D$10:$G$34,4,0))","v":0},null,null,0,7.53,"-",{"$f":"IF(AB178=0,\"-\",(AC178-0.2*AD178)^2/(AC178+0.8*AD178))","v":"-"},"-",null,"",0,"-",0,0,null,0,7.53,"-",{"$f":"IF(AN178=0,\"-\",(AO178-0.2*AP178)^2/(AO178+0.8*AP178))","v":"-"},"-",null,"",0,"-",0,0]
[161,null,null,null,{"$f":"IF($G179=0,0,VLOOKUP(C179,'Cover Sheet'!$D$10:$F$22,3,0))","v":0},null,0,{"$f":"IF($G179=0,0,VLOOKUP(F179,'Cover Sheet'!$D$10:$F$34,3,0))","v":0},null,{"$f":"IF(I179=0,0,VLOOKUP(I179,'Cover Sheet'!$L$10:$M$13,2,0))","v":0},0,null,{"$f":"IF(L179=0,0,VLOOKUP(L179,'Cover Sheet'!$L$14:$M$34,2,0))","v":0},0,null,{"$f":"IF(L179=\"\",0,VLOOKUP(L179,'Cover Sheet'!$L$10:$O$34,4,0))","v":0},"-",null,{"$f":"IF(R179=0,0,VLOOKUP(R179,'Cover Sheet'!$L$14:$M$34,2,0))","v":0},0,null,{"$f":"IF(R179=\"\",0,VLOOKUP(R179,'Cover Sheet'!$L$10:$O$34,4,0))","v":0},"-",{"$f":"IF(C179=0,0,VLOOKUP(C179,'Cover Sheet'!$D$10:$G$22,4,0))","v":0},{"$f":"IF(F179=0,0,VLOOKUP(F179,'Cover Sheet'!$D$10:$G$34,4,0))","v":0},null,null,0,7.53,"-",{"$f":"IF(AB179=0,\"-\",(AC179-0.2*AD179)^2/(AC179+0.8*AD179))","v":"-"},"-",null,"",0,"-",0,0,null,0,7.53,"-",{"$f":"IF(AN179=0,\"-\",(AO179-0.2*AP179)^2/(AO179+0.8*AP179))","v":"-"},"-",null,"",0,"-",0,0]
[162,null,null,null,{"$f":"IF($G180=0,0,VLOOKUP(C180,'Cover Sheet'!$D$10:$F$22,3,0))","v":0},null,0,{"$f":"IF($G180=0,0,VLOOKUP(F180,'Cover Sheet'!$D$10:$F$34,3,0))","v":0},null,{"$f":"IF(I180=0,0,VLOOKUP(I180,'Cover Sheet'!$L$10:$M$13,2,0))","v":0},0,null,{"$f":"IF(L180=0,0,VLOOKUP(L180,'Cover Sheet'!$L$14:$M$34,2,0))","v":0},0,null,{"$f":"IF(L180=\"\",0,VLOOKUP(L180,'Cover Sheet'!$L$10:$O$34,4,0))","v":0},"-",null,{"$f":"IF(R180=0,0,VLOOKUP(R180,'Cover Sheet'!$L$14:$M$34,2,0))","v":0},0,null,{"$f":"IF(R180=\"\",0,VLOOKUP(R180,'Cover Sheet'!$L$10:$O$34,4,0))","v":0},"-",{"$f":"IF(C180=0,0,VLOOKUP(C180,'Cover Sheet'!$D$10:$G$22,4,0))","v":0},{"$f":"IF(F180=0,0,VLOOKUP(F180,'Cover Sheet'!$D$10:$G$34,4,0))","v":0},null,null,0,7.53,"-","-","-",null,"",0,"-",0,0,null,0,7.53,"-","-","-",null,"",0,"-",0,0]
[163,null,null,null,{"$f":"IF($G181=0,0,VLOOKUP(C181,'Cover Sheet'!$D$10:$F$22,3,0))","v":0},null,0,{"$f":"IF($G181=0,0,VLOOKUP(F181,'Cover Sheet'!$D$10:$F$34,3,0))","v":0},null,{"$f":"IF(I181=0,0,VLOOKUP(I181,'Cover Sheet'!$L$10:$M$13,2,0))","v":0},0,null,{"$f":"IF(L181=0,0,VLOOKUP(L181,'Cover Sheet'!$L$14:$M$34,2,0))","v":0},0,null,{"$f":"IF(L181=\"\",0,VLOOKUP(L181,'Cover Sheet'!$L$10:$O$34,4,0))","v":0},"-",null,{"$f":"IF(R181=0,0,VLOOKUP(R181,'Cover Sheet'!$L$14:$M$34,2,0))","v":0},0,null,{"$f":"IF(R181=\"\",0,VLOOKUP(R181,'Cover Sheet'!$L$10:$O$34,4,0))","v":0},"-",{"$f":"IF(C181=0,0,VLOOKUP(C181,'Cover Sheet'!$D$10:$G$22,4,0))","v":0},{"$f":"IF(F181=0,0,VLOOKUP(F181,'Cover Sheet'!$D$10:$G$34,4,0))","v":0},null,null,0,7.53,"-","-","-",null,"",0,"-",0,0,null,0,7.53,"-","-","-",null,"",0,"-",0,0]
[164,null,null,null,{"$f":"IF($G182=0,0,VLOOKUP(C182,'Cover Sheet'!$D$10:$F$22,3,0))","v":0},null,0,{"$f":"IF($G182=0,0,VLOOKUP(F182,'Cover Sheet'!$D$10:$F$34,3,0))","v":0},null,{"$f":"IF(I182=0,0,VLOOKUP(I182,'Cover Sheet'!$L$10:$M$13,2,0))","v":0},0,null,{"$f":"IF(L182=0,0,VLOOKUP(L182,'Cover Sheet'!$L$14:$M$34,2,0))","v":0},0,null,{"$f":"IF(L182=\"\",0,VLOOKUP(L182,'Cover Sheet'!$L$10:$O$34,4,0))","v":0},"-",null,{"$f":"IF(R182=0,0,VLOOKUP(R182,'Cover Sheet'!$L$14:$M$34,2,0))","v":0},0,null,{"$f":"IF(R182=\"\",0,VLOOKUP(R182,'Cover Sheet'!$L$10:$O$34,4,0))","v":0},"-",{"$f":"IF(C182=0,0,VLOOKUP(C182,'Cover Sheet'!$D$10:$G$22,4,0))","v":0},{"$f":"IF(F182=0,0,VLOOKUP(F182,'Cover Sheet'!$D$10:$G$34,4,0))","v":0},null,null,0,7.53,"-","-","-",null,"",0,"-",0,0,null,0,7.53,"-","-","-",null,"",0,"-",0,0]
[{"$f":"A182+1","v":165},null,null,null,{"$f":"IF($G183=0,0,VLOOKUP(C183,'Cover Sheet'!$D$10:$F$22,3,0))","v":0},null,0,{"$f":"IF($G183=0,0,VLOOKUP(F183,'Cover Sheet'!$D$10:$F$34,3,0))","v":0},null,{"$f":"IF(I183=0,0,VLOOKUP(I183,'Cover Sheet'!$L$10:$M$13,2,0))","v":0},0,null,{"$f":"IF(L183=0,0,VLOOKUP(L183,'Cover Sheet'!$L$14:$M$34,2,0))","v":0},0,null,{"$f":"IF(L183=\"\",0,VLOOKUP(L183,'Cover Sheet'!$L$10:$O$34,4,0))","v":0},"-",null,{"$f":"IF(R183=0,0,VLOOKUP(R183,'Cover Sheet'!$L$14:$M$34,2,0))","v":0},0,null,{"$f":"IF(R183=\"\",0,VLOOKUP(R183,'Cover Sheet'!$L$10:$O$34,4,0))","v":0},"-",{"$f":"IF(C183=0,0,VLOOKUP(C183,'Cover Sheet'!$D$10:$G$22,4,0))","v":0},{"$f":"IF(F183=0,0,VLOOKUP(F183,'Cover Sheet'!$D$10:$G$34,4,0))","v":0},null,null,0,7.53,"-","-","-",null,"",0,"-",{"$f":"IF(AB183=0,0,1000/(10+5*AC183+10*AJ183-10*(AJ183^2+1.25*AJ183*AC183)^(1/2)))","v":0},0,null,0,7.53,"-","-","-",null,"",0,"-",0,0]
[166,null,null,null,{"$f":"IF($G184=0,0,VLOOKUP(C184,'Cover Sheet'!$D$10:$F$22,3,0))","v":0},null,0,{"$f":"IF($G184=0,0,VLOOKUP(F184,'Cover Sheet'!$D$10:$F$34,3,0))","v":0},null,{"$f":"IF(I184=0,0,VLOOKUP(I184,'Cover Sheet'!$L$10:$M$13,2,0))","v":0},0,null,{"$f":"IF(L184=0,0,VLOOKUP(L184,'Cover Sheet'!$L$14:$M$34,2,0))","v":0},0,null,{"$f":"IF(L184=\"\",0,VLOOKUP(L184,'Cover Sheet'!$L$10:$O$34,4,0))","v":0},"-",null,{"$f":"IF(R184=0,0,VLOOKUP(R184,'Cover Sheet'!$L$14:$M$34,2,0))","v":0},0,null,{"$f":"IF(R184=\"\",0,VLOOKUP(R184,'Cover Sheet'!$L$10:$O$34,4,0))","v":0},"-",{"$f":"IF(C184=0,0,VLOOKUP(C184,'Cover Sheet'!$D$10:$G$22,4,0))","v":0},{"$f":"IF(F184=0,0,VLOOKUP(F184,'Cover Sheet'!$D$10:$G$34,4,0))","v":0},null,null,0,7.53,"-","-",{"$f":"Q184","v":"-"},null,"",0,"-",0,0,null,0,7.53,"-","-","-",null,"",0,"-",0,0]
[167,null,null,null,{"$f":"IF($G185=0,0,VLOOKUP(C185,'Cover Sheet'!$D$10:$F$22,3,0))","v":0},null,0,{"$f":"IF($G185=0,0,VLOOKUP(F185,'Cover Sheet'!$D$10:$F$34,3,0))","v":0},null,{"$f":"IF(I185=0,0,VLOOKUP(I185,'Cover Sheet'!$L$10:$M$13,2,0))","v":0},0,null,{"$f":"IF(L185=0,0,VLOOKUP(L185,'Cover Sheet'!$L$14:$M$34,2,0))","v":0},0,null,{"$f":"IF(L185=\"\",0,VLOOKUP(L185,'Cover Sheet'!$L$10:$O$34,4,0))","v":0},"-",null,{"$f":"IF(R185=0,0,VLOOKUP(R185,'Cover Sheet'!$L$14:$M$34,2,0))","v":0},0,null,{"$f":"IF(R185=\"\",0,VLOOKUP(R185,'Cover Sheet'!$L$10:$O$34,4,0))","v":0},"-",{"$f":"IF(C185=0,0,VLOOKUP(C185,'Cover Sheet'!$D$10:$G$22,4,0))","v":0},{"$f":"IF(F185=0,0,VLOOKUP(F185,'Cover Sheet'!$D$10:$G$34,4,0))","v":0},null,null,0,7.53,"-","-","-",null,"",0,"-",0,0,null,0,7.53,"-","-","-",null,"",0,"-",0,0]
[168,null,null,null,{"$f":"IF($G186=0,0,VLOOKUP(C186,'Cover Sheet'!$D$10:$F$22,3,0))","v":0},null,0,{"$f":"IF($G186=0,0,VLOOKUP(F186,'Cover Sheet'!$D$10:$F$34,3,0))","v":0},null,{"$f":"IF(I186=0,0,VLOOKUP(I186,'Cover Sheet'!$L$10:$M$13,2,0))","v":0},0,null,{"$f":"IF(L186=0,0,VLOOKUP(L186,'Cover Sheet'!$L$14:$M$34,2,0))","v":0},0,null,{"$f":"IF(L186=\"\",0,VLOOKUP(L186,'Cover Sheet'!$L$10:$O$34,4,0))","v":0},"-",null,{"$f":"IF(R186=0,0,VLOOKUP(R186,'Cover Sheet'!$L$14:$M$34,2,0))","v":0},0,null,{"$f":"IF(R186=\"\",0,VLOOKUP(R186,'Cover Sheet'!$L$10:$O$34,4,0))","v":0},"-",{"$f":"IF(C186=0,0,VLOOKUP(C186,'Cover Sheet'!$D$10:$G$22,4,0))","v":0},{"$f":"IF(F186=0,0,VLOOKUP(F186,'Cover Sheet'!$D$10:$G$34,4,0))","v":0},null,null,0,7.53,"-","-","-",null,"",0,"-",0,0,null,0,7.53,"-","-","-",null,"",0,"-",0,0]
[169,null,null,null,{"$f":"IF($G187=0,0,VLOOKUP(C187,'Cover Sheet'!$D$10:$F$22,3,0))","v":0},null,0,{"$f":"IF($G187=0,0,VLOOKUP(F187,'Cover Sheet'!$D$10:$F$34,3,0))","v":0},null,{"$f":"IF(I187=0,0,VLOOKUP(I187,'Cover Sheet'!$L$10:$M$13,2,0))","v":0},0,null,{"$f":"IF(L187=0,0,VLOOKUP(L187,'Cover Sheet'!$L$14:$M$34,2,0))","v":0},0,null,{"$f":"IF(L187=\"\",0,VLOOKUP(L187,'Cover Sheet'!$L$10:$O$34,4,0))","v":0},"-",null,{"$f":"IF(R187=0,0,VLOOKUP(R187,'Cover Sheet'!$L$14:$M$34,2,0))","v":0},0,null,{"$f":"IF(R187=\"\",0,VLOOKUP(R187,'Cover Sheet'!$L$10:$O$34,4,0))","v":0},"-",{"$f":"IF(C187=0,0,VLOOKUP(C187,'Cover Sheet'!$D$10:$G$22,4,0))","v":0},{"$f":"IF(F187=0,0,VLOOKUP(F187,'Cover Sheet'!$D$10:$G$34,4,0))","v":0},null,null,0,7.53,"-","-","-",null,"",0,"-",0,0,null,0,7.53,"-","-","-",null,"",0,"-",0,0]
[170,null,null,null,{"$f":"IF($G188=0,0,VLOOKUP(C188,'Cover Sheet'!$D$10:$F$22,3,0))","v":0},null,0,{"$f":"IF($G188=0,0,VLOOKUP(F188,'Cover Sheet'!$D$10:$F$34,3,0))","v":0},null,{"$f":"IF(I188=0,0,VLOOKUP(I188,'Cover Sheet'!$L$10:$M$13,2,0))","v":0},0,null,{"$f":"IF(L188=0,0,VLOOKUP(L188,'Cover Sheet'!$L$14:$M$34,2,0))","v":0},0,null,{"$f":"IF(L188=\"\",0,VLOOKUP(L188,'Cover Sheet'!$L$10:$O$34,4,0))","v":0},"-",null,{"$f":"IF(R188=0,0,VLOOKUP(R188,'Cover Sheet'!$L$14:$M$34,2,0))","v":0},0,null,{"$f":"IF(R188=\"\",0,VLOOKUP(R188,'Cover Sheet'!$L$10:$O$34,4,0))","v":0},"-",{"$f":"IF(C188=0,0,VLOOKUP(C188,'Cover Sheet'!$D$10:$G$22,4,0))","v":0},{"$f":"IF(F188=0,0,VLOOKUP(F188,'Cover Sheet'!$D$10:$G$34,4,0))","v":0},null,null,0,7.53,"-","-","-",null,"",0,"-",0,0,null,0,7.53,"-","-","-",null,"",0,"-",0,0]
[171,null,null,null,{"$f":"IF($G189=0,0,VLOOKUP(C189,'Cover Sheet'!$D$10:$F$22,3,0))","v":0},null,0,{"$f":"IF($G189=0,0,VLOOKUP(F189,'Cover Sheet'!$D$10:$F$34,3,0))","v":0},null,{"$f":"IF(I189=0,0,VLOOKUP(I189,'Cover Sheet'!$L$10:$M$13,2,0))","v":0},0,null,{"$f":"IF(L189=0,0,VLOOKUP(L189,'Cover Sheet'!$L$14:$M$34,2,0))","v":0},0,null,{"$f":"IF(L189=\"\",0,VLOOKUP(L189,'Cover Sheet'!$L$10:$O$34,4,0))","v":0},"-",null,{"$f":"IF(R189=0,0,VLOOKUP(R189,'Cover Sheet'!$L$14:$M$34,2,0))","v":0},0,null,{"$f":"IF(R189=\"\",0,VLOOKUP(R189,'Cover Sheet'!$L$10:$O$34,4,0))","v":0},"-",{"$f":"IF(C189=0,0,VLOOKUP(C189,'Cover Sheet'!$D$10:$G$22,4,0))","v":0},{"$f":"IF(F189=0,0,VLOOKUP(F189,'Cover Sheet'!$D$10:$G$34,4,0))","v":0},null,null,0,7.53,"-","-","-",null,"",0,"-",0,0,null,0,7.53,"-","-","-",null,"",0,"-",0,0]
[172,null,null,null,{"$f":"IF($G190=0,0,VLOOKUP(C190,'Cover Sheet'!$D$10:$F$22,3,0))","v":0},null,0,{"$f":"IF($G190=0,0,VLOOKUP(F190,'Cover Sheet'!$D$10:$F$34,3,0))","v":0},null,{"$f":"IF(I190=0,0,VLOOKUP(I190,'Cover Sheet'!$L$10:$M$13,2,0))","v":0},0,null,{"$f":"IF(L190=0,0,VLOOKUP(L190,'Cover Sheet'!$L$14:$M$34,2,0))","v":0},0,null,{"$f":"IF(L190=\"\",0,VLOOKUP(L190,'Cover Sheet'!$L$10:$O$34,4,0))","v":0},"-",null,{"$f":"IF(R190=0,0,VLOOKUP(R190,'Cover Sheet'!$L$14:$M$34,2,0))","v":0},0,null,{"$f":"IF(R190=\"\",0,VLOOKUP(R190,'Cover Sheet'!$L$10:$O$34,4,0))","v":0},"-",{"$f":"IF(C190=0,0,VLOOKUP(C190,'Cover Sheet'!$D$10:$G$22,4,0))","v":0},{"$f":"IF(F190=0,0,VLOOKUP(F190,'Cover Sheet'!$D$10:$G$34,4,0))","v":0},null,null,0,7.53,"-","-","-",null,"",0,"-",0,0,null,0,7.53,"-","-","-",null,"",0,"-",0,0]
[173,null,null,null,{"$f":"IF($G191=0,0,VLOOKUP(C191,'Cover Sheet'!$D$10:$F$22,3,0))","v":0},null,0,{"$f":"IF($G191=0,0,VLOOKUP(F191,'Cover Sheet'!$D$10:$F$34,3,0))","v":0},null,{"$f":"IF(I191=0,0,VLOOKUP(I191,'Cover Sheet'!$L$10:$M$13,2,0))","v":0},0,null,{"$f":"IF(L191=0,0,VLOOKUP(L191,'Cover Sheet'!$L$14:$M$34,2,0))","v":0},0,null,{"$f":"IF(L191=\"\",0,VLOOKUP(L191,'Cover Sheet'!$L$10:$O$34,4,0))","v":0},"-",null,{"$f":"IF(R191=0,0,VLOOKUP(R191,'Cover Sheet'!$L$14:$M$34,2,0))","v":0},0,null,{"$f":"IF(R191=\"\",0,VLOOKUP(R191,'Cover Sheet'!$L$10:$O$34,4,0))","v":0},"-",{"$f":"IF(C191=0,0,VLOOKUP(C191,'Cover Sheet'!$D$10:$G$22,4,0))","v":0},{"$f":"IF(F191=0,0,VLOOKUP(F191,'Cover Sheet'!$D$10:$G$34,4,0))","v":0},null,null,0,7.53,"-","-","-",null,"",0,"-",0,0,null,0,7.53,"-","-","-",null,"",0,"-",0,0]
[174,null,null,null,{"$f":"IF($G192=0,0,VLOOKUP(C192,'Cover Sheet'!$D$10:$F$22,3,0))","v":0},null,0,{"$f":"IF($G192=0,0,VLOOKUP(F192,'Cover Sheet'!$D$10:$F$34,3,0))","v":0},null,{"$f":"IF(I192=0,0,VLOOKUP(I192,'Cover Sheet'!$L$10:$M$13,2,0))","v":0},0,null,{"$f":"IF(L192=0,0,VLOOKUP(L192,'Cover Sheet'!$L$14:$M$34,2,0))","v":0},0,null,{"$f":"IF(L192=\"\",0,VLOOKUP(L192,'Cover Sheet'!$L$10:$O$34,4,0))","v":0},"-",null,{"$f":"IF(R192=0,0,VLOOKUP(R192,'Cover Sheet'!$L$14:$M$34,2,0))","v":0},0,null,{"$f":"IF(R192=\"\",0,VLOOKUP(R192,'Cover Sheet'!$L$10:$O$34,4,0))","v":0},"-",{"$f":"IF(C192=0,0,VLOOKUP(C192,'Cover Sheet'!$D$10:$G$22,4,0))","v":0},{"$f":"IF(F192=0,0,VLOOKUP(F192,'Cover Sheet'!$D$10:$G$34,4,0))","v":0},null,null,0,7.53,"-","-","-",null,"",0,"-",0,0,null,0,7.53,"-","-","-",null,"",0,"-",0,0]
[175,null,null,null,{"$f":"IF($G193=0,0,VLOOKUP(C193,'Cover Sheet'!$D$10:$F$22,3,0))","v":0},null,0,{"$f":"IF($G193=0,0,VLOOKUP(F193,'Cover Sheet'!$D$10:$F$34,3,0))","v":0},null,{"$f":"IF(I193=0,0,VLOOKUP(I193,'Cover Sheet'!$L$10:$M$13,2,0))","v":0},0,null,{"$f":"IF(L193=0,0,VLOOKUP(L193,'Cover Sheet'!$L$14:$M$34,2,0))","v":0},0,null,{"$f":"IF(L193=\"\",0,VLOOKUP(L193,'Cover Sheet'!$L$10:$O$34,4,0))","v":0},"-",null,{"$f":"IF(R193=0,0,VLOOKUP(R193,'Cover Sheet'!$L$14:$M$34,2,0))","v":0},0,null,{"$f":"IF(R193=\"\",0,VLOOKUP(R193,'Cover Sheet'!$L$10:$O$34,4,0))","v":0},"-",{"$f":"IF(C193=0,0,VLOOKUP(C193,'Cover Sheet'!$D$10:$G$22,4,0))","v":0},{"$f":"IF(F193=0,0,VLOOKUP(F193,'Cover Sheet'!$D$10:$G$34,4,0))","v":0},null,null,0,7.53,"-",{"$f":"IF(AB193=0,\"-\",(AC193-0.2*AD193)^2/(AC193+0.8*AD193))","v":"-"},"-",null,"",0,"-",0,0,null,0,7.53,"-",{"$f":"IF(AN193=0,\"-\",(AO193-0.2*AP193)^2/(AO193+0.8*AP193))","v":"-"},"-",null,"",0,"-",0,0]
[176,null,null,null,{"$f":"IF($G194=0,0,VLOOKUP(C194,'Cover Sheet'!$D$10:$F$22,3,0))","v":0},null,0,{"$f":"IF($G194=0,0,VLOOKUP(F194,'Cover Sheet'!$D$10:$F$34,3,0))","v":0},null,{"$f":"IF(I194=0,0,VLOOKUP(I194,'Cover Sheet'!$L$10:$M$13,2,0))","v":0},0,null,{"$f":"IF(L194=0,0,VLOOKUP(L194,'Cover Sheet'!$L$14:$M$34,2,0))","v":0},0,null,{"$f":"IF(L194=\"\",0,VLOOKUP(L194,'Cover Sheet'!$L$10:$O$34,4,0))","v":0},"-",null,{"$f":"IF(R194=0,0,VLOOKUP(R194,'Cover Sheet'!$L$14:$M$34,2,0))","v":0},0,null,{"$f":"IF(R194=\"\",0,VLOOKUP(R194,'Cover Sheet'!$L$10:$O$34,4,0))","v":0},"-",{"$f":"IF(C194=0,0,VLOOKUP(C194,'Cover Sheet'!$D$10:$G$22,4,0))","v":0},{"$f":"IF(F194=0,0,VLOOKUP(F194,'Cover Sheet'!$D$10:$G$34,4,0))","v":0},null,null,0,7.53,"-",{"$f":"IF(AB194=0,\"-\",(AC194-0.2*AD194)^2/(AC194+0.8*AD194))","v":"-"},"-",null,"",0,"-",0,0,null,0,7.53,"-",{"$f":"IF(AN194=0,\"-\",(AO194-0.2*AP194)^2/(AO194+0.8*AP194))","v":"-"},"-",null,"",0,"-",0,0]
[177,null,null,null,{"$f":"IF($G195=0,0,VLOOKUP(C195,'Cover Sheet'!$D$10:$F$22,3,0))","v":0},null,0,{"$f":"IF($G195=0,0,VLOOKUP(F195,'Cover Sheet'!$D$10:$F$34,3,0))","v":0},null,{"$f":"IF(I195=0,0,VLOOKUP(I195,'Cover Sheet'!$L$10:$M$13,2,0))","v":0},0,null,{"$f":"IF(L195=0,0,VLOOKUP(L195,'Cover Sheet'!$L$14:$M$34,2,0))","v":0},0,null,{"$f":"IF(L195=\"\",0,VLOOKUP(L195,'Cover Sheet'!$L$10:$O$34,4,0))","v":0},"-",null,{"$f":"IF(R195=0,0,VLOOKUP(R195,'Cover Sheet'!$L$14:$M$34,2,0))","v":0},0,null,{"$f":"IF(R195=\"\",0,VLOOKUP(R195,'Cover Sheet'!$L$10:$O$34,4,0))","v":0},"-",{"$f":"IF(C195=0,0,VLOOKUP(C195,'Cover Sheet'!$D$10:$G$22,4,0))","v":0},{"$f":"IF(F195=0,0,VLOOKUP(F195,'Cover Sheet'!$D$10:$G$34,4,0))","v":0},null,null,0,7.53,"-","-","-",null,"",0,"-",0,0,null,0,7.53,"-","-","-",null,"",0,"-",0,0]
[178,null,null,null,{"$f":"IF($G196=0,0,VLOOKUP(C196,'Cover Sheet'!$D$10:$F$22,3,0))","v":0},null,0,{"$f":"IF($G196=0,0,VLOOKUP(F196,'Cover Sheet'!$D$10:$F$34,3,0))","v":0},null,{"$f":"IF(I196=0,0,VLOOKUP(I196,'Cover Sheet'!$L$10:$M$13,2,0))","v":0},0,null,{"$f":"IF(L196=0,0,VLOOKUP(L196,'Cover Sheet'!$L$14:$M$34,2,0))","v":0},0,null,{"$f":"IF(L196=\"\",0,VLOOKUP(L196,'Cover Sheet'!$L$10:$O$34,4,0))","v":0},"-",null,{"$f":"IF(R196=0,0,VLOOKUP(R196,'Cover Sheet'!$L$14:$M$34,2,0))","v":0},0,null,{"$f":"IF(R196=\"\",0,VLOOKUP(R196,'Cover Sheet'!$L$10:$O$34,4,0))","v":0},"-",{"$f":"IF(C196=0,0,VLOOKUP(C196,'Cover Sheet'!$D$10:$G$22,4,0))","v":0},{"$f":"IF(F196=0,0,VLOOKUP(F196,'Cover Sheet'!$D$10:$G$34,4,0))","v":0},null,null,0,7.53,"-","-","-",null,"",0,"-",0,0,null,0,7.53,"-","-","-",null,"",0,"-",0,0]
[179,null,null,null,{"$f":"IF($G197=0,0,VLOOKUP(C197,'Cover Sheet'!$D$10:$F$22,3,0))","v":0},null,0,{"$f":"IF($G197=0,0,VLOOKUP(F197,'Cover Sheet'!$D$10:$F$34,3,0))","v":0},null,{"$f":"IF(I197=0,0,VLOOKUP(I197,'Cover Sheet'!$L$10:$M$13,2,0))","v":0},0,null,{"$f":"IF(L197=0,0,VLOOKUP(L197,'Cover Sheet'!$L$14:$M$34,2,0))","v":0},0,null,{"$f":"IF(L197=\"\",0,VLOOKUP(L197,'Cover Sheet'!$L$10:$O$34,4,0))","v":0},"-",null,{"$f":"IF(R197=0,0,VLOOKUP(R197,'Cover Sheet'!$L$14:$M$34,2,0))","v":0},0,null,{"$f":"IF(R197=\"\",0,VLOOKUP(R197,'Cover Sheet'!$L$10:$O$34,4,0))","v":0},"-",{"$f":"IF(C197=0,0,VLOOKUP(C197,'Cover Sheet'!$D$10:$G$22,4,0))","v":0},{"$f":"IF(F197=0,0,VLOOKUP(F197,'Cover Sheet'!$D$10:$G$34,4,0))","v":0},null,null,0,7.53,{"$f":"IF(AB197=0,\"-\",1000/AB197-10)","v":"-"},"-","-",null,"",0,"-",0,0,null,0,7.53,{"$f":"IF(AN197=0,\"-\",1000/AN197-10)","v":"-"},"-","-",null,"",0,"-",{"$f":"IF(AN197=0,0,1000/(10+5*AO197+10*AV197-10*(AV197^2+1.25*AV197*AO197)^(1/2)))","v":0},0]
[180,null,null,null,{"$f":"IF($G198=0,0,VLOOKUP(C198,'Cover Sheet'!$D$10:$F$22,3,0))","v":0},null,0,{"$f":"IF($G198=0,0,VLOOKUP(F198,'Cover Sheet'!$D$10:$F$34,3,0))","v":0},null,{"$f":"IF(I198=0,0,VLOOKUP(I198,'Cover Sheet'!$L$10:$M$13,2,0))","v":0},0,null,{"$f":"IF(L198=0,0,VLOOKUP(L198,'Cover Sheet'!$L$14:$M$34,2,0))","v":0},0,null,{"$f":"IF(L198=\"\",0,VLOOKUP(L198,'Cover Sheet'!$L$10:$O$34,4,0))","v":0},"-",null,{"$f":"IF(R198=0,0,VLOOKUP(R198,'Cover Sheet'!$L$14:$M$34,2,0))","v":0},0,null,{"$f":"IF(R198=\"\",0,VLOOKUP(R198,'Cover Sheet'!$L$10:$O$34,4,0))","v":0},"-",{"$f":"IF(C198=0,0,VLOOKUP(C198,'Cover Sheet'!$D$10:$G$22,4,0))","v":0},{"$f":"IF(F198=0,0,VLOOKUP(F198,'Cover Sheet'!$D$10:$G$34,4,0))","v":0},null,null,0,7.53,"-","-","-",null,"",0,"-",0,0,null,0,7.53,"-","-","-",null,"",0,"-",0,0]
[181,null,null,null,{"$f":"IF($G199=0,0,VLOOKUP(C199,'Cover Sheet'!$D$10:$F$22,3,0))","v":0},null,0,{"$f":"IF($G199=0,0,VLOOKUP(F199,'Cover Sheet'!$D$10:$F$34,3,0))","v":0},null,{"$f":"IF(I199=0,0,VLOOKUP(I199,'Cover Sheet'!$L$10:$M$13,2,0))","v":0},0,null,{"$f":"IF(L199=0,0,VLOOKUP(L199,'Cover Sheet'!$L$14:$M$34,2,0))","v":0},0,null,{"$f":"IF(L199=\"\",0,VLOOKUP(L199,'Cover Sheet'!$L$10:$O$34,4,0))","v":0},"-",null,{"$f":"IF(R199=0,0,VLOOKUP(R199,'Cover Sheet'!$L$14:$M$34,2,0))","v":0},0,null,{"$f":"IF(R199=\"\",0,VLOOKUP(R199,'Cover Sheet'!$L$10:$O$34,4,0))","v":0},"-",{"$f":"IF(C199=0,0,VLOOKUP(C199,'Cover Sheet'!$D$10:$G$22,4,0))","v":0},{"$f":"IF(F199=0,0,VLOOKUP(F199,'Cover Sheet'!$D$10:$G$34,4,0))","v":0},null,null,0,7.53,"-","-","-",null,"",0,"-",0,0,null,0,7.53,"-","-","-",null,"",0,"-",0,0]
[182,null,null,null,{"$f":"IF($G200=0,0,VLOOKUP(C200,'Cover Sheet'!$D$10:$F$22,3,0))","v":0},null,0,{"$f":"IF($G200=0,0,VLOOKUP(F200,'Cover Sheet'!$D$10:$F$34,3,0))","v":0},null,{"$f":"IF(I200=0,0,VLOOKUP(I200,'Cover Sheet'!$L$10:$M$13,2,0))","v":0},0,null,{"$f":"IF(L200=0,0,VLOOKUP(L200,'Cover Sheet'!$L$14:$M$34,2,0))","v":0},0,null,{"$f":"IF(L200=\"\",0,VLOOKUP(L200,'Cover Sheet'!$L$10:$O$34,4,0))","v":0},"-",null,{"$f":"IF(R200=0,0,VLOOKUP(R200,'Cover Sheet'!$L$14:$M$34,2,0))","v":0},0,null,{"$f":"IF(R200=\"\",0,VLOOKUP(R200,'Cover Sheet'!$L$10:$O$34,4,0))","v":0},"-",{"$f":"IF(C200=0,0,VLOOKUP(C200,'Cover Sheet'!$D$10:$G$22,4,0))","v":0},{"$f":"IF(F200=0,0,VLOOKUP(F200,'Cover Sheet'!$D$10:$G$34,4,0))","v":0},null,null,0,7.53,"-","-","-",null,"",0,"-",0,0,null,0,7.53,"-","-","-",null,"",0,"-",0,0]
[183,null,null,null,{"$f":"IF($G201=0,0,VLOOKUP(C201,'Cover Sheet'!$D$10:$F$22,3,0))","v":0},null,0,{"$f":"IF($G201=0,0,VLOOKUP(F201,'Cover Sheet'!$D$10:$F$34,3,0))","v":0},null,{"$f":"IF(I201=0,0,VLOOKUP(I201,'Cover Sheet'!$L$10:$M$13,2,0))","v":0},0,null,{"$f":"IF(L201=0,0,VLOOKUP(L201,'Cover Sheet'!$L$14:$M$34,2,0))","v":0},0,null,{"$f":"IF(L201=\"\",0,VLOOKUP(L201,'Cover Sheet'!$L$10:$O$34,4,0))","v":0},"-",null,{"$f":"IF(R201=0,0,VLOOKUP(R201,'Cover Sheet'!$L$14:$M$34,2,0))","v":0},0,null,{"$f":"IF(R201=\"\",0,VLOOKUP(R201,'Cover Sheet'!$L$10:$O$34,4,0))","v":0},"-",{"$f":"IF(C201=0,0,VLOOKUP(C201,'Cover Sheet'!$D$10:$G$22,4,0))","v":0},{"$f":"IF(F201=0,0,VLOOKUP(F201,'Cover Sheet'!$D$10:$G$34,4,0))","v":0},null,null,0,7.53,"-","-","-",null,"",0,"-",0,0,null,0,7.53,"-","-","-",null,"",0,"-",0,0]
[184,null,null,null,{"$f":"IF($G202=0,0,VLOOKUP(C202,'Cover Sheet'!$D$10:$F$22,3,0))","v":0},null,0,{"$f":"IF($G202=0,0,VLOOKUP(F202,'Cover Sheet'!$D$10:$F$34,3,0))","v":0},null,{"$f":"IF(I202=0,0,VLOOKUP(I202,'Cover Sheet'!$L$10:$M$13,2,0))","v":0},0,null,{"$f":"IF(L202=0,0,VLOOKUP(L202,'Cover Sheet'!$L$14:$M$34,2,0))","v":0},0,null,{"$f":"IF(L202=\"\",0,VLOOKUP(L202,'Cover Sheet'!$L$10:$O$34,4,0))","v":0},"-",null,{"$f":"IF(R202=0,0,VLOOKUP(R202,'Cover Sheet'!$L$14:$M$34,2,0))","v":0},0,null,{"$f":"IF(R202=\"\",0,VLOOKUP(R202,'Cover Sheet'!$L$10:$O$34,4,0))","v":0},"-",{"$f":"IF(C202=0,0,VLOOKUP(C202,'Cover Sheet'!$D$10:$G$22,4,0))","v":0},{"$f":"IF(F202=0,0,VLOOKUP(F202,'Cover Sheet'!$D$10:$G$34,4,0))","v":0},null,null,0,7.53,"-","-","-",null,"",0,"-",0,0,null,0,7.53,"-","-","-",null,"",0,"-",0,0]
[185,null,null,null,{"$f":"IF($G203=0,0,VLOOKUP(C203,'Cover Sheet'!$D$10:$F$22,3,0))","v":0},null,0,{"$f":"IF($G203=0,0,VLOOKUP(F203,'Cover Sheet'!$D$10:$F$34,3,0))","v":0},null,{"$f":"IF(I203=0,0,VLOOKUP(I203,'Cover Sheet'!$L$10:$M$13,2,0))","v":0},0,null,{"$f":"IF(L203=0,0,VLOOKUP(L203,'Cover Sheet'!$L$14:$M$34,2,0))","v":0},0,null,{"$f":"IF(L203=\"\",0,VLOOKUP(L203,'Cover Sheet'!$L$10:$O$34,4,0))","v":0},"-",null,{"$f":"IF(R203=0,0,VLOOKUP(R203,'Cover Sheet'!$L$14:$M$34,2,0))","v":0},0,null,{"$f":"IF(R203=\"\",0,VLOOKUP(R203,'Cover Sheet'!$L$10:$O$34,4,0))","v":0},"-",{"$f":"IF(C203=0,0,VLOOKUP(C203,'Cover Sheet'!$D$10:$G$22,4,0))","v":0},{"$f":"IF(F203=0,0,VLOOKUP(F203,'Cover Sheet'!$D$10:$G$34,4,0))","v":0},null,null,0,7.53,"-","-","-",null,"",0,"-",0,0,null,0,7.53,"-","-","-",null,"",0,"-",0,0]
[186,null,null,null,{"$f":"IF($G204=0,0,VLOOKUP(C204,'Cover Sheet'!$D$10:$F$22,3,0))","v":0},null,0,{"$f":"IF($G204=0,0,VLOOKUP(F204,'Cover Sheet'!$D$10:$F$34,3,0))","v":0},null,{"$f":"IF(I204=0,0,VLOOKUP(I204,'Cover Sheet'!$L$10:$M$13,2,0))","v":0},0,null,{"$f":"IF(L204=0,0,VLOOKUP(L204,'Cover Sheet'!$L$14:$M$34,2,0))","v":0},0,null,{"$f":"IF(L204=\"\",0,VLOOKUP(L204,'Cover Sheet'!$L$10:$O$34,4,0))","v":0},"-",null,{"$f":"IF(R204=0,0,VLOOKUP(R204,'Cover Sheet'!$L$14:$M$34,2,0))","v":0},0,null,{"$f":"IF(R204=\"\",0,VLOOKUP(R204,'Cover Sheet'!$L$10:$O$34,4,0))","v":0},"-",{"$f":"IF(C204=0,0,VLOOKUP(C204,'Cover Sheet'!$D$10:$G$22,4,0))","v":0},{"$f":"IF(F204=0,0,VLOOKUP(F204,'Cover Sheet'!$D$10:$G$34,4,0))","v":0},null,null,0,7.53,"-","-","-",null,"",0,"-",0,0,null,0,7.53,"-","-","-",null,"",0,"-",0,0]
[187,null,null,null,{"$f":"IF($G205=0,0,VLOOKUP(C205,'Cover Sheet'!$D$10:$F$22,3,0))","v":0},null,0,{"$f":"IF($G205=0,0,VLOOKUP(F205,'Cover Sheet'!$D$10:$F$34,3,0))","v":0},null,{"$f":"IF(I205=0,0,VLOOKUP(I205,'Cover Sheet'!$L$10:$M$13,2,0))","v":0},0,null,{"$f":"IF(L205=0,0,VLOOKUP(L205,'Cover Sheet'!$L$14:$M$34,2,0))","v":0},0,null,{"$f":"IF(L205=\"\",0,VLOOKUP(L205,'Cover Sheet'!$L$10:$O$34,4,0))","v":0},"-",null,{"$f":"IF(R205=0,0,VLOOKUP(R205,'Cover Sheet'!$L$14:$M$34,2,0))","v":0},0,null,{"$f":"IF(R205=\"\",0,VLOOKUP(R205,'Cover Sheet'!$L$10:$O$34,4,0))","v":0},"-",{"$f":"IF(C205=0,0,VLOOKUP(C205,'Cover Sheet'!$D$10:$G$22,4,0))","v":0},{"$f":"IF(F205=0,0,VLOOKUP(F205,'Cover Sheet'!$D$10:$G$34,4,0))","v":0},null,null,0,7.53,"-","-","-",null,"",0,"-",0,0,null,0,7.53,"-","-","-",null,"",0,"-",0,0]
[188,null,null,null,{"$f":"IF($G206=0,0,VLOOKUP(C206,'Cover Sheet'!$D$10:$F$22,3,0))","v":0},null,0,{"$f":"IF($G206=0,0,VLOOKUP(F206,'Cover Sheet'!$D$10:$F$34,3,0))","v":0},null,{"$f":"IF(I206=0,0,VLOOKUP(I206,'Cover Sheet'!$L$10:$M$13,2,0))","v":0},0,null,{"$f":"IF(L206=0,0,VLOOKUP(L206,'Cover Sheet'!$L$14:$M$34,2,0))","v":0},0,null,{"$f":"IF(L206=\"\",0,VLOOKUP(L206,'Cover Sheet'!$L$10:$O$34,4,0))","v":0},"-",null,{"$f":"IF(R206=0,0,VLOOKUP(R206,'Cover Sheet'!$L$14:$M$34,2,0))","v":0},0,null,{"$f":"IF(R206=\"\",0,VLOOKUP(R206,'Cover Sheet'!$L$10:$O$34,4,0))","v":0},"-",{"$f":"IF(C206=0,0,VLOOKUP(C206,'Cover Sheet'!$D$10:$G$22,4,0))","v":0},{"$f":"IF(F206=0,0,VLOOKUP(F206,'Cover Sheet'!$D$10:$G$34,4,0))","v":0},null,null,0,7.53,"-","-","-",null,"",0,"-",0,0,null,0,7.53,"-","-","-",null,"",0,"-",0,0]
[189,null,null,null,{"$f":"IF($G207=0,0,VLOOKUP(C207,'Cover Sheet'!$D$10:$F$22,3,0))","v":0},null,0,{"$f":"IF($G207=0,0,VLOOKUP(F207,'Cover Sheet'!$D$10:$F$34,3,0))","v":0},null,{"$f":"IF(I207=0,0,VLOOKUP(I207,'Cover Sheet'!$L$10:$M$13,2,0))","v":0},0,null,{"$f":"IF(L207=0,0,VLOOKUP(L207,'Cover Sheet'!$L$14:$M$34,2,0))","v":0},0,null,{"$f":"IF(L207=\"\",0,VLOOKUP(L207,'Cover Sheet'!$L$10:$O$34,4,0))","v":0},"-",null,{"$f":"IF(R207=0,0,VLOOKUP(R207,'Cover Sheet'!$L$14:$M$34,2,0))","v":0},0,null,{"$f":"IF(R207=\"\",0,VLOOKUP(R207,'Cover Sheet'!$L$10:$O$34,4,0))","v":0},"-",{"$f":"IF(C207=0,0,VLOOKUP(C207,'Cover Sheet'!$D$10:$G$22,4,0))","v":0},{"$f":"IF(F207=0,0,VLOOKUP(F207,'Cover Sheet'!$D$10:$G$34,4,0))","v":0},null,null,0,7.53,"-","-","-",null,"",0,"-",0,0,null,0,7.53,"-","-","-",null,"",0,"-",0,0]
[190,null,null,null,{"$f":"IF($G208=0,0,VLOOKUP(C208,'Cover Sheet'!$D$10:$F$22,3,0))","v":0},null,0,{"$f":"IF($G208=0,0,VLOOKUP(F208,'Cover Sheet'!$D$10:$F$34,3,0))","v":0},null,{"$f":"IF(I208=0,0,VLOOKUP(I208,'Cover Sheet'!$L$10:$M$13,2,0))","v":0},0,null,{"$f":"IF(L208=0,0,VLOOKUP(L208,'Cover Sheet'!$L$14:$M$34,2,0))","v":0},0,null,{"$f":"IF(L208=\"\",0,VLOOKUP(L208,'Cover Sheet'!$L$10:$O$34,4,0))","v":0},"-",null,{"$f":"IF(R208=0,0,VLOOKUP(R208,'Cover Sheet'!$L$14:$M$34,2,0))","v":0},0,null,{"$f":"IF(R208=\"\",0,VLOOKUP(R208,'Cover Sheet'!$L$10:$O$34,4,0))","v":0},"-",{"$f":"IF(C208=0,0,VLOOKUP(C208,'Cover Sheet'!$D$10:$G$22,4,0))","v":0},{"$f":"IF(F208=0,0,VLOOKUP(F208,'Cover Sheet'!$D$10:$G$34,4,0))","v":0},null,null,0,7.53,"-","-","-",null,"",0,"-",0,0,null,0,7.53,"-","-","-",null,"",0,"-",0,0]
[191,null,null,null,{"$f":"IF($G209=0,0,VLOOKUP(C209,'Cover Sheet'!$D$10:$F$22,3,0))","v":0},null,0,{"$f":"IF($G209=0,0,VLOOKUP(F209,'Cover Sheet'!$D$10:$F$34,3,0))","v":0},null,{"$f":"IF(I209=0,0,VLOOKUP(I209,'Cover Sheet'!$L$10:$M$13,2,0))","v":0},0,null,{"$f":"IF(L209=0,0,VLOOKUP(L209,'Cover Sheet'!$L$14:$M$34,2,0))","v":0},0,null,{"$f":"IF(L209=\"\",0,VLOOKUP(L209,'Cover Sheet'!$L$10:$O$34,4,0))","v":0},"-",null,{"$f":"IF(R209=0,0,VLOOKUP(R209,'Cover Sheet'!$L$14:$M$34,2,0))","v":0},0,null,{"$f":"IF(R209=\"\",0,VLOOKUP(R209,'Cover Sheet'!$L$10:$O$34,4,0))","v":0},"-",{"$f":"IF(C209=0,0,VLOOKUP(C209,'Cover Sheet'!$D$10:$G$22,4,0))","v":0},{"$f":"IF(F209=0,0,VLOOKUP(F209,'Cover Sheet'!$D$10:$G$34,4,0))","v":0},null,null,0,7.53,"-","-","-",null,"",0,"-",0,0,null,0,7.53,"-","-","-",null,"",0,"-",0,0]
[192,null,null,null,{"$f":"IF($G210=0,0,VLOOKUP(C210,'Cover Sheet'!$D$10:$F$22,3,0))","v":0},null,0,{"$f":"IF($G210=0,0,VLOOKUP(F210,'Cover Sheet'!$D$10:$F$34,3,0))","v":0},null,{"$f":"IF(I210=0,0,VLOOKUP(I210,'Cover Sheet'!$L$10:$M$13,2,0))","v":0},0,null,{"$f":"IF(L210=0,0,VLOOKUP(L210,'Cover Sheet'!$L$14:$M$34,2,0))","v":0},0,null,{"$f":"IF(L210=\"\",0,VLOOKUP(L210,'Cover Sheet'!$L$10:$O$34,4,0))","v":0},"-",null,{"$f":"IF(R210=0,0,VLOOKUP(R210,'Cover Sheet'!$L$14:$M$34,2,0))","v":0},0,null,{"$f":"IF(R210=\"\",0,VLOOKUP(R210,'Cover Sheet'!$L$10:$O$34,4,0))","v":0},"-",{"$f":"IF(C210=0,0,VLOOKUP(C210,'Cover Sheet'!$D$10:$G$22,4,0))","v":0},{"$f":"IF(F210=0,0,VLOOKUP(F210,'Cover Sheet'!$D$10:$G$34,4,0))","v":0},null,null,0,7.53,"-","-","-",null,"",0,"-",0,0,null,0,7.53,"-","-","-",null,"",0,"-",0,0]
[193,null,null,null,{"$f":"IF($G211=0,0,VLOOKUP(C211,'Cover Sheet'!$D$10:$F$22,3,0))","v":0},null,0,{"$f":"IF($G211=0,0,VLOOKUP(F211,'Cover Sheet'!$D$10:$F$34,3,0))","v":0},null,{"$f":"IF(I211=0,0,VLOOKUP(I211,'Cover Sheet'!$L$10:$M$13,2,0))","v":0},0,null,{"$f":"IF(L211=0,0,VLOOKUP(L211,'Cover Sheet'!$L$14:$M$34,2,0))","v":0},0,null,{"$f":"IF(L211=\"\",0,VLOOKUP(L211,'Cover Sheet'!$L$10:$O$34,4,0))","v":0},"-",null,{"$f":"IF(R211=0,0,VLOOKUP(R211,'Cover Sheet'!$L$14:$M$34,2,0))","v":0},0,null,{"$f":"IF(R211=\"\",0,VLOOKUP(R211,'Cover Sheet'!$L$10:$O$34,4,0))","v":0},"-",{"$f":"IF(C211=0,0,VLOOKUP(C211,'Cover Sheet'!$D$10:$G$22,4,0))","v":0},{"$f":"IF(F211=0,0,VLOOKUP(F211,'Cover Sheet'!$D$10:$G$34,4,0))","v":0},null,null,0,7.53,"-","-","-",null,"",0,"-",0,0,null,0,7.53,"-","-","-",null,"",0,"-",0,0]
[194,null,null,null,{"$f":"IF($G212=0,0,VLOOKUP(C212,'Cover Sheet'!$D$10:$F$22,3,0))","v":0},null,0,{"$f":"IF($G212=0,0,VLOOKUP(F212,'Cover Sheet'!$D$10:$F$34,3,0))","v":0},null,{"$f":"IF(I212=0,0,VLOOKUP(I212,'Cover Sheet'!$L$10:$M$13,2,0))","v":0},0,null,{"$f":"IF(L212=0,0,VLOOKUP(L212,'Cover Sheet'!$L$14:$M$34,2,0))","v":0},0,null,{"$f":"IF(L212=\"\",0,VLOOKUP(L212,'Cover Sheet'!$L$10:$O$34,4,0))","v":0},"-",null,{"$f":"IF(R212=0,0,VLOOKUP(R212,'Cover Sheet'!$L$14:$M$34,2,0))","v":0},0,null,{"$f":"IF(R212=\"\",0,VLOOKUP(R212,'Cover Sheet'!$L$10:$O$34,4,0))","v":0},"-",{"$f":"IF(C212=0,0,VLOOKUP(C212,'Cover Sheet'!$D$10:$G$22,4,0))","v":0},{"$f":"IF(F212=0,0,VLOOKUP(F212,'Cover Sheet'!$D$10:$G$34,4,0))","v":0},null,null,0,7.53,"-","-","-",null,"",0,{"$f":"IF(AB212=0,\"-\",IF(AE212-AI212<0,0,AE212-AI212))","v":"-"},0,0,null,0,7.53,"-","-","-",null,"",0,{"$f":"IF(AN212=0,\"-\",IF(AQ212-AU212<0,0,AQ212-AU212))","v":"-"},0,0]
[195,null,null,null,{"$f":"IF($G213=0,0,VLOOKUP(C213,'Cover Sheet'!$D$10:$F$22,3,0))","v":0},null,0,{"$f":"IF($G213=0,0,VLOOKUP(F213,'Cover Sheet'!$D$10:$F$34,3,0))","v":0},null,{"$f":"IF(I213=0,0,VLOOKUP(I213,'Cover Sheet'!$L$10:$M$13,2,0))","v":0},0,null,{"$f":"IF(L213=0,0,VLOOKUP(L213,'Cover Sheet'!$L$14:$M$34,2,0))","v":0},0,null,{"$f":"IF(L213=\"\",0,VLOOKUP(L213,'Cover Sheet'!$L$10:$O$34,4,0))","v":0},"-",null,{"$f":"IF(R213=0,0,VLOOKUP(R213,'Cover Sheet'!$L$14:$M$34,2,0))","v":0},0,null,{"$f":"IF(R213=\"\",0,VLOOKUP(R213,'Cover Sheet'!$L$10:$O$34,4,0))","v":0},"-",{"$f":"IF(C213=0,0,VLOOKUP(C213,'Cover Sheet'!$D$10:$G$22,4,0))","v":0},{"$f":"IF(F213=0,0,VLOOKUP(F213,'Cover Sheet'!$D$10:$G$34,4,0))","v":0},null,null,0,7.53,"-","-","-",null,"",0,"-",0,0,null,0,7.53,"-","-","-",null,"",0,"-",0,0]
[196,null,null,null,{"$f":"IF($G214=0,0,VLOOKUP(C214,'Cover Sheet'!$D$10:$F$22,3,0))","v":0},null,0,{"$f":"IF($G214=0,0,VLOOKUP(F214,'Cover Sheet'!$D$10:$F$34,3,0))","v":0},null,{"$f":"IF(I214=0,0,VLOOKUP(I214,'Cover Sheet'!$L$10:$M$13,2,0))","v":0},0,null,{"$f":"IF(L214=0,0,VLOOKUP(L214,'Cover Sheet'!$L$14:$M$34,2,0))","v":0},0,null,{"$f":"IF(L214=\"\",0,VLOOKUP(L214,'Cover Sheet'!$L$10:$O$34,4,0))","v":0},"-",null,{"$f":"IF(R214=0,0,VLOOKUP(R214,'Cover Sheet'!$L$14:$M$34,2,0))","v":0},0,null,{"$f":"IF(R214=\"\",0,VLOOKUP(R214,'Cover Sheet'!$L$10:$O$34,4,0))","v":0},"-",{"$f":"IF(C214=0,0,VLOOKUP(C214,'Cover Sheet'!$D$10:$G$22,4,0))","v":0},{"$f":"IF(F214=0,0,VLOOKUP(F214,'Cover Sheet'!$D$10:$G$34,4,0))","v":0},null,null,0,7.53,"-","-","-",null,"",0,"-",0,0,null,0,7.53,"-","-","-",null,"",0,"-",0,0]
[197,null,null,null,{"$f":"IF($G215=0,0,VLOOKUP(C215,'Cover Sheet'!$D$10:$F$22,3,0))","v":0},null,0,{"$f":"IF($G215=0,0,VLOOKUP(F215,'Cover Sheet'!$D$10:$F$34,3,0))","v":0},null,{"$f":"IF(I215=0,0,VLOOKUP(I215,'Cover Sheet'!$L$10:$M$13,2,0))","v":0},0,null,{"$f":"IF(L215=0,0,VLOOKUP(L215,'Cover Sheet'!$L$14:$M$34,2,0))","v":0},0,null,{"$f":"IF(L215=\"\",0,VLOOKUP(L215,'Cover Sheet'!$L$10:$O$34,4,0))","v":0},"-",null,{"$f":"IF(R215=0,0,VLOOKUP(R215,'Cover Sheet'!$L$14:$M$34,2,0))","v":0},0,null,{"$f":"IF(R215=\"\",0,VLOOKUP(R215,'Cover Sheet'!$L$10:$O$34,4,0))","v":0},"-",{"$f":"IF(C215=0,0,VLOOKUP(C215,'Cover Sheet'!$D$10:$G$22,4,0))","v":0},{"$f":"IF(F215=0,0,VLOOKUP(F215,'Cover Sheet'!$D$10:$G$34,4,0))","v":0},null,null,0,7.53,"-","-","-",null,"",0,"-",0,0,null,0,7.53,"-","-","-",null,"",0,"-",0,0]
[198,null,null,null,{"$f":"IF($G216=0,0,VLOOKUP(C216,'Cover Sheet'!$D$10:$F$22,3,0))","v":0},null,{"$f":"D216","v":0},{"$f":"IF($G216=0,0,VLOOKUP(F216,'Cover Sheet'!$D$10:$F$34,3,0))","v":0},null,{"$f":"IF(I216=0,0,VLOOKUP(I216,'Cover Sheet'!$L$10:$M$13,2,0))","v":0},{"$f":"IF(J216>0,H216*(1-J216),H216)","v":0},null,{"$f":"IF(L216=0,0,VLOOKUP(L216,'Cover Sheet'!$L$14:$M$34,2,0))","v":0},{"$f":"IF(M216>0,ROUNDUP(K216*(1-M216),2),K216)","v":0},null,{"$f":"IF(L216=\"\",0,VLOOKUP(L216,'Cover Sheet'!$L$10:$O$34,4,0))","v":0},{"$f":"IF(L216=\"\",\"-\",IF(OR(L216=\"PP1\",L216=\"P2\"),P216*$D$10*E216*G216/12*43560,P216*$D$10*K216*G216/12*43560))","v":"-"},null,{"$f":"IF(R216=0,0,VLOOKUP(R216,'Cover Sheet'!$L$14:$M$34,2,0))","v":0},{"$f":"IF(S216>0,N216*(1-S216),N216)","v":0},null,{"$f":"IF(R216=\"\",0,VLOOKUP(R216,'Cover Sheet'!$L$10:$O$34,4,0))","v":0},{"$f":"IF(R216=\"\",\"-\",V216*$D$10*N216*G216/12*43560)","v":"-"},{"$f":"IF(C216=0,0,VLOOKUP(C216,'Cover Sheet'!$D$10:$G$22,4,0))","v":0},{"$f":"IF(F216=0,0,VLOOKUP(F216,'Cover Sheet'!$D$10:$G$34,4,0))","v":0},null,null,{"$f":"Y216","v":0},7.53,{"$f":"IF(AB216=0,\"-\",1000/AB216-10)","v":"-"},{"$f":"IF(AB216=0,\"-\",(AC216-0.2*AD216)^2/(AC216+0.8*AD216))","v":"-"},{"$f":"Q216","v":"-"},null,{"$f":"IF(AG216=\"\",\"\",AF216*AG216)","v":""},{"$f":"IF(OR(AB216=0,L216=\"\"),0,12*AH216/43560/D216)","v":0},"-",{"$f":"IF(AB216=0,0,1000/(10+5*AC216+10*AJ216-10*(AJ216^2+1.25*AJ216*AC216)^(1/2)))","v":0},{"$f":"AK216-AB216","v":0},null,{"$f":"AK216","v":0},7.53,{"$f":"IF(AN216=0,\"-\",1000/AN216-10)","v":"-"},{"$f":"IF(AN216=0,\"-\",(AO216-0.2*AP216)^2/(AO216+0.8*AP216))","v":"-"},{"$f":"W216","v":"-"},null,{"$f":"IF(AS216=\"\",\"\",AR216*AS216)","v":""},{"$f":"IF(OR(AN216=0,R216=\"\"),0,12*AT216/43560/D216)","v":0},"-",{"$f":"IF(AN216=0,0,1000/(10+5*AO216+10*AV216-10*(AV216^2+1.25*AV216*AO216)^(1/2)))","v":0},{"$f":"AW216-AN216","v":0}]
[199,null,null,null,{"$f":"IF($G217=0,0,VLOOKUP(C217,'Cover Sheet'!$D$10:$F$22,3,0))","v":0},null,0,{"$f":"IF($G217=0,0,VLOOKUP(F217,'Cover Sheet'!$D$10:$F$34,3,0))","v":0},null,{"$f":"IF(I217=0,0,VLOOKUP(I217,'Cover Sheet'!$L$10:$M$13,2,0))","v":0},0,null,{"$f":"IF(L217=0,0,VLOOKUP(L217,'Cover Sheet'!$L$14:$M$34,2,0))","v":0},0,null,{"$f":"IF(L217=\"\",0,VLOOKUP(L217,'Cover Sheet'!$L$10:$O$34,4,0))","v":0},"-",null,{"$f":"IF(R217=0,0,VLOOKUP(R217,'Cover Sheet'!$L$14:$M$34,2,0))","v":0},0,null,{"$f":"IF(R217=\"\",0,VLOOKUP(R217,'Cover Sheet'!$L$10:$O$34,4,0))","v":0},"-",{"$f":"IF(C217=0,0,VLOOKUP(C217,'Cover Sheet'!$D$10:$G$22,4,0))","v":0},{"$f":"IF(F217=0,0,VLOOKUP(F217,'Cover Sheet'!$D$10:$G$34,4,0))","v":0},null,null,0,7.53,"-","-","-",null,"",0,"-",0,0,null,0,7.53,"-","-","-",null,"",0,"-",0,0]
[200,null,null,null,{"$f":"IF($G218=0,0,VLOOKUP(C218,'Cover Sheet'!$D$10:$F$22,3,0))","v":0},null,0,{"$f":"IF($G218=0,0,VLOOKUP(F218,'Cover Sheet'!$D$10:$F$34,3,0))","v":0},null,{"$f":"IF(I218=0,0,VLOOKUP(I218,'Cover Sheet'!$L$10:$M$13,2,0))","v":0},0,null,{"$f":"IF(L218=0,0,VLOOKUP(L218,'Cover Sheet'!$L$14:$M$34,2,0))","v":0},0,null,{"$f":"IF(L218=\"\",0,VLOOKUP(L218,'Cover Sheet'!$L$10:$O$34,4,0))","v":0},"-",null,{"$f":"IF(R218=0,0,VLOOKUP(R218,'Cover Sheet'!$L$14:$M$34,2,0))","v":0},0,null,{"$f":"IF(R218=\"\",0,VLOOKUP(R218,'Cover Sheet'!$L$10:$O$34,4,0))","v":0},"-",{"$f":"IF(C218=0,0,VLOOKUP(C218,'Cover Sheet'!$D$10:$G$22,4,0))","v":0},{"$f":"IF(F218=0,0,VLOOKUP(F218,'Cover Sheet'!$D$10:$G$34,4,0))","v":0},null,null,0,7.53,{"$f":"IF(AB218=0,\"-\",1000/AB218-10)","v":"-"},{"$f":"IF(AB218=0,\"-\",(AC218-0.2*AD218)^2/(AC218+0.8*AD218))","v":"-"},{"$f":"Q218","v":"-"},null,"",0,"-",{"$f":"IF(AB218=0,0,1000/(10+5*AC218+10*AJ218-10*(AJ218^2+1.25*AJ218*AC218)^(1/2)))","v":0},0,null,0,7.53,{"$f":"IF(AN218=0,\"-\",1000/AN218-10)","v":"-"},{"$f":"IF(AN218=0,\"-\",(AO218-0.2*AP218)^2/(AO218+0.8*AP218))","v":"-"},"-",null,"",0,"-",{"$f":"IF(AN218=0,0,1000/(10+5*AO218+10*AV218-10*(AV218^2+1.25*AV218*AO218)^(1/2)))","v":0},0]
[null,null,"Weighted Rv",null,{"$f":"E220/D220","v":{"$error":"#DIV/0!"}},"Weighted Rv",null,{"$f":"H220/G220","v":{"$error":"#DIV/0!"}},"Weighted Rv",null,{"$f":"K220/G220","v":{"$error":"#DIV/0!"}},"Weighted Rv",null,{"$f":"N220/G220","v":{"$error":"#DIV/0!"}},null,"Step 3 Tv Total",{"$f":"SUM(Q19:Q218)","v":0},null,null,{"$f":"T220/G220","v":{"$error":"#DIV/0!"}},null,"Final Tv Total",{"$f":"SUM(W19:W218)+Q219","v":0},{"$f":"SUMPRODUCT($D$19:$D$218,$X$19:$X$218)/$D$220","v":{"$error":"#DIV/0!"}},{"$f":"SUMPRODUCT($D$19:$D$218,$Y$19:$Y$218)/$D$220","v":{"$error":"#DIV/0!"}},null,null,{"$f":"SUMPRODUCT($D$19:$D$218,$Y$19:$Y$218)/$D$220","v":{"$error":"#DIV/0!"}},7.53,{"$f":"1000/AB219-10","v":{"$error":"#DIV/0!"}},{"$f":"(AC219-0.2*AD219)^2/(AC219+0.8*AD219)","v":{"$error":"#DIV/0!"}},{"$f":"SUM(AF19:AF218)","v":0},null,null,{"$f":"12*AF219/43560/D220","v":{"$error":"#DIV/0!"}},{"$f":"AE219-AI219","v":{"$error":"#DIV/0!"}},{"$f":"SUMPRODUCT($D$19:$D$218,$AK$19:$AK$218)/$D$220","v":{"$error":"#DIV/0!"}},{"$error":"#DIV/0!"},null,{"$f":"SUMPRODUCT($D$19:$D$218,$Y$19:$Y$218)/$D$220","v":{"$error":"#DIV/0!"}},7.53,{"$f":"1000/AN219-10","v":{"$error":"#DIV/0!"}},{"$f":"(AO219-0.2*AP219)^2/(AO219+0.8*AP219)","v":{"$error":"#DIV/0!"}},{"$f":"SUM(AR19:AR218)","v":0},null,null,{"$f":"12*AR219/43560/D220","v":{"$error":"#DIV/0!"}},{"$f":"AQ219-AU219","v":{"$error":"#DIV/0!"}},{"$f":"SUMPRODUCT($D$19:$D$218,$AW$19:$AW$218)/$D$220","v":{"$error":"#DIV/0!"}},{"$error":"#DIV/0!"}]
[null,null,"Total Area=",{"$f":"SUM(D19:D218)","v":0},{"$f":"SUMPRODUCT($G19:$G218,E19:E218)","v":0},"Total Area=",{"$f":"SUM(G19:G218)","v":0},{"$f":"SUMPRODUCT($G19:$G218,H19:H218)","v":0},null,null,{"$f":"SUMPRODUCT($G19:$G218,K19:K218)","v":0},null,null,{"$f":"SUMPRODUCT($G19:$G218,N19:N218)","v":0},null,null,null,null,null,{"$f":"SUMPRODUCT($G19:$G218,T19:T218)","v":0},null,null,null,null,null,null,null,null,"Note that this assumes the same Pre- and Post-developpment Time of Concentrations and Drainage Areas",null,null,null,null,null,null,null,{"$f":"IF(AK219>$AB$5, \"DETENTION REQ\",\"OK\")","v":{"$error":"#DIV/0!"}},null,null,null,"Note that this assumes the same Pre- and Post-developpment Time of Concentrations and Drainage Areas",null,null,null,null,null,null,null,{"$f":"IF(AW219>$AB$5, \"DETENTION REQ\",\"OK\")","v":{"$error":"#DIV/0!"}}]
["% Removal",null,null,null,{"$f":"(1-E220/$G220)","v":{"$error":"#DIV/0!"}},"% Removal ",null,{"$f":"1-H220/$G220","v":{"$error":"#DIV/0!"}},"% Removal ",null,{"$f":"1-K220/$G220","v":{"$error":"#DIV/0!"}},"% Removal ",null,{"$f":"1-N220/$G220","v":{"$error":"#DIV/0!"}},null,null,null,"% Removal ",null,{"$f":"1-T220/$G220","v":{"$error":"#DIV/0!"}}]
[null,null,null,null,null,null,null,null,null,null,null,null,null,null,null,null,null,null,null,"↑  THIS CELL WILL TURN GREEN WHEN TARGET RUNOFF REDUCTION MET  ↑"]

{"sheet":"Sheet1","index":2,"n_rows":0,"n_cols":0,"rows_kept":0,"cut":false,"hidden":false,"merged":[]}